BEGIN:VCALENDAR
VERSION:2.0
PRODID:-//Graduate Student Association - ECPv6.15.20//NONSGML v1.0//EN
CALSCALE:GREGORIAN
METHOD:PUBLISH
X-WR-CALNAME:Graduate Student Association
X-ORIGINAL-URL:https://ubwp.buffalo.edu/gsa
X-WR-CALDESC:Events for Graduate Student Association
REFRESH-INTERVAL;VALUE=DURATION:PT1H
X-Robots-Tag:noindex
X-PUBLISHED-TTL:PT1H
BEGIN:VTIMEZONE
TZID:America/New_York
BEGIN:DAYLIGHT
TZOFFSETFROM:-0500
TZOFFSETTO:-0400
TZNAME:EDT
DTSTART:20150308T070000
END:DAYLIGHT
BEGIN:STANDARD
TZOFFSETFROM:-0400
TZOFFSETTO:-0500
TZNAME:EST
DTSTART:20151101T060000
END:STANDARD
BEGIN:DAYLIGHT
TZOFFSETFROM:-0500
TZOFFSETTO:-0400
TZNAME:EDT
DTSTART:20160313T070000
END:DAYLIGHT
BEGIN:STANDARD
TZOFFSETFROM:-0400
TZOFFSETTO:-0500
TZNAME:EST
DTSTART:20161106T060000
END:STANDARD
BEGIN:DAYLIGHT
TZOFFSETFROM:-0500
TZOFFSETTO:-0400
TZNAME:EDT
DTSTART:20170312T070000
END:DAYLIGHT
BEGIN:STANDARD
TZOFFSETFROM:-0400
TZOFFSETTO:-0500
TZNAME:EST
DTSTART:20171105T060000
END:STANDARD
END:VTIMEZONE
BEGIN:VEVENT
DTSTART;TZID=America/New_York:20160708T194500
DTEND;TZID=America/New_York:20160708T223000
DTSTAMP:20260424T081851
CREATED:20160412T111002Z
LAST-MODIFIED:20160412T111002Z
UID:4445-1468007100-1468017000@ubwp.buffalo.edu
SUMMARY:Moondance Sunset Cruise
DESCRIPTION:Catamaran sunset cruise on Lake Erie.  Boat will launch from Templeton Landing (329 Erie St. Buffalo\, NY 14202) at 8:15pm SHARP!  Please make sure to arrive by 7:45pm for boarding. \nTickets on sale June 6th at the SBI Ticket Offices (221 Student Union and 350 Harriman Hall) for $ 20 each.  2 per UB ID.  Limited quantity available.  First come\, first served.  All sales are non-refundable. \n*Tickets include drinks and light hors d’oeuvre on the boat.  Please make sure to bring photo ID for proof of age. \nSBI Ticket Office Summer Office Hours (starting Monday\, May 16th): \nNorth Campus (221 Student Union): Tuesday\, Wednesday\, Thursday: 12:00 – 3:00pm \nSouth Campus (350 Harriman Hall): Monday: 10:00am – 3:00pm and Friday: 10:00am – 1:00pm
URL:https://ubwp.buffalo.edu/gsa/event/moondance-sunset-cruise/
LOCATION:Templeton Landing\, 329 Erie St.\, Buffalo\, NY\, 14202\, United States
CATEGORIES:GSA Event
ORGANIZER;CN="GSA Programming Coordinator":MAILTO:gsa-programming@buffalo.edu
END:VEVENT
BEGIN:VEVENT
DTSTART;TZID=America/New_York:20160723T180500
DTEND;TZID=America/New_York:20160723T223000
DTSTAMP:20260424T081851
CREATED:20160412T111312Z
LAST-MODIFIED:20160412T111312Z
UID:4447-1469297100-1469313000@ubwp.buffalo.edu
SUMMARY:Buffalo Bisons Baseball Game (Star Wars Night)
DESCRIPTION:Buffalo Bisons Baseball Game vs. Gwinnett Braves – Star Wars Night \nTickets on sale June 27th at the SBI Ticket Offices (221 Student Union and 350 Harriman Hall) for $10 each.  2 per UB ID.  Limited quantity available.  First come\, first served.  All sales are non-refundable. \n*Tickets include a voucher for a free hot dog and drink! \nSBI Ticket Office Summer Office Hours (updated July 11th): \nNorth Campus (221 Student Union): Tuesday\, Wednesday\, Thursday: 12:00 – 3:00pm \nSouth Campus (350 Harriman Hall): Monday: 10:00am – 3:00pm and Tuesday: 10:00am – 1:00pm
URL:https://ubwp.buffalo.edu/gsa/event/buffalo-bisons-baseball-game-star-wars-night-2/
LOCATION:Sahlen Field\, 275 Washington St.\, Buffalo\, NY\, 14203\, United States
CATEGORIES:GSA Event
ORGANIZER;CN="GSA Programming Coordinator":MAILTO:gsa-programming@buffalo.edu
END:VEVENT
BEGIN:VEVENT
DTSTART;TZID=America/New_York:20160729T180000
DTEND;TZID=America/New_York:20160729T230000
DTSTAMP:20260424T081851
CREATED:20160412T111632Z
LAST-MODIFIED:20160412T111632Z
UID:4449-1469815200-1469833200@ubwp.buffalo.edu
SUMMARY:Shakespeare in Delaware Park ~ Taming of the Shrew
DESCRIPTION:GSA will be the corporate sponsor of the July 29th presentation of Taming of the Shrew\, 6pm at Delaware Park (by the Rose Garden). \nFree tickets available July 5th at the SBI Ticket Offices (221 Student Union and 350 Harriman Hall).  Limited quantity available.  2 max. per UB ID. \n*Tickets include VIP seating\, complimentary champagne and light hors d’oeuvres in the tent before the show. \nSBI Ticket Office Summer Office Hours (starting Monday\, May 16th): \nNorth Campus (221 Student Union): Tuesday\, Wednesday\, Thursday: 12:00 – 3:00pm \nSouth Campus (350 Harriman Hall): Monday: 10:00am – 3:00pm and Friday: 10:00am – 1:00pm
URL:https://ubwp.buffalo.edu/gsa/event/shakespeare-in-delaware-park-taming-of-the-shrew/
LOCATION:Deleware Park\, Buffalo\, NY\, United States
CATEGORIES:GSA Event
ORGANIZER;CN="GSA Programming Coordinator":MAILTO:gsa-programming@buffalo.edu
END:VEVENT
END:VCALENDAR