BEGIN:VCALENDAR
VERSION:2.0
PRODID:-//Graduate Student Association - ECPv6.15.20//NONSGML v1.0//EN
CALSCALE:GREGORIAN
METHOD:PUBLISH
X-WR-CALNAME:Graduate Student Association
X-ORIGINAL-URL:https://ubwp.buffalo.edu/gsa
X-WR-CALDESC:Events for Graduate Student Association
REFRESH-INTERVAL;VALUE=DURATION:PT1H
X-Robots-Tag:noindex
X-PUBLISHED-TTL:PT1H
BEGIN:VTIMEZONE
TZID:America/New_York
BEGIN:DAYLIGHT
TZOFFSETFROM:-0500
TZOFFSETTO:-0400
TZNAME:EDT
DTSTART:20150308T070000
END:DAYLIGHT
BEGIN:STANDARD
TZOFFSETFROM:-0400
TZOFFSETTO:-0500
TZNAME:EST
DTSTART:20151101T060000
END:STANDARD
BEGIN:DAYLIGHT
TZOFFSETFROM:-0500
TZOFFSETTO:-0400
TZNAME:EDT
DTSTART:20160313T070000
END:DAYLIGHT
BEGIN:STANDARD
TZOFFSETFROM:-0400
TZOFFSETTO:-0500
TZNAME:EST
DTSTART:20161106T060000
END:STANDARD
BEGIN:DAYLIGHT
TZOFFSETFROM:-0500
TZOFFSETTO:-0400
TZNAME:EDT
DTSTART:20170312T070000
END:DAYLIGHT
BEGIN:STANDARD
TZOFFSETFROM:-0400
TZOFFSETTO:-0500
TZNAME:EST
DTSTART:20171105T060000
END:STANDARD
END:VTIMEZONE
BEGIN:VEVENT
DTSTART;VALUE=DATE:20160208
DTEND;VALUE=DATE:20160209
DTSTAMP:20260425T234128
CREATED:20151208T135055Z
LAST-MODIFIED:20151208T135055Z
UID:3892-1454889600-1454975999@ubwp.buffalo.edu
SUMMARY:Discount AMC Movie Tickets Available
DESCRIPTION:GSA will have discount AMC Movie Tickets available for sale on February 8th at the SBI Ticket Offices (221 Student Union and 350 Harriman Hall) for $5 each.  1 per UB ID.  Tickets can be used for most movies at AMC theatre locations.  Limited quantity available.  First come\, first served.
URL:https://ubwp.buffalo.edu/gsa/event/discount-amc-movie-tickets-available-3/
LOCATION:NY
CATEGORIES:GSA Event
ATTACH;FMTTYPE=image/jpeg:https://ubwp.buffalo.edu/gsa/wp-content/uploads/sites/137/2015/09/AMC.jpg
ORGANIZER;CN="GSA Programming Coordinator":MAILTO:gsa-programming@buffalo.edu
END:VEVENT
BEGIN:VEVENT
DTSTART;TZID=America/New_York:20160211T153000
DTEND;TZID=America/New_York:20160211T173000
DTSTAMP:20260425T234128
CREATED:20151208T110955Z
LAST-MODIFIED:20151208T110955Z
UID:3877-1455204600-1455211800@ubwp.buffalo.edu
SUMMARY:South Campus Siesta
DESCRIPTION:Free food and beverages for graduate students at South Campus.
URL:https://ubwp.buffalo.edu/gsa/event/south-campus-siesta-13/
LOCATION:105 Harriman Hall\, 105 Harriman Hall\, University at Buffalo\, Buffalo\, NY\, 14260\, United States
CATEGORIES:GSA Event
ATTACH;FMTTYPE=image/jpeg:https://ubwp.buffalo.edu/gsa/wp-content/uploads/sites/137/2015/01/South-Siesta2.jpg
ORGANIZER;CN="GSA Programming Coordinator":MAILTO:gsa-programming@buffalo.edu
END:VEVENT
BEGIN:VEVENT
DTSTART;TZID=America/New_York:20160212T200000
DTEND;TZID=America/New_York:20160212T230000
DTSTAMP:20260425T234128
CREATED:20151208T113014Z
LAST-MODIFIED:20151208T113014Z
UID:3880-1455307200-1455318000@ubwp.buffalo.edu
SUMMARY:Blue Man Group Concert
DESCRIPTION:Tickets on sale January 25th at the SBI Ticket Offices (221 Student Union and 350 Harriman Hall) for $25 each.  2 per UB ID.  Limited quantity available.  First come\, first served.
URL:https://ubwp.buffalo.edu/gsa/event/blue-man-group-concert/
LOCATION:Shea’s Performing Arts Center\, 646 Main Street\, Buffalo\, NY\, 14202\, United States
CATEGORIES:GSA Event
ORGANIZER;CN="GSA Programming Coordinator":MAILTO:gsa-programming@buffalo.edu
END:VEVENT
BEGIN:VEVENT
DTSTART;TZID=America/New_York:20160220T193000
DTEND;TZID=America/New_York:20160220T233000
DTSTAMP:20260425T234128
CREATED:20151208T113240Z
LAST-MODIFIED:20151208T113240Z
UID:3882-1455996600-1456011000@ubwp.buffalo.edu
SUMMARY:Mardi Gras Party
DESCRIPTION:Open Bar\, Food\, DJ and Prizes!! \nTickets on sale January 25th at the SBI Ticket Offices (221 Student Union and 350 Harriman Hall) for $20 each ($25 at the door if still available).  2 per UB ID.
URL:https://ubwp.buffalo.edu/gsa/event/mardi-gras-party-3/
LOCATION:Pearl Street Grill & Brewery\, 76 Pearl St.\, Buffalo\, NY\, 14202\, United States
CATEGORIES:GSA Event
ATTACH;FMTTYPE=image/jpeg:https://ubwp.buffalo.edu/gsa/wp-content/uploads/sites/137/2015/01/Mardi-Gras21.jpg
ORGANIZER;CN="GSA Programming Coordinator":MAILTO:gsa-programming@buffalo.edu
END:VEVENT
BEGIN:VEVENT
DTSTART;TZID=America/New_York:20160224T190000
DTEND;TZID=America/New_York:20160224T210000
DTSTAMP:20260425T234128
CREATED:20150723T110027Z
LAST-MODIFIED:20150723T110027Z
UID:3173-1456340400-1456347600@ubwp.buffalo.edu
SUMMARY:Finance Committee Meeting
DESCRIPTION:FC meeting to review funding requests for events to take place in March or later.
URL:https://ubwp.buffalo.edu/gsa/event/finance-committee-meeting-20/
LOCATION:GSA Conference Room\, 310A Student Union\, University at Buffalo\, Buffalo\, NY\, 14260\, United States
CATEGORIES:Administrative,GSA Event
ORGANIZER;CN="GSA Treasurer":MAILTO:gsa-treasurer@buffalo.edu
END:VEVENT
END:VCALENDAR