BEGIN:VCALENDAR
VERSION:2.0
PRODID:-//Graduate Student Association - ECPv6.15.20//NONSGML v1.0//EN
CALSCALE:GREGORIAN
METHOD:PUBLISH
X-ORIGINAL-URL:https://ubwp.buffalo.edu/gsa
X-WR-CALDESC:Events for Graduate Student Association
REFRESH-INTERVAL;VALUE=DURATION:PT1H
X-Robots-Tag:noindex
X-PUBLISHED-TTL:PT1H
BEGIN:VTIMEZONE
TZID:America/New_York
BEGIN:DAYLIGHT
TZOFFSETFROM:-0500
TZOFFSETTO:-0400
TZNAME:EDT
DTSTART:20140309T070000
END:DAYLIGHT
BEGIN:STANDARD
TZOFFSETFROM:-0400
TZOFFSETTO:-0500
TZNAME:EST
DTSTART:20141102T060000
END:STANDARD
BEGIN:DAYLIGHT
TZOFFSETFROM:-0500
TZOFFSETTO:-0400
TZNAME:EDT
DTSTART:20150308T070000
END:DAYLIGHT
BEGIN:STANDARD
TZOFFSETFROM:-0400
TZOFFSETTO:-0500
TZNAME:EST
DTSTART:20151101T060000
END:STANDARD
BEGIN:DAYLIGHT
TZOFFSETFROM:-0500
TZOFFSETTO:-0400
TZNAME:EDT
DTSTART:20160313T070000
END:DAYLIGHT
BEGIN:STANDARD
TZOFFSETFROM:-0400
TZOFFSETTO:-0500
TZNAME:EST
DTSTART:20161106T060000
END:STANDARD
END:VTIMEZONE
BEGIN:VEVENT
DTSTART;TZID=America/New_York:20151211T190000
DTEND;TZID=America/New_York:20151211T230000
DTSTAMP:20260426T035231
CREATED:20150924T124017Z
LAST-MODIFIED:20150924T124017Z
UID:3534-1449860400-1449874800@ubwp.buffalo.edu
SUMMARY:Jingle Jangle Jam
DESCRIPTION:OPEN BAR\, FOOD\, DJ AND PRIZES!!! \nTickets on sale November 9th at the SBI Ticket Offices (221 Student Union and 350 Harriman Hall) for $20 each/$25 at the door (if tickets are still available).  Limited quantity available.  First come\, first served. \n*Please remember to bring photo ID as proof of age to the event.  EVERYONE WILL BE CARDED AT THE DOOR!*
URL:https://ubwp.buffalo.edu/gsa/event/jingle-jangle-jam-3/
LOCATION:Buffalo Niagara Convention Center\, 153 Franklin St.\, Buffalo\, NY\, 14202\, United States
CATEGORIES:GSA Event
ORGANIZER;CN="GSA Programming Coordinator":MAILTO:gsa-programming@buffalo.edu
END:VEVENT
BEGIN:VEVENT
DTSTART;TZID=America/New_York:20151213T100000
DTEND;TZID=America/New_York:20151213T130000
DTSTAMP:20260426T035231
CREATED:20151210T113140Z
LAST-MODIFIED:20151210T113140Z
UID:3903-1450000800-1450011600@ubwp.buffalo.edu
SUMMARY:Intercultural Understanding Club Breakfast
DESCRIPTION:Intercultural Understanding Club invites you to the end of year breakfast sponsored by GSA. We’ll meet with all the members of ICU year\n2015-2016 to share information and discuss the plan and events for upcoming year 2016 Spring. It’s FREE! \nDate: Sunday December 13 2015 \nTime: 10 AM – 1 PM \nLocation: Student Union Lobby \nRSVP link: http://goo.gl/forms/ThkbqaMD9z \nQuestions: chancham@buffalo.edu
URL:https://ubwp.buffalo.edu/gsa/event/intercultural-understanding-club-breakfast/
LOCATION:Student Union Lobby\, Buffalo\, NY\, United States
CATEGORIES:GSA Event
END:VEVENT
END:VCALENDAR