BEGIN:VCALENDAR
VERSION:2.0
PRODID:-//Graduate Student Association - ECPv6.15.20//NONSGML v1.0//EN
CALSCALE:GREGORIAN
METHOD:PUBLISH
X-WR-CALNAME:Graduate Student Association
X-ORIGINAL-URL:https://ubwp.buffalo.edu/gsa
X-WR-CALDESC:Events for Graduate Student Association
REFRESH-INTERVAL;VALUE=DURATION:PT1H
X-Robots-Tag:noindex
X-PUBLISHED-TTL:PT1H
BEGIN:VTIMEZONE
TZID:UTC
BEGIN:STANDARD
TZOFFSETFROM:+0000
TZOFFSETTO:+0000
TZNAME:UTC
DTSTART:20130101T000000
END:STANDARD
END:VTIMEZONE
BEGIN:VEVENT
DTSTART;TZID=UTC:20140616T080000
DTEND;TZID=UTC:20140616T170000
DTSTAMP:20260422T005232
CREATED:20130924T180249Z
LAST-MODIFIED:20130924T180249Z
UID:475-1402905600-1402938000@ubwp.buffalo.edu
SUMMARY:Deadline for July Conference Funding Applications
DESCRIPTION:All application materials for Conference Funding for conferences during the month of July are due in the GSA office by the close of business.
URL:https://ubwp.buffalo.edu/gsa/event/deadline-for-july-conference-funding-applications/
LOCATION:GSA Office\, 310 Student Union\, University at Buffalo\, Buffalo\, NY\, 14260-2100\, United States
CATEGORIES:Conference Funding
ORGANIZER;CN="GSA Administrative Team":MAILTO:slfrank@buffalo.edu
END:VEVENT
END:VCALENDAR