BEGIN:VCALENDAR
VERSION:2.0
PRODID:-//Graduate Student Association - ECPv6.15.20//NONSGML v1.0//EN
CALSCALE:GREGORIAN
METHOD:PUBLISH
X-WR-CALNAME:Graduate Student Association
X-ORIGINAL-URL:https://ubwp.buffalo.edu/gsa
X-WR-CALDESC:Events for Graduate Student Association
REFRESH-INTERVAL;VALUE=DURATION:PT1H
X-Robots-Tag:noindex
X-PUBLISHED-TTL:PT1H
BEGIN:VTIMEZONE
TZID:UTC
BEGIN:STANDARD
TZOFFSETFROM:+0000
TZOFFSETTO:+0000
TZNAME:UTC
DTSTART:20250101T000000
END:STANDARD
END:VTIMEZONE
BEGIN:VEVENT
DTSTART;TZID=UTC:20260508T080000
DTEND;TZID=UTC:20260508T180000
DTSTAMP:20260425T133843
CREATED:20260422T172352Z
LAST-MODIFIED:20260422T184824Z
UID:94609-1778227200-1778263200@ubwp.buffalo.edu
SUMMARY:Global Gender and Sexuality Studies Symposium
DESCRIPTION:The Global Gender and Sexuality Studies (GGSS) Department GSA is hosting a symposium at the end of the Spring 2026 semester for graduate students working on topics related to gender and sexuality studies to share their work and engage in conversation with each other. Graduate students from all departments and programs across UB are invited to submit their abstracts for consideration. Drafts of final papers\, dissertation chapters\, etc. are welcomed and encouraged! Submitted abstracts will be organized into panels\, and each panel session will have both student presentations and Q&A/discussion with the audience. \nRegistration Link for audience members: https://forms.gle/YhN6fvTCEZfjKLqUA
URL:https://ubwp.buffalo.edu/gsa/event/global-gender-and-sexuality-studies-symposium/
LOCATION:640 Clemens Hall
CATEGORIES:Club Event
END:VEVENT
BEGIN:VEVENT
DTSTART;TZID=UTC:20260508T170000
DTEND;TZID=UTC:20260508T200000
DTSTAMP:20260425T133843
CREATED:20260422T173553Z
LAST-MODIFIED:20260422T173612Z
UID:94620-1778259600-1778270400@ubwp.buffalo.edu
SUMMARY:End-of-Semester Celebration and Graduate Student Social
DESCRIPTION:End-of-Semester Celebration and Graduate Student Social \nThe Electrical Engineering Graduate Student Association (EE GSA) will host its annual End-of-Semester Celebration on May 8\, 2026\, from 5:00 PM to 8:00 PM at Inchin’s Bamboo Garden. This event is organized as a fun and welcoming gathering for graduate students to relax\, unwind\, and celebrate the completion of the semester after exams\, project deadlines\, research milestones\, and other academic pressures. \nThis event has traditionally been an EE department gathering\, but this year we are intentionally expanding it to welcome a broader graduate student audience across departments. By opening the event to all graduate students\, we hope to create a larger community-building opportunity that encourages social connection\, interdisciplinary interaction\, and a stronger sense of belonging on campus. The event will provide a casual and inclusive environment where students can meet peers outside their own programs\, strengthen friendships\, and enjoy a positive end-of-semester experience together. \nThe program will include food\, beverages\, and a relaxed social atmosphere designed to help students de-stress and recharge before the summer period. Because graduate students often face intense workloads and limited opportunities for informal social engagement\, this event serves as an important chance to support student well-being\, community engagement\, and cross-departmental networking. Its broad appeal comes from offering a shared opportunity for celebration\, connection\, and stress relief that is relevant to graduate students from many academic disciplines\, not only Electrical Engineering. \nTickets on sale now!  Limited quantity available.  First come\, first served. \nhttps://buffalo.universitytickets.com/w/event.aspx?id=5658
URL:https://ubwp.buffalo.edu/gsa/event/94620/
LOCATION:Inchin’s Bamboo Garden\, 5415 Sheridan Dr.\, Williamsville\, NY\, 14221\, United States
CATEGORIES:Club Event
END:VEVENT
END:VCALENDAR