BEGIN:VCALENDAR
VERSION:2.0
PRODID:-//Graduate Student Association - ECPv6.15.20//NONSGML v1.0//EN
CALSCALE:GREGORIAN
METHOD:PUBLISH
X-WR-CALNAME:Graduate Student Association
X-ORIGINAL-URL:https://ubwp.buffalo.edu/gsa
X-WR-CALDESC:Events for Graduate Student Association
REFRESH-INTERVAL;VALUE=DURATION:PT1H
X-Robots-Tag:noindex
X-PUBLISHED-TTL:PT1H
BEGIN:VTIMEZONE
TZID:America/New_York
BEGIN:DAYLIGHT
TZOFFSETFROM:-0500
TZOFFSETTO:-0400
TZNAME:EDT
DTSTART:20170312T070000
END:DAYLIGHT
BEGIN:STANDARD
TZOFFSETFROM:-0400
TZOFFSETTO:-0500
TZNAME:EST
DTSTART:20171105T060000
END:STANDARD
BEGIN:DAYLIGHT
TZOFFSETFROM:-0500
TZOFFSETTO:-0400
TZNAME:EDT
DTSTART:20180311T070000
END:DAYLIGHT
BEGIN:STANDARD
TZOFFSETFROM:-0400
TZOFFSETTO:-0500
TZNAME:EST
DTSTART:20181104T060000
END:STANDARD
BEGIN:DAYLIGHT
TZOFFSETFROM:-0500
TZOFFSETTO:-0400
TZNAME:EDT
DTSTART:20190310T070000
END:DAYLIGHT
BEGIN:STANDARD
TZOFFSETFROM:-0400
TZOFFSETTO:-0500
TZNAME:EST
DTSTART:20191103T060000
END:STANDARD
END:VTIMEZONE
BEGIN:VEVENT
DTSTART;VALUE=DATE:20180427
DTEND;VALUE=DATE:20180429
DTSTAMP:20260419T155335
CREATED:20180406T111738Z
LAST-MODIFIED:20180406T111738Z
UID:7528-1524787200-1524959999@ubwp.buffalo.edu
SUMMARY:RLL Graduate Symposium
DESCRIPTION:
URL:https://ubwp.buffalo.edu/gsa/event/rll-graduate-symposium/
LOCATION:Buffalo\, United States
CATEGORIES:Club Event
ORGANIZER;CN="GSA Administrative Team":MAILTO:slfrank@buffalo.edu
END:VEVENT
BEGIN:VEVENT
DTSTART;TZID=America/New_York:20180428T110000
DTEND;TZID=America/New_York:20180428T160000
DTSTAMP:20260419T155335
CREATED:20180417T104117Z
LAST-MODIFIED:20180417T104117Z
UID:7607-1524913200-1524931200@ubwp.buffalo.edu
SUMMARY:GISA presents Holi 2018
DESCRIPTION:Holi 2018 is finally here! And it is going to be the biggest one Buffalo has seen! Graduate Indian Student Association and Indian Student Association are proud to present Holi 2018 on Saturday 28th April\, 11:00am to 4:00pm!! Join us for 5 hours of non-stop music by DJ Taran\, fun rides and games and of course colors! Enjoy some delectable Indian cuisine available for purchase at the event by our amazing sponsors Hyderabadi Biryani House and Almaza! \nTickets are $5 for members of our clubs and $7 for non-members and they go on Sale Monday\, April 16th\, 10:00am onwards at the 2 locations of SBI Ticket Office- 221 Student Union and 135 Diefendorf Hall. \nTickets for people who are not UB students can be purchased online here- \nhttps://www.sbiticket.buffalo.edu/default \non Monday (4/16/2018) 10:00am as well. \nLet the fun with colors begin!! Please spread the word.
URL:https://ubwp.buffalo.edu/gsa/event/gisa-presents-holi-2018/
LOCATION:Student Union Field\, Buffalo\, NY\, 14260\, United States
CATEGORIES:Club Event
END:VEVENT
BEGIN:VEVENT
DTSTART;TZID=America/New_York:20180428T180000
DTEND;TZID=America/New_York:20180428T210000
DTSTAMP:20260419T155335
CREATED:20180312T123609Z
LAST-MODIFIED:20180312T123609Z
UID:7331-1524938400-1524949200@ubwp.buffalo.edu
SUMMARY:Concert by Mohsen Namjoo
DESCRIPTION:Concert by the artist “Mohsen Namjoo” and his band of two.  An Iranian traditional/blues fusion band. \nTickets on sale now at the SBI Ticket Offices (221 Student Union and 135 Diefendorf Hall) \n$25 for students (until April 6th)\n$30 for students (after April 7th)\n$40 for non-students ((until April 6th)\n$45 for non-students (after April 7th)
URL:https://ubwp.buffalo.edu/gsa/event/concert-by-mohsen-namjoo/
LOCATION:Student Union Theater\, 201 Student Union\, University at Buffalo\, Buffalo\, NY\, 14260\, United States
CATEGORIES:Club Event
END:VEVENT
END:VCALENDAR