BEGIN:VCALENDAR
VERSION:2.0
PRODID:-//Graduate Student Association - ECPv6.15.20//NONSGML v1.0//EN
CALSCALE:GREGORIAN
METHOD:PUBLISH
X-ORIGINAL-URL:https://ubwp.buffalo.edu/gsa
X-WR-CALDESC:Events for Graduate Student Association
REFRESH-INTERVAL;VALUE=DURATION:PT1H
X-Robots-Tag:noindex
X-PUBLISHED-TTL:PT1H
BEGIN:VTIMEZONE
TZID:UTC
BEGIN:STANDARD
TZOFFSETFROM:+0000
TZOFFSETTO:+0000
TZNAME:UTC
DTSTART:20120101T000000
END:STANDARD
END:VTIMEZONE
BEGIN:VEVENT
DTSTART;TZID=UTC:20131203T160000
DTEND;TZID=UTC:20131203T170000
DTSTAMP:20260420T022451
CREATED:20131122T141433Z
LAST-MODIFIED:20131122T141433Z
UID:931-1386086400-1386090000@ubwp.buffalo.edu
SUMMARY:Feminist Discussion
DESCRIPTION:FEMINIST DISCUSSION \nAmerican Association of University Women identifies salary negotiation as a dividing point fueling the pay gap between men and women.\nCareer Peer Services will talk to us about negotiation and relevant career/interview skills.
URL:https://ubwp.buffalo.edu/gsa/event/feminist-discussion/
LOCATION:NY
CATEGORIES:Club Event
ORGANIZER;CN="UBSoFem":MAILTO:tanjanii@buffalo.edu
END:VEVENT
BEGIN:VEVENT
DTSTART;TZID=UTC:20131203T190000
DTEND;TZID=UTC:20131203T210000
DTSTAMP:20260420T022451
CREATED:20131114T141200Z
LAST-MODIFIED:20131114T141200Z
UID:900-1386097200-1386104400@ubwp.buffalo.edu
SUMMARY:French Connection ~ Crepes Degustation Night
DESCRIPTION:The French Connection Presents: Crepes Degustation Night\, Dec. 3rd @ 7PM\, 904 Clemens. \nThe French Connection is pleased to invite you to our annual Crepe Degustation night on December 3rd at 7PM in 904 Clemens. Come and enjoy sweet homemade crepes with us\, and mingle with people who love them. \nWe will provide the following toppings: Nutella\, jam\, sugar\, lemon juice\, bananas\, blueberries and whipped cream. \nFeel free to bring your favorite topping and/or a drink to share with everyone (we will have a few soft drinks for you guys). \nCheck out the flyer for more information!
URL:https://ubwp.buffalo.edu/gsa/event/french-connection-crepes-degustation-night/
LOCATION:904 Clemens\, Buffalo\, NY\, 14260\, United States
CATEGORIES:Club Event
ORGANIZER;CN="French Connection":MAILTO:ocle@buffalo.edu
END:VEVENT
END:VCALENDAR