BEGIN:VCALENDAR
VERSION:2.0
PRODID:-//Graduate Student Association - ECPv6.15.20//NONSGML v1.0//EN
CALSCALE:GREGORIAN
METHOD:PUBLISH
X-WR-CALNAME:Graduate Student Association
X-ORIGINAL-URL:https://ubwp.buffalo.edu/gsa
X-WR-CALDESC:Events for Graduate Student Association
REFRESH-INTERVAL;VALUE=DURATION:PT1H
X-Robots-Tag:noindex
X-PUBLISHED-TTL:PT1H
BEGIN:VTIMEZONE
TZID:UTC
BEGIN:STANDARD
TZOFFSETFROM:+0000
TZOFFSETTO:+0000
TZNAME:UTC
DTSTART:20190101T000000
END:STANDARD
END:VTIMEZONE
BEGIN:VEVENT
DTSTART;VALUE=DATE:20201120
DTEND;VALUE=DATE:20201123
DTSTAMP:20260419T173121
CREATED:20201117T141741Z
LAST-MODIFIED:20201117T141741Z
UID:25384-1605830400-1606089599@ubwp.buffalo.edu
SUMMARY:UB AI in Medicine Datathon
DESCRIPTION:November 20-22\, 2020\nDeadline: November 18\, 2020 at 11:59 PM Eastern Time Zone\nFor more information and to apply today click here!\n\n\n\n\n\n\n\nApply to Participate\nSubmit to Sponsor / Partner\nApply to Mentor\n\n\n\n\n\n\nWe are less than 1 week away from the 2-day event\, AI in Medicine: Virtual Datathon. We would like to invite you to participate in the event scheduled for November 20-22\, 2020. \nAs a datathon participant\, here is what you can expect: \n\n\n\nApply to participate as an individual or as a team. If you’re not in a team\, we will match you with a diverse team – no coding required.\nTop Prizes will be awarded to the following categories:\n\nTeams that develop meaningful findings from the dataset from Roswell Park DataBank & BioRepository Shared Resource.\nTeams that present the Best Cancer Use-Case Application.\n\n\nPresent your solution to judges\, sponsors & compete for prizes on Sunday.\nNetwork with fellow problem-solvers in the virtual UB ecosystem.\nBe mentored by leading experts in the field.\nBe discovered by the sponsors.\n\n\n\nWe will provide prizes to the top entries and free swag to all our attendees. Faculty\, students\, alumni and anyone with a passion for healthcare\, are welcome to join! \nWe hope to see you (virtually) at the event! \nBest\,\nUB AIM Datathon Team\n\n\n\n\n\n\nApply as a Speaker\nApply to facilitate a Fireside Chat Session\nApply to Judge\n\n\n\n\n\n\n\n\n\n\nApply to facilitate a Sponsor / Partner Workshop\nApply as Musician / Fitness Instructor\n\n\n\n\n\n\n\n\n\n\n\n\n  \nJoin our mailing list to be notified about our application cycles\, expert consults\, events\, and more!
URL:https://ubwp.buffalo.edu/gsa/event/ub-ai-in-medicine-datathon/
LOCATION:NY
CATEGORIES:Club Event
END:VEVENT
END:VCALENDAR