BEGIN:VCALENDAR
VERSION:2.0
PRODID:-//Graduate Student Association - ECPv6.15.20//NONSGML v1.0//EN
CALSCALE:GREGORIAN
METHOD:PUBLISH
X-WR-CALNAME:Graduate Student Association
X-ORIGINAL-URL:https://ubwp.buffalo.edu/gsa
X-WR-CALDESC:Events for Graduate Student Association
REFRESH-INTERVAL;VALUE=DURATION:PT1H
X-Robots-Tag:noindex
X-PUBLISHED-TTL:PT1H
BEGIN:VTIMEZONE
TZID:America/New_York
BEGIN:DAYLIGHT
TZOFFSETFROM:-0500
TZOFFSETTO:-0400
TZNAME:EDT
DTSTART:20170312T070000
END:DAYLIGHT
BEGIN:STANDARD
TZOFFSETFROM:-0400
TZOFFSETTO:-0500
TZNAME:EST
DTSTART:20171105T060000
END:STANDARD
BEGIN:DAYLIGHT
TZOFFSETFROM:-0500
TZOFFSETTO:-0400
TZNAME:EDT
DTSTART:20180311T070000
END:DAYLIGHT
BEGIN:STANDARD
TZOFFSETFROM:-0400
TZOFFSETTO:-0500
TZNAME:EST
DTSTART:20181104T060000
END:STANDARD
BEGIN:DAYLIGHT
TZOFFSETFROM:-0500
TZOFFSETTO:-0400
TZNAME:EDT
DTSTART:20190310T070000
END:DAYLIGHT
BEGIN:STANDARD
TZOFFSETFROM:-0400
TZOFFSETTO:-0500
TZNAME:EST
DTSTART:20191103T060000
END:STANDARD
END:VTIMEZONE
BEGIN:VEVENT
DTSTART;TZID=America/New_York:20180402T140000
DTEND;TZID=America/New_York:20180402T160000
DTSTAMP:20260419T170714
CREATED:20180329T092150Z
LAST-MODIFIED:20180329T092150Z
UID:7455-1522677600-1522684800@ubwp.buffalo.edu
SUMMARY:Computational Sciences Club ~ Statistical pitfalls and lessons from a model of human decision making at chess
DESCRIPTION:Hello CSC folks! \nWe have a very interesting event lined up on Monday\, April 2nd : \nTitle :  Statistical pitfalls and lessons from a model of human decision making at chess. \nSpeaker : Professor Kenneth W. Regan \nDate : April 2nd\, 2018 \nTime : 2:00 pm to 4:00 pm \nLocation : Davis 338A \nFor more details\, go to http://gsa.buffalo.edu/csc/
URL:https://ubwp.buffalo.edu/gsa/event/computational-sciences-club-statistical-pitfalls-and-lessons-from-a-model-of-human-decision-making-at-chess/
LOCATION:338A Davis Hall\, Buffalo\, NY\, 14260\, United States
CATEGORIES:Club Event
END:VEVENT
BEGIN:VEVENT
DTSTART;TZID=America/New_York:20180408T130000
DTEND;TZID=America/New_York:20180408T170000
DTSTAMP:20260419T170714
CREATED:20180406T111600Z
LAST-MODIFIED:20180406T111600Z
UID:7526-1523192400-1523206800@ubwp.buffalo.edu
SUMMARY:Greek Easter BBQ
DESCRIPTION:We announce our sixth Greek Easter BBQ!  Easter is celebrated in Greece with grand festivities\, great music\, and above all\, delicious food.  It is the most celebrated cultural event in our country bringing people together.  Last year we successfully organized the same event on April 12th\, and had a turnout of 80 people.  Even though Easter is earlier this year and even if we have been through one of the heaviest winters\, we the members of the Hellenic association\, promise great fun\, sport activities\, music\, dancing\, and tons of delicious Greek specialties.
URL:https://ubwp.buffalo.edu/gsa/event/greek-easter-bbq-2/
LOCATION:Ellicott Creek Park\, Shelter 10A/B\, Buffalo\, NY\, United States
CATEGORIES:Club Event
END:VEVENT
BEGIN:VEVENT
DTSTART;TZID=America/New_York:20180413T103000
DTEND;TZID=America/New_York:20180413T160000
DTSTAMP:20260419T170714
CREATED:20180312T122341Z
LAST-MODIFIED:20180312T122341Z
UID:7329-1523615400-1523635200@ubwp.buffalo.edu
SUMMARY:Annual Symposium on Job and Career Perspectives for Students in Computational Sciences
DESCRIPTION:This is an ‘Annual Symposium on Job and Career Perspectives for Students in the Computational Sciences’\, in which we are inviting five people from the industry to give us an insight into their careers\, describe the state of the art technology and computational tools they use in the industry today and how they achieved success in their fields. These speakers will describe the computational work they did in graduate school and how they searched for jobs after it. They will discuss their transition from academia and provide a firsthand account of the computational R&D landscape. This symposium will encourage and inspire students working in computational groups from different departments at UB and will improve their job perspectives.
URL:https://ubwp.buffalo.edu/gsa/event/annual-symposium-on-job-and-career-perspectives-for-students-in-computational-sciences/
LOCATION:330 Student Union\, 330 Student Union\, University at Buffalo\, Buffalo\, NY\, 14260\, United States
CATEGORIES:Club Event
END:VEVENT
BEGIN:VEVENT
DTSTART;TZID=America/New_York:20180419T080000
DTEND;TZID=America/New_York:20180419T160000
DTSTAMP:20260419T170714
CREATED:20180406T114954Z
LAST-MODIFIED:20180406T114954Z
UID:7539-1524124800-1524153600@ubwp.buffalo.edu
SUMMARY:GSE Research Symposium
DESCRIPTION:
URL:https://ubwp.buffalo.edu/gsa/event/gse-research-symposium-5/
LOCATION:Center for the Arts\, Buffalo\, NY\, United States
CATEGORIES:Club Event
END:VEVENT
BEGIN:VEVENT
DTSTART;TZID=America/New_York:20180420T090000
DTEND;TZID=America/New_York:20180420T150000
DTSTAMP:20260419T170714
CREATED:20180312T125235Z
LAST-MODIFIED:20180312T125235Z
UID:7344-1524214800-1524236400@ubwp.buffalo.edu
SUMMARY:Earthquake Engineering Symposium
DESCRIPTION:UB EERI is organizing the 2nd Annual Earthquake Engineering Symposium.  The keynote presentation will be given by Dr. Laura N. Lowes\, Civil Engineering Department Chair at the University of Washington\, on developing tools for modeling the non-linear response of structural systems subjected to severe loading.  There will also be a student research competition where students are welcome to present research topics on earthquake engineering or any other experience/topics related to earthquakes in general.  Other activities include a tour of the UB Structural Engineering and Earthquake Simulation Laboratory (SEESL).  Breakfast and lunch will be provided.  Students from universities across Northeastern US and Canada are also invited.
URL:https://ubwp.buffalo.edu/gsa/event/earthquake-engineering-symposium/
LOCATION:Ketter Hall\, Buffalo\, NY\, 14260\, United States
CATEGORIES:Club Event
END:VEVENT
BEGIN:VEVENT
DTSTART;TZID=America/New_York:20180421T090000
DTEND;TZID=America/New_York:20180421T170000
DTSTAMP:20260419T170714
CREATED:20180312T122045Z
LAST-MODIFIED:20180312T122045Z
UID:7326-1524301200-1524330000@ubwp.buffalo.edu
SUMMARY:Restorative Justice Day
DESCRIPTION:Restorative Justice Day is an annual event co-sponsored by the School of Social Work\, the Graduate School of Education\, and several community organizations.  The day focuses on restorative practices\, which are a set of approaches to education and the criminal justice system.  The restorative approach emphasizes restoring the relationships that are broken when harm has occurred\, as opposed to simply punishing the offender.  RJ Day brings together both local and national voices in the restorative movement\, and gives students\, faculty\, and community members a chance to discuss issues such as the role of police\, issues of youth\, building stronger\, more diverse communities\, and zero-tolerance policies in schools.
URL:https://ubwp.buffalo.edu/gsa/event/restorative-justice-day-2/
LOCATION:Diefendorf Hall\, Buffalo\, NY\, 14214\, United States
CATEGORIES:Club Event
END:VEVENT
BEGIN:VEVENT
DTSTART;VALUE=DATE:20180427
DTEND;VALUE=DATE:20180429
DTSTAMP:20260419T170714
CREATED:20180406T111738Z
LAST-MODIFIED:20180406T111738Z
UID:7528-1524787200-1524959999@ubwp.buffalo.edu
SUMMARY:RLL Graduate Symposium
DESCRIPTION:
URL:https://ubwp.buffalo.edu/gsa/event/rll-graduate-symposium/
LOCATION:Buffalo\, United States
CATEGORIES:Club Event
ORGANIZER;CN="GSA Administrative Team":MAILTO:slfrank@buffalo.edu
END:VEVENT
BEGIN:VEVENT
DTSTART;TZID=America/New_York:20180428T110000
DTEND;TZID=America/New_York:20180428T160000
DTSTAMP:20260419T170714
CREATED:20180417T104117Z
LAST-MODIFIED:20180417T104117Z
UID:7607-1524913200-1524931200@ubwp.buffalo.edu
SUMMARY:GISA presents Holi 2018
DESCRIPTION:Holi 2018 is finally here! And it is going to be the biggest one Buffalo has seen! Graduate Indian Student Association and Indian Student Association are proud to present Holi 2018 on Saturday 28th April\, 11:00am to 4:00pm!! Join us for 5 hours of non-stop music by DJ Taran\, fun rides and games and of course colors! Enjoy some delectable Indian cuisine available for purchase at the event by our amazing sponsors Hyderabadi Biryani House and Almaza! \nTickets are $5 for members of our clubs and $7 for non-members and they go on Sale Monday\, April 16th\, 10:00am onwards at the 2 locations of SBI Ticket Office- 221 Student Union and 135 Diefendorf Hall. \nTickets for people who are not UB students can be purchased online here- \nhttps://www.sbiticket.buffalo.edu/default \non Monday (4/16/2018) 10:00am as well. \nLet the fun with colors begin!! Please spread the word.
URL:https://ubwp.buffalo.edu/gsa/event/gisa-presents-holi-2018/
LOCATION:Student Union Field\, Buffalo\, NY\, 14260\, United States
CATEGORIES:Club Event
END:VEVENT
BEGIN:VEVENT
DTSTART;TZID=America/New_York:20180428T180000
DTEND;TZID=America/New_York:20180428T210000
DTSTAMP:20260419T170714
CREATED:20180312T123609Z
LAST-MODIFIED:20180312T123609Z
UID:7331-1524938400-1524949200@ubwp.buffalo.edu
SUMMARY:Concert by Mohsen Namjoo
DESCRIPTION:Concert by the artist “Mohsen Namjoo” and his band of two.  An Iranian traditional/blues fusion band. \nTickets on sale now at the SBI Ticket Offices (221 Student Union and 135 Diefendorf Hall) \n$25 for students (until April 6th)\n$30 for students (after April 7th)\n$40 for non-students ((until April 6th)\n$45 for non-students (after April 7th)
URL:https://ubwp.buffalo.edu/gsa/event/concert-by-mohsen-namjoo/
LOCATION:Student Union Theater\, 201 Student Union\, University at Buffalo\, Buffalo\, NY\, 14260\, United States
CATEGORIES:Club Event
END:VEVENT
END:VCALENDAR