BEGIN:VCALENDAR
VERSION:2.0
PRODID:-//Graduate Student Association - ECPv6.15.20//NONSGML v1.0//EN
CALSCALE:GREGORIAN
METHOD:PUBLISH
X-WR-CALNAME:Graduate Student Association
X-ORIGINAL-URL:https://ubwp.buffalo.edu/gsa
X-WR-CALDESC:Events for Graduate Student Association
REFRESH-INTERVAL;VALUE=DURATION:PT1H
X-Robots-Tag:noindex
X-PUBLISHED-TTL:PT1H
BEGIN:VTIMEZONE
TZID:America/New_York
BEGIN:DAYLIGHT
TZOFFSETFROM:-0500
TZOFFSETTO:-0400
TZNAME:EDT
DTSTART:20160313T070000
END:DAYLIGHT
BEGIN:STANDARD
TZOFFSETFROM:-0400
TZOFFSETTO:-0500
TZNAME:EST
DTSTART:20161106T060000
END:STANDARD
BEGIN:DAYLIGHT
TZOFFSETFROM:-0500
TZOFFSETTO:-0400
TZNAME:EDT
DTSTART:20170312T070000
END:DAYLIGHT
BEGIN:STANDARD
TZOFFSETFROM:-0400
TZOFFSETTO:-0500
TZNAME:EST
DTSTART:20171105T060000
END:STANDARD
BEGIN:DAYLIGHT
TZOFFSETFROM:-0500
TZOFFSETTO:-0400
TZNAME:EDT
DTSTART:20180311T070000
END:DAYLIGHT
BEGIN:STANDARD
TZOFFSETFROM:-0400
TZOFFSETTO:-0500
TZNAME:EST
DTSTART:20181104T060000
END:STANDARD
END:VTIMEZONE
BEGIN:VEVENT
DTSTART;TZID=America/New_York:20170602T140000
DTEND;TZID=America/New_York:20170602T180000
DTSTAMP:20260421T131829
CREATED:20170411T105319Z
LAST-MODIFIED:20170411T105319Z
UID:5881-1496412000-1496426400@ubwp.buffalo.edu
SUMMARY:Psychology GSA ~ Behavior and Brain Sciences Symposium
DESCRIPTION:The Psychology GSA will host the sixth annual Behavior and Brain Sciences Symposium (BBSS)\, an interdisciplinary symposium. All graduate students will be encouraged to submit their recent work in the varied fields related to brain and behavior sciences. The format of the event will include a poster session\, data blitz\, brief talks by graduate students\, and a keynote speaker. \nIf you are interested in attending\, please RSVP to bbss.symposium@gmail.com by 5:00pm on Friday May 26\, 2017 and include “RSVP for the BBSS” in your subject line. In your message\, please include your full name and your affiliated department to be included on your ID badge.”
URL:https://ubwp.buffalo.edu/gsa/event/psychology-gsa-behavior-and-brain-sciences-symposium-2/
LOCATION:Center for Tomorrow\, Buffalo\, NY\, United States
CATEGORIES:Club Event
END:VEVENT
END:VCALENDAR