BEGIN:VCALENDAR
VERSION:2.0
PRODID:-//Graduate Student Association - ECPv6.15.20//NONSGML v1.0//EN
CALSCALE:GREGORIAN
METHOD:PUBLISH
X-WR-CALNAME:Graduate Student Association
X-ORIGINAL-URL:https://ubwp.buffalo.edu/gsa
X-WR-CALDESC:Events for Graduate Student Association
REFRESH-INTERVAL;VALUE=DURATION:PT1H
X-Robots-Tag:noindex
X-PUBLISHED-TTL:PT1H
BEGIN:VTIMEZONE
TZID:America/New_York
BEGIN:DAYLIGHT
TZOFFSETFROM:-0500
TZOFFSETTO:-0400
TZNAME:EDT
DTSTART:20160313T070000
END:DAYLIGHT
BEGIN:STANDARD
TZOFFSETFROM:-0400
TZOFFSETTO:-0500
TZNAME:EST
DTSTART:20161106T060000
END:STANDARD
BEGIN:DAYLIGHT
TZOFFSETFROM:-0500
TZOFFSETTO:-0400
TZNAME:EDT
DTSTART:20170312T070000
END:DAYLIGHT
BEGIN:STANDARD
TZOFFSETFROM:-0400
TZOFFSETTO:-0500
TZNAME:EST
DTSTART:20171105T060000
END:STANDARD
BEGIN:DAYLIGHT
TZOFFSETFROM:-0500
TZOFFSETTO:-0400
TZNAME:EDT
DTSTART:20180311T070000
END:DAYLIGHT
BEGIN:STANDARD
TZOFFSETFROM:-0400
TZOFFSETTO:-0500
TZNAME:EST
DTSTART:20181104T060000
END:STANDARD
END:VTIMEZONE
BEGIN:VEVENT
DTSTART;TZID=America/New_York:20170213T183000
DTEND;TZID=America/New_York:20170213T220000
DTSTAMP:20260419T115112
CREATED:20170214T093419Z
LAST-MODIFIED:20170214T093419Z
UID:5489-1487010600-1487023200@ubwp.buffalo.edu
SUMMARY:Argentine Tango Practica
DESCRIPTION:The Argentine Tango Club will be offering Tango Lessons and a Practica every Monday through the end of the Spring semester in 105 Harriman Hall on South Campus from 6:30 – 10:00pm.  The events are free for UB students and $5 for the general public. \nSchedule of Events: \n\n\n\nFebruary 13th _ Monday\n6:30pm to 7:30pm \n7:30pm to 8:30pm \n8:30pm to 10:00pm\nHarriman Hall _ UB South\nTango 101 I with Katya \nGuided Practica I \nPractica\n\n\nFebruary 20th _ Monday\n6:30pm to 7:30pm \n7:30pm to 10:00pm\nHarriman Hall _ UB South\nClass 101 II with Katya \nPractica\n\n\nFebruary 27th _ Monday\n6:30pm to 7:30pm \n7:30pm to 8:30pm \n8:30pm to 10:00pm\nHarriman Hall _ UB South\nClass III with Katya \nGuided Practica II \nPractica\n\n\nMarch 6th _ Monday\n6:30pm to 7:30pm \n7:30pm to 10:00pm\nHarriman Hall _ UB South\nClass IV with Katya \nPractica\n\n\nMarch 13th _ Monday\n6:30pm to 7:30pm \n7:30pm to 8:30pm \n8:30pm to 10:00pm\nHarriman Hall _ UB South\nClass V with Katya \nGuided Practica III \nPractica\n\n\nMarch 27th _ Monday\n6:00pm to 6:30pm \n6:30pm to 7:30pm \n7:30pm to 10:00pm\nHarriman Hall _ UB South\nTango 102 – I with Katya \nTango 101 – I \nPractica\n\n\nApril 3rd _ Monday\n6:00pm to 6:30pm \n6:30pm to 7:30pm \n7:30pm to 8:30pm \n8:30pm to 10:00pm\nHarriman Hall _ UB South\nTango 102 – II with Katya \nTango 101 – II \nGuided Practica IV \nPractica\n\n\nApril 10th _ Monday\n6:00pm to 6:30pm \n6:30pm to 7:30pm \n7:30pm to 10:00pm\nHarriman Hall _ UB South\nTango 102 – III with Katya \nTango 101 – III \nPractica\n\n\nApril 17th _ Monday\n6:00pm to 6:30pm \n6:30pm to 7:30pm \n7:30pm to 10:00pm\nHarriman Hall _ UB South\nTango 101 – IV with Katya \nTango 102 – IV \nPractica\n\n\nApril 24th _ Monday\n6:00pm to 6:30pm \n6:30pm to 7:30pm \n7:30pm to 8:30pm \n8:30pm to 10:00pm\nHarriman Hall _ UB South\nTango 102 – V with Katya \nTango 101 – V \nGuided Practica V \nPractica\n\n\nMay 1st _ Monday\n7:30pm to 10:00pm\nHarriman Hall _ UB South\nPractica\n\n\nMay 12th _ Friday\n7:30pm to 12:00pm\nHarriman Hall _ UB South\nEnd of the semester Milonga \nTango Performances\n\n\n\n 
URL:https://ubwp.buffalo.edu/gsa/event/argentine-tango-practica-3/
LOCATION:105 Harriman Hall\, 105 Harriman Hall\, University at Buffalo\, Buffalo\, NY\, 14260\, United States
CATEGORIES:Club Event
ORGANIZER;CN="Argentine Tango":MAILTO:dsavija@buffalo.edu
END:VEVENT
END:VCALENDAR