BEGIN:VCALENDAR
VERSION:2.0
PRODID:-//Graduate Student Association - ECPv6.15.20//NONSGML v1.0//EN
CALSCALE:GREGORIAN
METHOD:PUBLISH
X-ORIGINAL-URL:https://ubwp.buffalo.edu/gsa
X-WR-CALDESC:Events for Graduate Student Association
REFRESH-INTERVAL;VALUE=DURATION:PT1H
X-Robots-Tag:noindex
X-PUBLISHED-TTL:PT1H
BEGIN:VTIMEZONE
TZID:UTC
BEGIN:STANDARD
TZOFFSETFROM:+0000
TZOFFSETTO:+0000
TZNAME:UTC
DTSTART:20230101T000000
END:STANDARD
END:VTIMEZONE
BEGIN:VEVENT
DTSTART;VALUE=DATE:20250219
DTEND;VALUE=DATE:20250220
DTSTAMP:20260419T131207
CREATED:20240618T141146Z
LAST-MODIFIED:20240618T141146Z
UID:50506-1739923200-1740009599@ubwp.buffalo.edu
SUMMARY:March/April Group Funding Applications Deadline
DESCRIPTION:Application materials are due for Special Activities\, Interdepartmental Activities\, Symposium and Community Outreach funding for events occurring after the March Board of Directors meeting. All application materials due by the close of business at 4:30pm.
URL:https://ubwp.buffalo.edu/gsa/event/march-april-group-funding-applications-deadline-6/
CATEGORIES:Administrative
END:VEVENT
BEGIN:VEVENT
DTSTART;VALUE=DATE:20250215
DTEND;VALUE=DATE:20250216
DTSTAMP:20260419T131207
CREATED:20240618T131717Z
LAST-MODIFIED:20240618T131717Z
UID:50438-1739577600-1739663999@ubwp.buffalo.edu
SUMMARY:Deadline for March Conference Funding Applications
DESCRIPTION:All applications for Conference Funding for conferences during the month of March are due by the close of business at 4:30pm. \nThe GSA Conference Funding Application is now available as an online form on GSA’s UBLinked page.  Please note that you must be signed in to UBLinked and “Join” as a member of GSA in order to be able to access the form on the Homepage.
URL:https://ubwp.buffalo.edu/gsa/event/deadline-for-march-conference-funding-applications-12/
CATEGORIES:Administrative
END:VEVENT
BEGIN:VEVENT
DTSTART;TZID=UTC:20250205T180000
DTEND;TZID=UTC:20250205T210000
DTSTAMP:20260419T131207
CREATED:20240618T134444Z
LAST-MODIFIED:20240618T134444Z
UID:50484-1738778400-1738789200@ubwp.buffalo.edu
SUMMARY:February Board of Directors Meeting
DESCRIPTION:The February 5th Board of Directors meeting will be held online via Zoom.  GSA Board of Directors meetings are open to the public\, but only designated representatives from Departmental and International clubs may vote. Sign-in begins at 6:00pm so that the meeting can begin promptly at 6:30pm. Once the meeting begins no one else will be admitted for attendance purposes. \nPLEASE NOTE: Every club will need to email Stephanie at slfrank@buffalo.edu no later than 12:00pm on Wednesday\, February 5th with who will be attending the meeting on the club’s behalf so that eligible representatives can be verified in advance.  Once representatives are verified they will be sent the Zoom meeting link and password directly\, along with some instructions on how the meeting will be managed\, in order to be able to participate and vote.  Only previously verified representatives will be admitted to participate in the Zoom meeting. \nFor attendance purposes each Special Interest Club may have one representative participate directly in the Zoom meeting\, but they will not have voting privileges.  Additional special requests for guests and/or speakers to be admitted may be sent to gsa-feedback@buffalo.edu. \nThe meeting will also be live streamed via GSA’s Facebook Page for anyone else that is interested in watching the meeting without voting privileges or an official attendance record\, as meetings are open to the public.
URL:https://ubwp.buffalo.edu/gsa/event/february-board-of-directors-meeting-5/
LOCATION:Online via Zoom
CATEGORIES:Administrative,GSA Event
END:VEVENT
BEGIN:VEVENT
DTSTART;TZID=UTC:20250129T183000
DTEND;TZID=UTC:20250129T203000
DTSTAMP:20260419T131207
CREATED:20240618T133122Z
LAST-MODIFIED:20240618T133122Z
UID:50463-1738175400-1738182600@ubwp.buffalo.edu
SUMMARY:Finance Committee Meeting
DESCRIPTION:Finance Committee meeting to review group funding requests for events to take place in February or later.
URL:https://ubwp.buffalo.edu/gsa/event/finance-committee-meeting-80/
CATEGORIES:Administrative
ORGANIZER;CN="GSA Treasurer":MAILTO:gsa-treasurer@buffalo.edu
END:VEVENT
BEGIN:VEVENT
DTSTART;VALUE=DATE:20250122
DTEND;VALUE=DATE:20250123
DTSTAMP:20260419T131207
CREATED:20240618T145221Z
LAST-MODIFIED:20240618T145221Z
UID:50577-1737504000-1737590399@ubwp.buffalo.edu
SUMMARY:Spring Classes Begin
DESCRIPTION:
URL:https://ubwp.buffalo.edu/gsa/event/spring-classes-begin-10/
CATEGORIES:Administrative
END:VEVENT
BEGIN:VEVENT
DTSTART;VALUE=DATE:20250122
DTEND;VALUE=DATE:20250123
DTSTAMP:20260419T131207
CREATED:20240618T141054Z
LAST-MODIFIED:20240618T141054Z
UID:50504-1737504000-1737590399@ubwp.buffalo.edu
SUMMARY:February Group Funding Applications Deadline
DESCRIPTION:Application materials are due for Special Activities\, Interdepartmental Activities\, Symposium and Community Outreach funding for events occurring after the February Board of Directors meeting. All application materials due by the close of business at 4:00pm.
URL:https://ubwp.buffalo.edu/gsa/event/february-group-funding-applications-deadline-12/
CATEGORIES:Administrative
END:VEVENT
BEGIN:VEVENT
DTSTART;VALUE=DATE:20250121
DTEND;VALUE=DATE:20250122
DTSTAMP:20260419T131207
CREATED:20240618T145027Z
LAST-MODIFIED:20240618T145027Z
UID:50569-1737417600-1737503999@ubwp.buffalo.edu
SUMMARY:GSA on Summer Hours
DESCRIPTION:GSA will be open for Summer Hours: Tuesday 8:30am – 4:00pm.
URL:https://ubwp.buffalo.edu/gsa/event/gsa-on-summer-hours-23/
CATEGORIES:Administrative
END:VEVENT
BEGIN:VEVENT
DTSTART;VALUE=DATE:20250120
DTEND;VALUE=DATE:20250121
DTSTAMP:20260419T131207
CREATED:20240618T144921Z
LAST-MODIFIED:20240618T144921Z
UID:50567-1737331200-1737417599@ubwp.buffalo.edu
SUMMARY:GSA Closed
DESCRIPTION:GSA will be closed for Martin Luther King Jr. Day observance.
URL:https://ubwp.buffalo.edu/gsa/event/gsa-closed-87/
CATEGORIES:Administrative
END:VEVENT
BEGIN:VEVENT
DTSTART;VALUE=DATE:20250117
DTEND;VALUE=DATE:20250118
DTSTAMP:20260419T131207
CREATED:20240618T144842Z
LAST-MODIFIED:20240618T144842Z
UID:50562-1737072000-1737158399@ubwp.buffalo.edu
SUMMARY:GSA Closed
DESCRIPTION:GSA will be open for Summer Hours: Monday to Thursday 8:30am – 4:00pm\, closed on Friday\, January 17th.
URL:https://ubwp.buffalo.edu/gsa/event/gsa-closed-86/
CATEGORIES:Administrative
END:VEVENT
BEGIN:VEVENT
DTSTART;VALUE=DATE:20250115
DTEND;VALUE=DATE:20250116
DTSTAMP:20260419T131207
CREATED:20240618T131623Z
LAST-MODIFIED:20240618T131623Z
UID:50436-1736899200-1736985599@ubwp.buffalo.edu
SUMMARY:Deadline for February Conference Funding Applications
DESCRIPTION:All applications for Conference Funding for conferences during the month of February are due by the close of business at 4:00pm. \nThe GSA Conference Funding Application is now available as an online form on GSA’s UBLinked page.  Please note that you must be signed in to UBLinked and “Join” as a member of GSA in order to be able to access the form on the Homepage.
URL:https://ubwp.buffalo.edu/gsa/event/deadline-for-february-conference-funding-applications-12/
CATEGORIES:Administrative
END:VEVENT
BEGIN:VEVENT
DTSTART;VALUE=DATE:20250113
DTEND;VALUE=DATE:20250117
DTSTAMP:20260419T131207
CREATED:20240618T144741Z
LAST-MODIFIED:20240618T144741Z
UID:50558-1736726400-1737071999@ubwp.buffalo.edu
SUMMARY:GSA on Summer Hours
DESCRIPTION:GSA will be open for Summer Hours: Monday to Thursday 8:30am – 4:00pm\, closed on Friday\, January 17th.
URL:https://ubwp.buffalo.edu/gsa/event/gsa-on-summer-hours-22/
CATEGORIES:Administrative
END:VEVENT
BEGIN:VEVENT
DTSTART;VALUE=DATE:20250110
DTEND;VALUE=DATE:20250111
DTSTAMP:20260419T131207
CREATED:20240618T144541Z
LAST-MODIFIED:20240618T144541Z
UID:50556-1736467200-1736553599@ubwp.buffalo.edu
SUMMARY:GSA Closed
DESCRIPTION:GSA will be open for Summer Hours: Monday to Thursday 8:30am – 4:00pm\, closed on Friday\, January 10th.
URL:https://ubwp.buffalo.edu/gsa/event/gsa-closed-85/
CATEGORIES:Administrative
END:VEVENT
BEGIN:VEVENT
DTSTART;VALUE=DATE:20250106
DTEND;VALUE=DATE:20250110
DTSTAMP:20260419T131207
CREATED:20240618T144454Z
LAST-MODIFIED:20240618T144454Z
UID:50553-1736121600-1736467199@ubwp.buffalo.edu
SUMMARY:GSA on Summer Hours
DESCRIPTION:GSA will be open for Summer Hours: Monday to Thursday 8:30am – 4:00pm\, closed on Friday\, January 10th.
URL:https://ubwp.buffalo.edu/gsa/event/gsa-on-summer-hours-21/
CATEGORIES:Administrative
END:VEVENT
BEGIN:VEVENT
DTSTART;VALUE=DATE:20250103
DTEND;VALUE=DATE:20250104
DTSTAMP:20260419T131207
CREATED:20240618T145119Z
LAST-MODIFIED:20240618T145119Z
UID:50573-1735862400-1735948799@ubwp.buffalo.edu
SUMMARY:GSA Closed
DESCRIPTION:GSA will be open for Summer Hours: Thursday 8:30am – 4:00pm\, closed on Friday\, January 3rd.
URL:https://ubwp.buffalo.edu/gsa/event/gsa-closed-88/
CATEGORIES:Administrative
END:VEVENT
BEGIN:VEVENT
DTSTART;VALUE=DATE:20250102
DTEND;VALUE=DATE:20250103
DTSTAMP:20260419T131207
CREATED:20240618T144330Z
LAST-MODIFIED:20240618T144330Z
UID:50548-1735776000-1735862399@ubwp.buffalo.edu
SUMMARY:GSA on Summer Hours
DESCRIPTION:GSA will be open for Summer Hours: Thursday 8:30am – 4:00pm\, closed on Friday\, January 3rd.
URL:https://ubwp.buffalo.edu/gsa/event/gsa-on-summer-hours-20/
CATEGORIES:Administrative
END:VEVENT
BEGIN:VEVENT
DTSTART;VALUE=DATE:20241215
DTEND;VALUE=DATE:20241216
DTSTAMP:20260419T131207
CREATED:20240618T131535Z
LAST-MODIFIED:20240618T131535Z
UID:50434-1734220800-1734307199@ubwp.buffalo.edu
SUMMARY:Deadline for January Conference Funding Applications
DESCRIPTION:All applications for Conference Funding for conferences during the month of January are due by the close of business at 4:00pm. \nThe GSA Conference Funding Application is now available as an online form on GSA’s UBLinked page.  Please note that you must be signed in to UBLinked and “Join” as a member of GSA in order to be able to access the form on the Homepage.
URL:https://ubwp.buffalo.edu/gsa/event/deadline-for-january-conference-funding-applications-12/
CATEGORIES:Administrative
END:VEVENT
BEGIN:VEVENT
DTSTART;VALUE=DATE:20241210
DTEND;VALUE=DATE:20250102
DTSTAMP:20260419T131207
CREATED:20240618T144111Z
LAST-MODIFIED:20240618T144111Z
UID:50546-1733788800-1735775999@ubwp.buffalo.edu
SUMMARY:GSA Closed for Winter Recess
DESCRIPTION:The GSA will be closed for Winter Recess from Tuesday\, December 10th until Thursday\, January 2nd. \nThe office will be open for Summer Hours (Monday – Thursday 8:30am – 4:00pm) from January 2nd – 21st. \nRegular business hours will resume with the start of classes on January 22nd.
URL:https://ubwp.buffalo.edu/gsa/event/gsa-closed-for-winter-recess-3/
CATEGORIES:Administrative
END:VEVENT
BEGIN:VEVENT
DTSTART;VALUE=DATE:20241209
DTEND;VALUE=DATE:20241210
DTSTAMP:20260419T131207
CREATED:20240618T143906Z
LAST-MODIFIED:20240618T143906Z
UID:50544-1733702400-1733788799@ubwp.buffalo.edu
SUMMARY:Last Day of Fall Classes
DESCRIPTION:
URL:https://ubwp.buffalo.edu/gsa/event/last-day-of-fall-classes-10/
CATEGORIES:Administrative
END:VEVENT
BEGIN:VEVENT
DTSTART;TZID=UTC:20241204T180000
DTEND;TZID=UTC:20241204T210000
DTSTAMP:20260419T131207
CREATED:20240618T134339Z
LAST-MODIFIED:20240618T134339Z
UID:50482-1733335200-1733346000@ubwp.buffalo.edu
SUMMARY:December Board of Directors Meeting
DESCRIPTION:The December 4th Board of Directors meeting will be held online via Zoom.  GSA Board of Directors meetings are open to the public\, but only designated representatives from Departmental and International clubs may vote. Sign-in begins at 6:00pm so that the meeting can begin promptly at 6:30pm. Once the meeting begins no one else will be admitted for attendance purposes. \nPLEASE NOTE: Every club will need to email Stephanie at slfrank@buffalo.edu no later than 12:00pm on Wednesday\, December 4th with who will be attending the meeting on the club’s behalf so that eligible representatives can be verified in advance.  Once representatives are verified they will be sent the Zoom meeting link and password directly\, along with some instructions on how the meeting will be managed\, in order to be able to participate and vote.  Only previously verified representatives will be admitted to participate in the Zoom meeting. \nFor attendance purposes each Special Interest Club may have one representative participate directly in the Zoom meeting\, but they will not have voting privileges.  Additional special requests for guests and/or speakers to be admitted may be sent to gsa-feedback@buffalo.edu. \nThe meeting will also be live streamed via GSA’s Facebook Page for anyone else that is interested in watching the meeting without voting privileges or an official attendance record\, as meetings are open to the public.
URL:https://ubwp.buffalo.edu/gsa/event/december-board-of-directors-meeting-5/
LOCATION:Online via Zoom
CATEGORIES:Administrative,GSA Event
END:VEVENT
BEGIN:VEVENT
DTSTART;VALUE=DATE:20241204
DTEND;VALUE=DATE:20241205
DTSTAMP:20260419T131207
CREATED:20241119T150952Z
LAST-MODIFIED:20241119T150952Z
UID:75168-1733270400-1733356799@ubwp.buffalo.edu
SUMMARY:Winter Break Paperwork Deadline
DESCRIPTION:Please note that the GSA will be closing for Winter Break from Tuesday\, December 10th until Thursday\, January 2nd.  Because of this\, all paperwork for payments that must be processed before this shut down will be due by Wednesday\, December 4th.  Any payment documentation submitted after this date will not be processed until after we re-open\, which means that checks will not be cut until mid to late January.  Please make sure that all students and vendors are aware of the deadline in order to avoid delays in payment.
URL:https://ubwp.buffalo.edu/gsa/event/winter-break-paperwork-deadline/
CATEGORIES:Administrative
END:VEVENT
BEGIN:VEVENT
DTSTART;VALUE=DATE:20241127
DTEND;VALUE=DATE:20241130
DTSTAMP:20260419T131207
CREATED:20240618T143809Z
LAST-MODIFIED:20240618T143809Z
UID:50539-1732665600-1732924799@ubwp.buffalo.edu
SUMMARY:GSA Closed
DESCRIPTION:GSA will be closed for Thanksgiving Break.
URL:https://ubwp.buffalo.edu/gsa/event/gsa-closed-84/
CATEGORIES:Administrative
END:VEVENT
BEGIN:VEVENT
DTSTART;VALUE=DATE:20241127
DTEND;VALUE=DATE:20241201
DTSTAMP:20260419T131207
CREATED:20240618T143646Z
LAST-MODIFIED:20240618T143646Z
UID:50537-1732665600-1733011199@ubwp.buffalo.edu
SUMMARY:Thanksgiving Break
DESCRIPTION:
URL:https://ubwp.buffalo.edu/gsa/event/thanksgiving-break-2/
CATEGORIES:Administrative
END:VEVENT
BEGIN:VEVENT
DTSTART;VALUE=DATE:20241127
DTEND;VALUE=DATE:20241128
DTSTAMP:20260419T131207
CREATED:20240618T141835Z
LAST-MODIFIED:20250730T162951Z
UID:50514-1732665600-1732751999@ubwp.buffalo.edu
SUMMARY:Club Recognition Application Deadline
DESCRIPTION:According to the mandate of the Graduate Student Association (GSA) Board of Directors\, Special Interest and International Clubs must apply for annual recognition. Recognition must take place at one of the FALL GSA Board Meetings (September 4\, October 2\, November 6\, or December 4). \nAll application materials are due by the close of business at 4:30pm to have your club’s recognition considered at the December 4th Board Meeting.
URL:https://ubwp.buffalo.edu/gsa/event/club-recognition-application-deadline-46/
CATEGORIES:Administrative
END:VEVENT
BEGIN:VEVENT
DTSTART;TZID=UTC:20241126T183000
DTEND;TZID=UTC:20241126T203000
DTSTAMP:20260419T131207
CREATED:20240618T133013Z
LAST-MODIFIED:20240618T133546Z
UID:50460-1732645800-1732653000@ubwp.buffalo.edu
SUMMARY:Finance Committee Meeting
DESCRIPTION:Finance Committee meeting to review group funding requests for events to take place in December or later. \n**The November meeting will be held on Tuesday instead of Wednesday due to Thanksgiving Recess\,**
URL:https://ubwp.buffalo.edu/gsa/event/finance-committee-meeting-79/
CATEGORIES:Administrative
ORGANIZER;CN="GSA Treasurer":MAILTO:gsa-treasurer@buffalo.edu
END:VEVENT
BEGIN:VEVENT
DTSTART;VALUE=DATE:20241126
DTEND;VALUE=DATE:20241127
DTSTAMP:20260419T131207
CREATED:20241029T161900Z
LAST-MODIFIED:20241029T161900Z
UID:69745-1732579200-1732665599@ubwp.buffalo.edu
SUMMARY:GSA South Campus Office Closed
DESCRIPTION:Please note that the GSA South Campus Satellite Office will be closed on Tuesday\, November 26th.
URL:https://ubwp.buffalo.edu/gsa/event/gsa-south-campus-office-closed-35/
CATEGORIES:Administrative
END:VEVENT
BEGIN:VEVENT
DTSTART;VALUE=DATE:20241120
DTEND;VALUE=DATE:20241121
DTSTAMP:20260419T131207
CREATED:20240618T141006Z
LAST-MODIFIED:20240618T141006Z
UID:50502-1732060800-1732147199@ubwp.buffalo.edu
SUMMARY:December Group Funding Applications Deadline
DESCRIPTION:Application materials are due for Special Activities\, Interdepartmental Activities\, Symposium\, Community Outreach and Scholarly Publication funding for events occurring after the December Board of Directors meeting. All application materials due by the close of business at 4:30pm. \nPLEASE NOTE:  This is the final deadline for all Scholarly Publication funding requests for the 2024-2025 academic year.
URL:https://ubwp.buffalo.edu/gsa/event/december-group-funding-applications-deadline-11/
CATEGORIES:Administrative
END:VEVENT
BEGIN:VEVENT
DTSTART;VALUE=DATE:20241115
DTEND;VALUE=DATE:20241116
DTSTAMP:20260419T131207
CREATED:20240618T131448Z
LAST-MODIFIED:20240618T131448Z
UID:50432-1731628800-1731715199@ubwp.buffalo.edu
SUMMARY:Deadline for December Conference Funding Applications
DESCRIPTION:All applications for Conference Funding for conferences during the month of December are due by the close of business at 4:30pm. \nThe GSA Conference Funding Application is now available as an online form on GSA’s UBLinked page.  Please note that you must be signed in to UBLinked and “Join” as a member of GSA in order to be able to access the form on the Homepage.
URL:https://ubwp.buffalo.edu/gsa/event/deadline-for-december-conference-funding-applications-12/
CATEGORIES:Administrative
END:VEVENT
BEGIN:VEVENT
DTSTART;TZID=UTC:20241106T180000
DTEND;TZID=UTC:20241106T210000
DTSTAMP:20260419T131207
CREATED:20240618T134230Z
LAST-MODIFIED:20240618T134230Z
UID:50480-1730916000-1730926800@ubwp.buffalo.edu
SUMMARY:November Board of Directors Meeting
DESCRIPTION:The November 6th Board of Directors meeting will be held online via Zoom.  GSA Board of Directors meetings are open to the public\, but only designated representatives from Departmental and International clubs may vote. Sign-in begins at 6:00pm so that the meeting can begin promptly at 6:30pm. Once the meeting begins no one else will be admitted for attendance purposes. \nPLEASE NOTE: Every club will need to email Stephanie at slfrank@buffalo.edu no later than 12:00pm on Wednesday\, November 6th with who will be attending the meeting on the club’s behalf so that eligible representatives can be verified in advance.  Once representatives are verified they will be sent the Zoom meeting link and password directly\, along with some instructions on how the meeting will be managed\, in order to be able to participate and vote.  Only previously verified representatives will be admitted to participate in the Zoom meeting. \nFor attendance purposes each Special Interest Club may have one representative participate directly in the Zoom meeting\, but they will not have voting privileges.  Additional special requests for guests and/or speakers to be admitted may be sent to gsa-feedback@buffalo.edu. \nThe meeting will also be live streamed via GSA’s Facebook Page for anyone else that is interested in watching the meeting without voting privileges or an official attendance record\, as meetings are open to the public.
URL:https://ubwp.buffalo.edu/gsa/event/november-board-of-directors-meeting-5/
LOCATION:Online via Zoom
CATEGORIES:Administrative,GSA Event
END:VEVENT
BEGIN:VEVENT
DTSTART;TZID=UTC:20241030T183000
DTEND;TZID=UTC:20241030T203000
DTSTAMP:20260419T131207
CREATED:20240618T132754Z
LAST-MODIFIED:20240618T132754Z
UID:50458-1730313000-1730320200@ubwp.buffalo.edu
SUMMARY:Finance Committee Meeting
DESCRIPTION:Finance Committee meeting to review group funding requests for events to take place in November or later.
URL:https://ubwp.buffalo.edu/gsa/event/finance-committee-meeting-72/
CATEGORIES:Administrative
ORGANIZER;CN="GSA Treasurer":MAILTO:gsa-treasurer@buffalo.edu
END:VEVENT
BEGIN:VEVENT
DTSTART;VALUE=DATE:20241030
DTEND;VALUE=DATE:20241031
DTSTAMP:20260419T131207
CREATED:20240618T141823Z
LAST-MODIFIED:20250730T162755Z
UID:50513-1730246400-1730332799@ubwp.buffalo.edu
SUMMARY:Club Recognition Application Deadline
DESCRIPTION:According to the mandate of the Graduate Student Association (GSA) Board of Directors\, Special Interest and International Clubs must apply for annual recognition. Recognition must take place at one of the FALL GSA Board Meetings (September 4\, October 2\, November 6\, or December 4). \nAll application materials are due by the close of business at 4:30pm to have your club’s recognition considered at the November 6th Board Meeting.
URL:https://ubwp.buffalo.edu/gsa/event/club-recognition-application-deadline-45/
CATEGORIES:Administrative
END:VEVENT
END:VCALENDAR