BEGIN:VCALENDAR
VERSION:2.0
PRODID:-//Graduate Student Association - ECPv6.15.20//NONSGML v1.0//EN
CALSCALE:GREGORIAN
METHOD:PUBLISH
X-WR-CALNAME:Graduate Student Association
X-ORIGINAL-URL:https://ubwp.buffalo.edu/gsa
X-WR-CALDESC:Events for Graduate Student Association
REFRESH-INTERVAL;VALUE=DURATION:PT1H
X-Robots-Tag:noindex
X-PUBLISHED-TTL:PT1H
BEGIN:VTIMEZONE
TZID:UTC
BEGIN:STANDARD
TZOFFSETFROM:+0000
TZOFFSETTO:+0000
TZNAME:UTC
DTSTART:20220101T000000
END:STANDARD
END:VTIMEZONE
BEGIN:VEVENT
DTSTART;VALUE=DATE:20231009
DTEND;VALUE=DATE:20231011
DTSTAMP:20260425T011034
CREATED:20230629T162420Z
LAST-MODIFIED:20230629T162931Z
UID:28206-1696809600-1696982399@ubwp.buffalo.edu
SUMMARY:GSA Closed
DESCRIPTION:The GSA will be closed for Fall Break
URL:https://ubwp.buffalo.edu/gsa/event/gsa-closed-56/
CATEGORIES:Administrative
END:VEVENT
BEGIN:VEVENT
DTSTART;VALUE=DATE:20231009
DTEND;VALUE=DATE:20231011
DTSTAMP:20260425T011034
CREATED:20230629T162338Z
LAST-MODIFIED:20230629T162338Z
UID:28204-1696809600-1696982399@ubwp.buffalo.edu
SUMMARY:Fall Break
DESCRIPTION:
URL:https://ubwp.buffalo.edu/gsa/event/fall-break/
CATEGORIES:Administrative
END:VEVENT
BEGIN:VEVENT
DTSTART;TZID=UTC:20231004T180000
DTEND;TZID=UTC:20231004T210000
DTSTAMP:20260425T011034
CREATED:20230629T155007Z
LAST-MODIFIED:20230629T155007Z
UID:28178-1696442400-1696453200@ubwp.buffalo.edu
SUMMARY:October Board of Directors Meeting
DESCRIPTION:The October 4th Board of Directors meeting will be held online via Zoom.  GSA Board of Directors meetings are open to the public\, but only designated representatives from Departmental and International clubs may vote. Sign-in begins at 6:00pm so that the meeting can begin promptly at 6:30pm. Once the meeting begins no one else will be admitted for attendance purposes. \nPLEASE NOTE: Every club will need to email Stephanie at slfrank@buffalo.edu no later than 12:00pm on Wednesday\, October 4th with who will be attending the meeting on the club’s behalf so that eligible representatives can be verified in advance.  Once representatives are verified they will be sent the Zoom meeting link and password directly\, along with some instructions on how the meeting will be managed\, in order to be able to participate and vote.  Only previously verified representatives will be admitted to participate in the Zoom meeting. \nFor attendance purposes each Special Interest Club may have one representative participate directly in the Zoom meeting\, but they will not have voting privileges.  Additional special requests for guests and/or speakers to be admitted may be sent to gsa-feedback@buffalo.edu. \nThe meeting will also be live streamed via GSA’s Facebook Page for anyone else that is interested in watching the meeting without voting privileges or an official attendance record\, as meetings are open to the public.
URL:https://ubwp.buffalo.edu/gsa/event/october-board-of-directors-meeting-4/
LOCATION:Online via Zoom
CATEGORIES:Administrative,GSA Event
END:VEVENT
BEGIN:VEVENT
DTSTART;VALUE=DATE:20231002
DTEND;VALUE=DATE:20231003
DTSTAMP:20260425T011034
CREATED:20230629T151909Z
LAST-MODIFIED:20230629T151909Z
UID:28149-1696204800-1696291199@ubwp.buffalo.edu
SUMMARY:Fall Fee Waiver Deadline
DESCRIPTION:Applications for a waiver of any applicable Fall semester student activity fees ($85) are due by close of business at 4:30pm. \nFee waivers may be granted to students who are located at least 75 miles from Buffalo\, or who suffer unusual financial hardship. Please note that being an online student only does not necessarily qualify students for a fee waiver.  Graduate students who have their fees waived will be ineligible for all GSA services.
URL:https://ubwp.buffalo.edu/gsa/event/fall-fee-waiver-deadline-11/
CATEGORIES:Administrative
END:VEVENT
BEGIN:VEVENT
DTSTART;VALUE=DATE:20230930
DTEND;VALUE=DATE:20231001
DTSTAMP:20260425T011034
CREATED:20230629T151823Z
LAST-MODIFIED:20230801T112243Z
UID:28147-1696032000-1696118399@ubwp.buffalo.edu
SUMMARY:Club Election and Activation Paperwork Deadline
DESCRIPTION:Deadline for updated Election and Club Activation Paperwork \nClub packets with all required forms were sent out on August 1st.  All forms must be on file with the GSA office by September 30th or your funds will be frozen. \nFor Departmental Clubs: \nClub Data Form\nOfficer Election Verification Form\nBoard of Directors Election Verification Form\nUBLinked Election Results\nNew Student Orientation Sign-In Sheet \nFor Special Interest and International Clubs that were Early Recognized: \nClub Data Form\nOfficer Election Verification Form\nBoard of Directors Election Verification Form (International Clubs Only)\nUBLinked Election Results\nCopies of UB ID Cards for four (4) club officers\nCopies of UB ID Cards for six (6) club members\nList of Members
URL:https://ubwp.buffalo.edu/gsa/event/club-election-and-activation-paperwork-deadline-9/
CATEGORIES:Administrative
END:VEVENT
BEGIN:VEVENT
DTSTART;TZID=UTC:20230927T183000
DTEND;TZID=UTC:20230927T203000
DTSTAMP:20260425T011034
CREATED:20230628T165623Z
LAST-MODIFIED:20230628T165623Z
UID:28136-1695839400-1695846600@ubwp.buffalo.edu
SUMMARY:Finance Committee Meeting
DESCRIPTION:Finance Committee meeting to review group funding requests for events to take place in October or later.
URL:https://ubwp.buffalo.edu/gsa/event/finance-committee-meeting-70/
CATEGORIES:Administrative
ORGANIZER;CN="GSA Treasurer":MAILTO:gsa-treasurer@buffalo.edu
END:VEVENT
BEGIN:VEVENT
DTSTART;VALUE=DATE:20230927
DTEND;VALUE=DATE:20230928
DTSTAMP:20260425T011034
CREATED:20230628T165304Z
LAST-MODIFIED:20230628T165304Z
UID:28130-1695772800-1695859199@ubwp.buffalo.edu
SUMMARY:Club Recognition Application Deadline
DESCRIPTION:According to the mandate of the Graduate Student Association (GSA) Board of Directors\, Special Interest and International Clubs must apply for annual recognition. Recognition must take place at one of the FALL GSA Board Meetings (September 6\, October 4\, November 1\, or December 6). \nAll application materials are due by the close of business at 4:30pm to have your club’s recognition considered at the September 6th Board Meeting.
URL:https://ubwp.buffalo.edu/gsa/event/club-recognition-application-deadline-40/
CATEGORIES:Administrative
END:VEVENT
BEGIN:VEVENT
DTSTART;VALUE=DATE:20230920
DTEND;VALUE=DATE:20230921
DTSTAMP:20260425T011034
CREATED:20230628T165143Z
LAST-MODIFIED:20230628T165143Z
UID:28128-1695168000-1695254399@ubwp.buffalo.edu
SUMMARY:October Group Funding Applications Deadline
DESCRIPTION:Application materials are due for Special Activities\, Interdepartmental Activities\, Symposium\, Community Outreach and Scholarly Publication funding for events occurring after the October Board of Directors meeting. All application materials due by the close of business at 4:30pm.
URL:https://ubwp.buffalo.edu/gsa/event/october-group-funding-applications-deadline-10/
CATEGORIES:Administrative
END:VEVENT
BEGIN:VEVENT
DTSTART;VALUE=DATE:20230915
DTEND;VALUE=DATE:20230916
DTSTAMP:20260425T011034
CREATED:20230628T165035Z
LAST-MODIFIED:20230628T165035Z
UID:28126-1694736000-1694822399@ubwp.buffalo.edu
SUMMARY:MDRF Fall Application Deadline
DESCRIPTION:Deadline for MDRF grant applications for research to be conducted between November 1\, 2023 and October 31\, 2024. \nComplete grant applications must be submitted online by 3:00pm on Friday\, September 15\, 2023. \nThe last date that applicants may submit their grant to the MDRF Director (gsa-mdrf@buffalo.edu) for review prior to the deadline is Wednesday\, August 30th at 12:00pm.
URL:https://ubwp.buffalo.edu/gsa/event/mdrf-fall-application-deadline-11/
CATEGORIES:Administrative,MDRF
ORGANIZER;CN="MDRF Director":MAILTO:gsa-mdrf@buffalo.edu
END:VEVENT
BEGIN:VEVENT
DTSTART;VALUE=DATE:20230915
DTEND;VALUE=DATE:20230916
DTSTAMP:20260425T011034
CREATED:20230627T153649Z
LAST-MODIFIED:20230627T153649Z
UID:28046-1694736000-1694822399@ubwp.buffalo.edu
SUMMARY:Deadline for October Conference Funding Applications
DESCRIPTION:All applications for Conference Funding for conferences during the month of October are due by the close of business at 4:30pm. \nThe GSA Conference Funding Application is now available as an online form on GSA’s UBLinked page.  Please note that you must be signed in to UBLinked and “Join” as a member of GSA in order to be able to access the form on the Homepage.
URL:https://ubwp.buffalo.edu/gsa/event/deadline-for-october-conference-funding-applications-10/
CATEGORIES:Administrative
END:VEVENT
BEGIN:VEVENT
DTSTART;TZID=UTC:20230906T180000
DTEND;TZID=UTC:20230906T210000
DTSTAMP:20260425T011034
CREATED:20230628T164834Z
LAST-MODIFIED:20230628T164834Z
UID:28124-1694023200-1694034000@ubwp.buffalo.edu
SUMMARY:September Board of Directors Meeting
DESCRIPTION:The September 6th Board of Directors meeting will be held online via Zoom.  GSA Board of Directors meetings are open to the public\, but only designated representatives from Departmental and International clubs may vote. Sign-in begins at 6:00pm so that the meeting can begin promptly at 6:30pm. Once the meeting begins no one else will be admitted for attendance purposes. \n**If your club has not yet held elections for new Board Members and submitted the Board of Election Verification Form by 12:00pm (noon) on this meeting date\, then last year’s club Board Members and Alternates will be the only ones able to sign-in with voting privileges. \nPLEASE NOTE: Every club will need to email Stephanie at slfrank@buffalo.edu no later than 12:00pm on Wednesday\, September 6th with who will be attending the meeting on the club’s behalf so that eligible representatives can be verified in advance.  Once representatives are verified they will be sent the Zoom meeting link and password directly\, along with some instructions on how the meeting will be managed\, in order to be able to participate and vote.  Only previously verified representatives will be admitted to participate in the Zoom meeting. \n\n\nFor attendance purposes each Special Interest Club may have one representative participate directly in the Zoom meeting\, but they will not have voting privileges.  Additional special requests for guests and/or speakers to be admitted may be sent to gsa-feedback@buffalo.edu. \nThe meeting will also be live streamed via GSA’s Facebook Page for anyone else that is interested in watching the meeting without voting privileges or an official attendance record\, as meetings are open to the public.
URL:https://ubwp.buffalo.edu/gsa/event/september-board-of-directors-meeting-4/
LOCATION:Online via Zoom
CATEGORIES:Administrative,GSA Event
END:VEVENT
BEGIN:VEVENT
DTSTART;VALUE=DATE:20230904
DTEND;VALUE=DATE:20230905
DTSTAMP:20260425T011034
CREATED:20230628T163748Z
LAST-MODIFIED:20230628T163748Z
UID:28122-1693785600-1693871999@ubwp.buffalo.edu
SUMMARY:GSA Closed
DESCRIPTION:GSA will be closed for Labor Day observance.
URL:https://ubwp.buffalo.edu/gsa/event/gsa-closed-55/
CATEGORIES:Administrative
END:VEVENT
BEGIN:VEVENT
DTSTART;TZID=UTC:20230830T183000
DTEND;TZID=UTC:20230830T203000
DTSTAMP:20260425T011034
CREATED:20230628T163621Z
LAST-MODIFIED:20230628T163621Z
UID:28120-1693420200-1693427400@ubwp.buffalo.edu
SUMMARY:Finance Committee Meeting
DESCRIPTION:Finance Committee meeting to review group funding requests for events to take place in September or later.
URL:https://ubwp.buffalo.edu/gsa/event/finance-committee-meeting-69/
CATEGORIES:Administrative
ORGANIZER;CN="GSA Treasurer":MAILTO:gsa-treasurer@buffalo.edu
END:VEVENT
BEGIN:VEVENT
DTSTART;VALUE=DATE:20230830
DTEND;VALUE=DATE:20230831
DTSTAMP:20260425T011034
CREATED:20230628T163532Z
LAST-MODIFIED:20230628T163532Z
UID:28118-1693353600-1693439999@ubwp.buffalo.edu
SUMMARY:Club Recognition Application Deadline
DESCRIPTION:According to the mandate of the Graduate Student Association (GSA) Board of Directors\, Special Interest and International Clubs must apply for annual recognition. Recognition must take place at one of the FALL GSA Board Meetings (September 6\, October 4\, November 1\, or December 6). \nAll application materials are due by the close of business at 4:30pm to have your club’s recognition considered at the September 6th Board Meeting.
URL:https://ubwp.buffalo.edu/gsa/event/club-recognition-application-deadline-39/
CATEGORIES:Administrative
END:VEVENT
BEGIN:VEVENT
DTSTART;VALUE=DATE:20230830
DTEND;VALUE=DATE:20230831
DTSTAMP:20260425T011034
CREATED:20230628T163433Z
LAST-MODIFIED:20230628T163433Z
UID:28116-1693353600-1693439999@ubwp.buffalo.edu
SUMMARY:September Group Funding Applications Deadline
DESCRIPTION:Application materials are due for Special Activities\, Interdepartmental Activities\, Symposium\, Community Outreach and Scholarly Publication funding for events occurring after the September Board of Directors meeting. All application materials due by the close of business at 4:30pm.
URL:https://ubwp.buffalo.edu/gsa/event/september-group-funding-applications-deadline-10/
CATEGORIES:Administrative
END:VEVENT
BEGIN:VEVENT
DTSTART;VALUE=DATE:20230828
DTEND;VALUE=DATE:20230829
DTSTAMP:20260425T011034
CREATED:20230628T163319Z
LAST-MODIFIED:20230628T163319Z
UID:28114-1693180800-1693267199@ubwp.buffalo.edu
SUMMARY:Fall Classes Begin
DESCRIPTION:
URL:https://ubwp.buffalo.edu/gsa/event/fall-classes-begin-9/
CATEGORIES:Administrative
END:VEVENT
BEGIN:VEVENT
DTSTART;VALUE=DATE:20230825
DTEND;VALUE=DATE:20230826
DTSTAMP:20260425T011034
CREATED:20220620T171407Z
LAST-MODIFIED:20220620T171407Z
UID:27166-1692921600-1693007999@ubwp.buffalo.edu
SUMMARY:GSA Closed
DESCRIPTION:GSA Summer Office Hours: Monday – Thursday 8:30am – 4:00pm\, closed on Fridays.
URL:https://ubwp.buffalo.edu/gsa/event/gsa-closed-51/
CATEGORIES:Administrative
END:VEVENT
BEGIN:VEVENT
DTSTART;VALUE=DATE:20230823
DTEND;VALUE=DATE:20230825
DTSTAMP:20260425T011034
CREATED:20230801T112554Z
LAST-MODIFIED:20230801T112554Z
UID:28323-1692748800-1692921599@ubwp.buffalo.edu
SUMMARY:GSA Closed
DESCRIPTION:Please note that GSA will be closed on Wednesday\, August 23rd and Thursday\, August 24th.
URL:https://ubwp.buffalo.edu/gsa/event/gsa-closed-81/
CATEGORIES:Administrative
END:VEVENT
BEGIN:VEVENT
DTSTART;VALUE=DATE:20230818
DTEND;VALUE=DATE:20230819
DTSTAMP:20260425T011034
CREATED:20220620T171335Z
LAST-MODIFIED:20220620T171335Z
UID:27164-1692316800-1692403199@ubwp.buffalo.edu
SUMMARY:GSA Closed
DESCRIPTION:GSA Summer Office Hours: Monday – Thursday 8:30am – 4:00pm\, closed on Fridays.
URL:https://ubwp.buffalo.edu/gsa/event/gsa-closed-50/
CATEGORIES:Administrative
END:VEVENT
BEGIN:VEVENT
DTSTART;VALUE=DATE:20230815
DTEND;VALUE=DATE:20230816
DTSTAMP:20260425T011034
CREATED:20230627T134009Z
LAST-MODIFIED:20230627T134009Z
UID:28038-1692057600-1692143999@ubwp.buffalo.edu
SUMMARY:Deadline for September Conference Funding Applications
DESCRIPTION:All applications for Conference Funding for conferences during the month of September are due by the close of business at 4:00pm. \nThe GSA Conference Funding Application is now available as an online form on GSA’s UBLinked page.  Please note that you must be signed in to UBLinked and “Join” as a member of GSA in order to be able to access the form on the Homepage.
URL:https://ubwp.buffalo.edu/gsa/event/deadline-for-september-conference-funding-applications-10/
CATEGORIES:Administrative
END:VEVENT
BEGIN:VEVENT
DTSTART;VALUE=DATE:20230811
DTEND;VALUE=DATE:20230812
DTSTAMP:20260425T011034
CREATED:20220620T171236Z
LAST-MODIFIED:20220620T171236Z
UID:27162-1691712000-1691798399@ubwp.buffalo.edu
SUMMARY:GSA Closed
DESCRIPTION:GSA Summer Office Hours: Monday – Thursday 8:30am – 4:00pm\, closed on Fridays.
URL:https://ubwp.buffalo.edu/gsa/event/gsa-closed-49/
CATEGORIES:Administrative
END:VEVENT
BEGIN:VEVENT
DTSTART;VALUE=DATE:20230804
DTEND;VALUE=DATE:20230805
DTSTAMP:20260425T011034
CREATED:20220620T171150Z
LAST-MODIFIED:20220620T171150Z
UID:27160-1691107200-1691193599@ubwp.buffalo.edu
SUMMARY:GSA Closed
DESCRIPTION:GSA Summer Office Hours: Monday – Thursday 8:30am – 4:00pm\, closed on Fridays.
URL:https://ubwp.buffalo.edu/gsa/event/gsa-closed-48/
CATEGORIES:Administrative
END:VEVENT
BEGIN:VEVENT
DTSTART;VALUE=DATE:20230728
DTEND;VALUE=DATE:20230729
DTSTAMP:20260425T011034
CREATED:20220620T171119Z
LAST-MODIFIED:20220620T171119Z
UID:27158-1690502400-1690588799@ubwp.buffalo.edu
SUMMARY:GSA Closed
DESCRIPTION:GSA Summer Office Hours: Monday – Thursday 8:30am – 4:00pm\, closed on Fridays.
URL:https://ubwp.buffalo.edu/gsa/event/gsa-closed-47/
CATEGORIES:Administrative
END:VEVENT
BEGIN:VEVENT
DTSTART;VALUE=DATE:20230724
DTEND;VALUE=DATE:20230725
DTSTAMP:20260425T011034
CREATED:20220620T171614Z
LAST-MODIFIED:20220620T171614Z
UID:27168-1690156800-1690243199@ubwp.buffalo.edu
SUMMARY:Summer Paperwork Deadline
DESCRIPTION:All paperwork for pre-requisitioned Summer expenditures (June – July) are due by close of business at 4:00pm on this date\, or the requests will be voided.
URL:https://ubwp.buffalo.edu/gsa/event/summer-paperwork-deadline-10/
CATEGORIES:Administrative
END:VEVENT
BEGIN:VEVENT
DTSTART;VALUE=DATE:20230721
DTEND;VALUE=DATE:20230722
DTSTAMP:20260425T011034
CREATED:20220620T171045Z
LAST-MODIFIED:20220620T171045Z
UID:27156-1689897600-1689983999@ubwp.buffalo.edu
SUMMARY:GSA Closed
DESCRIPTION:GSA Summer Office Hours: Monday – Thursday 8:30am – 4:00pm\, closed on Fridays.
URL:https://ubwp.buffalo.edu/gsa/event/gsa-closed-46/
CATEGORIES:Administrative
END:VEVENT
BEGIN:VEVENT
DTSTART;VALUE=DATE:20230715
DTEND;VALUE=DATE:20230716
DTSTAMP:20260425T011034
CREATED:20220620T153206Z
LAST-MODIFIED:20220620T153206Z
UID:27013-1689379200-1689465599@ubwp.buffalo.edu
SUMMARY:Summer Fee Waiver Deadline
DESCRIPTION:Applications for a waiver of any applicable Summer semester student activity fees ($5 per session\, not to exceed $10) are due by close of business at 4:00pm. \nFee waivers may be granted to students who are located at least 75 miles from Buffalo\, or who suffer unusual financial hardship. Please note that being an online student only does not necessarily qualify students for a fee waiver.  Graduate students who have their fees waived will be ineligible for all GSA services.
URL:https://ubwp.buffalo.edu/gsa/event/summer-fee-waiver-deadline-10/
CATEGORIES:Administrative
END:VEVENT
BEGIN:VEVENT
DTSTART;VALUE=DATE:20230715
DTEND;VALUE=DATE:20230716
DTSTAMP:20260425T011034
CREATED:20220620T153025Z
LAST-MODIFIED:20220620T153025Z
UID:27010-1689379200-1689465599@ubwp.buffalo.edu
SUMMARY:Deadline for August Conference Funding Applications
DESCRIPTION:All applications for Conference Funding for conferences during the month of August are due by the close of business at 4:30pm. \nThe GSA Conference Funding Application is now available as an online form on GSA’s UBLinked page.  Please note that you must be signed in to UBLinked and “Join” as a member of GSA in order to be able to access the form on the Homepage.
URL:https://ubwp.buffalo.edu/gsa/event/deadline-for-august-conference-funding-applications-10/
CATEGORIES:Administrative
END:VEVENT
BEGIN:VEVENT
DTSTART;VALUE=DATE:20230714
DTEND;VALUE=DATE:20230715
DTSTAMP:20260425T011034
CREATED:20220620T171016Z
LAST-MODIFIED:20220620T171016Z
UID:27154-1689292800-1689379199@ubwp.buffalo.edu
SUMMARY:GSA Closed
DESCRIPTION:GSA Summer Office Hours: Monday – Thursday 8:30am – 4:00pm\, closed on Fridays.
URL:https://ubwp.buffalo.edu/gsa/event/gsa-closed-45/
CATEGORIES:Administrative
END:VEVENT
BEGIN:VEVENT
DTSTART;VALUE=DATE:20230707
DTEND;VALUE=DATE:20230708
DTSTAMP:20260425T011034
CREATED:20220620T170945Z
LAST-MODIFIED:20220620T170945Z
UID:27152-1688688000-1688774399@ubwp.buffalo.edu
SUMMARY:GSA Closed
DESCRIPTION:GSA Summer Office Hours: Monday – Thursday 8:30am – 4:00pm\, closed on Fridays.
URL:https://ubwp.buffalo.edu/gsa/event/gsa-closed-44/
CATEGORIES:Administrative
END:VEVENT
BEGIN:VEVENT
DTSTART;VALUE=DATE:20230703
DTEND;VALUE=DATE:20230705
DTSTAMP:20260425T011034
CREATED:20220620T170856Z
LAST-MODIFIED:20230606T164214Z
UID:27150-1688342400-1688515199@ubwp.buffalo.edu
SUMMARY:GSA Closed
DESCRIPTION:The GSA office will be closed July 3rd and 4th for Independence Day observance.
URL:https://ubwp.buffalo.edu/gsa/event/gsa-closed-43/
CATEGORIES:Administrative
END:VEVENT
END:VCALENDAR