BEGIN:VCALENDAR
VERSION:2.0
PRODID:-//Graduate Student Association - ECPv6.15.20//NONSGML v1.0//EN
CALSCALE:GREGORIAN
METHOD:PUBLISH
X-WR-CALNAME:Graduate Student Association
X-ORIGINAL-URL:https://ubwp.buffalo.edu/gsa
X-WR-CALDESC:Events for Graduate Student Association
REFRESH-INTERVAL;VALUE=DURATION:PT1H
X-Robots-Tag:noindex
X-PUBLISHED-TTL:PT1H
BEGIN:VTIMEZONE
TZID:UTC
BEGIN:STANDARD
TZOFFSETFROM:+0000
TZOFFSETTO:+0000
TZNAME:UTC
DTSTART:20230101T000000
END:STANDARD
END:VTIMEZONE
BEGIN:VEVENT
DTSTART;VALUE=DATE:20240517
DTEND;VALUE=DATE:20240520
DTSTAMP:20260422T062259
CREATED:20230629T194850Z
LAST-MODIFIED:20230629T194850Z
UID:28248-1715904000-1716163199@ubwp.buffalo.edu
SUMMARY:Commencement Weekend
DESCRIPTION:
URL:https://ubwp.buffalo.edu/gsa/event/commencement-weekend-10/
CATEGORIES:Administrative
END:VEVENT
BEGIN:VEVENT
DTSTART;VALUE=DATE:20240517
DTEND;VALUE=DATE:20240518
DTSTAMP:20260422T062259
CREATED:20230629T153613Z
LAST-MODIFIED:20240509T105424Z
UID:28161-1715904000-1715990399@ubwp.buffalo.edu
SUMMARY:MDRF Summer Application Deadline
DESCRIPTION:Deadline for MDRF grant applications for research to be conducted between July 1\, 2024 and June 30\, 2025. \nComplete grant applications must be submitted online by 3:00pm on Friday\, May 17\, 2024. \n\n\nThe last date that applicants may submit their grant to the MDRF Director (gsa-mdrf@buffalo.edu) for review prior to the deadline is Wednesday\, May 1st at 12:00pm. \n**Please note that price quote exemption requests will only be accepted until Wednesday\, May 8th at 12:00pm.**
URL:https://ubwp.buffalo.edu/gsa/event/mdrf-summer-application-deadline-9/
CATEGORIES:Administrative,MDRF
ORGANIZER;CN="MDRF Director":MAILTO:gsa-mdrf@buffalo.edu
END:VEVENT
BEGIN:VEVENT
DTSTART;VALUE=DATE:20240515
DTEND;VALUE=DATE:20240516
DTSTAMP:20260422T062259
CREATED:20230627T154535Z
LAST-MODIFIED:20230627T154535Z
UID:28063-1715731200-1715817599@ubwp.buffalo.edu
SUMMARY:Deadline for June Conference Funding Applications
DESCRIPTION:All applications for Conference Funding for conferences during the month of June are due by the close of business at 4:00pm. \nThe GSA Conference Funding Application is now available as an online form on GSA’s UBLinked page.  Please note that you must be signed in to UBLinked and “Join” as a member of GSA in order to be able to access the form on the Homepage.
URL:https://ubwp.buffalo.edu/gsa/event/deadline-for-june-conference-funding-applications-11/
CATEGORIES:Administrative
END:VEVENT
BEGIN:VEVENT
DTSTART;VALUE=DATE:20240507
DTEND;VALUE=DATE:20240508
DTSTAMP:20260422T062259
CREATED:20230629T194753Z
LAST-MODIFIED:20230629T194753Z
UID:28246-1715040000-1715126399@ubwp.buffalo.edu
SUMMARY:Last Day of Spring Classes
DESCRIPTION:
URL:https://ubwp.buffalo.edu/gsa/event/last-day-of-spring-classes-9/
CATEGORIES:Administrative
END:VEVENT
BEGIN:VEVENT
DTSTART;VALUE=DATE:20240415
DTEND;VALUE=DATE:20240416
DTSTAMP:20260422T062259
CREATED:20230627T154455Z
LAST-MODIFIED:20230627T154455Z
UID:28060-1713139200-1713225599@ubwp.buffalo.edu
SUMMARY:Deadline for May Conference Funding Applications
DESCRIPTION:All applications for Conference Funding for conferences during the month of May are due by the close of business at 4:30pm. \nThe GSA Conference Funding Application is now available as an online form on GSA’s UBLinked page.  Please note that you must be signed in to UBLinked and “Join” as a member of GSA in order to be able to access the form on the Homepage.
URL:https://ubwp.buffalo.edu/gsa/event/deadline-for-may-conference-funding-applications-11/
CATEGORIES:Administrative
END:VEVENT
BEGIN:VEVENT
DTSTART;TZID=UTC:20240403T180000
DTEND;TZID=UTC:20240403T210000
DTSTAMP:20260422T062259
CREATED:20230629T155612Z
LAST-MODIFIED:20230629T155612Z
UID:28188-1712167200-1712178000@ubwp.buffalo.edu
SUMMARY:April Board of Directors Meeting
DESCRIPTION:The April 3rd Board of Directors meeting will be held online via Zoom.  GSA Board of Directors meetings are open to the public\, but only designated representatives from Departmental and International clubs may vote. Sign-in begins at 6:00pm so that the meeting can begin promptly at 6:30pm. Once the meeting begins no one else will be admitted for attendance purposes. \nPLEASE NOTE: Every club will need to email Stephanie at slfrank@buffalo.edu no later than 12:00pm on Wednesday\, April 3rd with who will be attending the meeting on the club’s behalf so that eligible representatives can be verified in advance.  Once representatives are verified they will be sent the Zoom meeting link and password directly\, along with some instructions on how the meeting will be managed\, in order to be able to participate and vote.  Only previously verified representatives will be admitted to participate in the Zoom meeting. \nFor attendance purposes each Special Interest Club may have one representative participate directly in the Zoom meeting\, but they will not have voting privileges.  Additional special requests for guests and/or speakers to be admitted may be sent to gsa-feedback@buffalo.edu. \nThe meeting will also be live streamed via GSA’s Facebook Page for anyone else that is interested in watching the meeting without voting privileges or an official attendance record\, as meetings are open to the public.
URL:https://ubwp.buffalo.edu/gsa/event/april-board-of-directors-meeting-4/
LOCATION:Online via Zoom
CATEGORIES:Administrative,GSA Event
END:VEVENT
BEGIN:VEVENT
DTSTART;TZID=UTC:20240327T183000
DTEND;TZID=UTC:20240327T203000
DTSTAMP:20260422T062259
CREATED:20230629T160921Z
LAST-MODIFIED:20240618T133313Z
UID:28202-1711564200-1711571400@ubwp.buffalo.edu
SUMMARY:Finance Committee Meeting
DESCRIPTION:This will be the final Finance Committee meeting of the year to review all group funding requests for events taking place between April and July. This will also be the last meeting at which club requests for capital equipment can be reviewed and approved.
URL:https://ubwp.buffalo.edu/gsa/event/finance-committee-meeting-76/
CATEGORIES:Administrative
ORGANIZER;CN="GSA Treasurer":MAILTO:gsa-treasurer@buffalo.edu
END:VEVENT
BEGIN:VEVENT
DTSTART;VALUE=DATE:20240322
DTEND;VALUE=DATE:20240323
DTSTAMP:20260422T062259
CREATED:20230629T194429Z
LAST-MODIFIED:20230629T194429Z
UID:28244-1711065600-1711151999@ubwp.buffalo.edu
SUMMARY:GSA Closed
DESCRIPTION:Spring Break: GSA Office open Monday – Thursday 8:30am – 4:00pm\, closed on Friday\, March 22nd.
URL:https://ubwp.buffalo.edu/gsa/event/gsa-closed-63/
CATEGORIES:Administrative
END:VEVENT
BEGIN:VEVENT
DTSTART;VALUE=DATE:20240320
DTEND;VALUE=DATE:20240321
DTSTAMP:20260422T062259
CREATED:20230629T154722Z
LAST-MODIFIED:20230629T154722Z
UID:28176-1710892800-1710979199@ubwp.buffalo.edu
SUMMARY:May-July Group Funding Applications Deadline
DESCRIPTION:Application materials are due for Special Activities\, Interdepartmental Activities\, Symposium and Community Outreach funding for events occurring after the April Board of Directors meeting. All application materials due by the close of business at 4:30pm.
URL:https://ubwp.buffalo.edu/gsa/event/may-july-group-funding-applications-deadline-7/
CATEGORIES:Administrative
END:VEVENT
BEGIN:VEVENT
DTSTART;VALUE=DATE:20240318
DTEND;VALUE=DATE:20240322
DTSTAMP:20260422T062259
CREATED:20230629T194404Z
LAST-MODIFIED:20230629T194404Z
UID:28242-1710720000-1711065599@ubwp.buffalo.edu
SUMMARY:GSA on Summer Hours
DESCRIPTION:Spring Break: GSA Office open Monday – Thursday 8:30am – 4:00pm\, closed on Friday\, March 22nd.
URL:https://ubwp.buffalo.edu/gsa/event/gsa-on-summer-hours-19/
CATEGORIES:Administrative
END:VEVENT
BEGIN:VEVENT
DTSTART;VALUE=DATE:20240318
DTEND;VALUE=DATE:20240324
DTSTAMP:20260422T062259
CREATED:20230629T194233Z
LAST-MODIFIED:20230629T194233Z
UID:28240-1710720000-1711238399@ubwp.buffalo.edu
SUMMARY:Spring Break
DESCRIPTION:
URL:https://ubwp.buffalo.edu/gsa/event/spring-break/
CATEGORIES:Administrative
END:VEVENT
BEGIN:VEVENT
DTSTART;VALUE=DATE:20240315
DTEND;VALUE=DATE:20240316
DTSTAMP:20260422T062259
CREATED:20230627T154402Z
LAST-MODIFIED:20230627T154402Z
UID:28058-1710460800-1710547199@ubwp.buffalo.edu
SUMMARY:Deadline for April Conference Funding Applications
DESCRIPTION:All applications for Conference Funding for conferences during the month of April are due by the close of business at 4:30pm. \nThe GSA Conference Funding Application is now available as an online form on GSA’s UBLinked page.  Please note that you must be signed in to UBLinked and “Join” as a member of GSA in order to be able to access the form on the Homepage.
URL:https://ubwp.buffalo.edu/gsa/event/deadline-for-april-conference-funding-applications-11/
CATEGORIES:Administrative
END:VEVENT
BEGIN:VEVENT
DTSTART;TZID=UTC:20240306T180000
DTEND;TZID=UTC:20240306T210000
DTSTAMP:20260422T062259
CREATED:20230629T155457Z
LAST-MODIFIED:20230629T155457Z
UID:28186-1709748000-1709758800@ubwp.buffalo.edu
SUMMARY:March Board of Directors Meeting
DESCRIPTION:The March 6th Board of Directors meeting will be held online via Zoom.  GSA Board of Directors meetings are open to the public\, but only designated representatives from Departmental and International clubs may vote. Sign-in begins at 6:00pm so that the meeting can begin promptly at 6:30pm. Once the meeting begins no one else will be admitted for attendance purposes. \nPLEASE NOTE: Every club will need to email Stephanie at slfrank@buffalo.edu no later than 12:00pm on Wednesday\, March 6th with who will be attending the meeting on the club’s behalf so that eligible representatives can be verified in advance.  Once representatives are verified they will be sent the Zoom meeting link and password directly\, along with some instructions on how the meeting will be managed\, in order to be able to participate and vote.  Only previously verified representatives will be admitted to participate in the Zoom meeting. \nFor attendance purposes each Special Interest Club may have one representative participate directly in the Zoom meeting\, but they will not have voting privileges.  Additional special requests for guests and/or speakers to be admitted may be sent to gsa-feedback@buffalo.edu. \nThe meeting will also be live streamed via GSA’s Facebook Page  for anyone else that is interested in watching the meeting without voting privileges or an official attendance record\, as meetings are open to the public.
URL:https://ubwp.buffalo.edu/gsa/event/march-board-of-directors-meeting-4/
LOCATION:Online via Zoom
CATEGORIES:Administrative,GSA Event
END:VEVENT
BEGIN:VEVENT
DTSTART;VALUE=DATE:20240301
DTEND;VALUE=DATE:20240302
DTSTAMP:20260422T062259
CREATED:20230629T151956Z
LAST-MODIFIED:20230629T151956Z
UID:28151-1709251200-1709337599@ubwp.buffalo.edu
SUMMARY:Spring Fee Waiver Deadline
DESCRIPTION:Applications for a waiver of any applicable Spring semester student activity fees ($85) are due by close of business at 4:30pm. \nFee waivers may be granted to students who are located at least 75 miles from Buffalo\, or who suffer unusual financial hardship. Please note that being an online student only does not necessarily qualify students for a fee waiver.  Graduate students who have their fees waived will be ineligible for all GSA services.
URL:https://ubwp.buffalo.edu/gsa/event/spring-fee-waiver-deadline-11/
CATEGORIES:Administrative
END:VEVENT
BEGIN:VEVENT
DTSTART;TZID=UTC:20240228T183000
DTEND;TZID=UTC:20240228T203000
DTSTAMP:20260422T062259
CREATED:20230629T160817Z
LAST-MODIFIED:20230629T160817Z
UID:28200-1709145000-1709152200@ubwp.buffalo.edu
SUMMARY:Finance Committee Meeting
DESCRIPTION:Finance Committee meeting to review group funding requests for events to take place in March or later.
URL:https://ubwp.buffalo.edu/gsa/event/finance-committee-meeting-75/
CATEGORIES:Administrative
ORGANIZER;CN="GSA Treasurer":MAILTO:gsa-treasurer@buffalo.edu
END:VEVENT
BEGIN:VEVENT
DTSTART;VALUE=DATE:20240221
DTEND;VALUE=DATE:20240222
DTSTAMP:20260422T062259
CREATED:20230629T154635Z
LAST-MODIFIED:20230629T154635Z
UID:28174-1708473600-1708559999@ubwp.buffalo.edu
SUMMARY:March/April Group Funding Applications Deadline
DESCRIPTION:Application materials are due for Special Activities\, Interdepartmental Activities\, Symposium and Community Outreach funding for events occurring after the March Board of Directors meeting. All application materials due by the close of business at 4:30pm.
URL:https://ubwp.buffalo.edu/gsa/event/march-april-group-funding-applications-deadline-5/
CATEGORIES:Administrative
END:VEVENT
BEGIN:VEVENT
DTSTART;VALUE=DATE:20240216
DTEND;VALUE=DATE:20240217
DTSTAMP:20260422T062259
CREATED:20230629T152349Z
LAST-MODIFIED:20230629T152349Z
UID:28159-1708041600-1708127999@ubwp.buffalo.edu
SUMMARY:MDRF Spring Application Deadline
DESCRIPTION:Deadline for MDRF grant applications for research to be conducted between April 1\, 2024 and March 31\, 2025. \nComplete grant applications must be submitted online by 3:00pm on Friday\, February 16\, 2024. \nThe last date that applicants may submit their grant to the MDRF Director (gsa-mdrf@buffalo.edu) for review prior to the deadline is Wednesday\, January 31st at 12:00pm.
URL:https://ubwp.buffalo.edu/gsa/event/mdrf-spring-application-deadline-10/
CATEGORIES:Administrative,MDRF
ORGANIZER;CN="MDRF Director":MAILTO:gsa-mdrf@buffalo.edu
END:VEVENT
BEGIN:VEVENT
DTSTART;VALUE=DATE:20240215
DTEND;VALUE=DATE:20240216
DTSTAMP:20260422T062259
CREATED:20230627T154318Z
LAST-MODIFIED:20230627T154318Z
UID:28056-1707955200-1708041599@ubwp.buffalo.edu
SUMMARY:Deadline for March Conference Funding Applications
DESCRIPTION:All applications for Conference Funding for conferences during the month of March are due by the close of business at 4:30pm. \nThe GSA Conference Funding Application is now available as an online form on GSA’s UBLinked page.  Please note that you must be signed in to UBLinked and “Join” as a member of GSA in order to be able to access the form on the Homepage.
URL:https://ubwp.buffalo.edu/gsa/event/deadline-for-march-conference-funding-applications-11/
CATEGORIES:Administrative
END:VEVENT
BEGIN:VEVENT
DTSTART;TZID=UTC:20240207T180000
DTEND;TZID=UTC:20240207T210000
DTSTAMP:20260422T062259
CREATED:20230629T155337Z
LAST-MODIFIED:20230629T155337Z
UID:28184-1707328800-1707339600@ubwp.buffalo.edu
SUMMARY:February Board of Directors Meeting
DESCRIPTION:The February 7th Board of Directors meeting will be held online via Zoom.  GSA Board of Directors meetings are open to the public\, but only designated representatives from Departmental and International clubs may vote. Sign-in begins at 6:00pm so that the meeting can begin promptly at 6:30pm. Once the meeting begins no one else will be admitted for attendance purposes. \nPLEASE NOTE: Every club will need to email Stephanie at slfrank@buffalo.edu no later than 12:00pm on Wednesday\, February 7th with who will be attending the meeting on the club’s behalf so that eligible representatives can be verified in advance.  Once representatives are verified they will be sent the Zoom meeting link and password directly\, along with some instructions on how the meeting will be managed\, in order to be able to participate and vote.  Only previously verified representatives will be admitted to participate in the Zoom meeting. \nFor attendance purposes each Special Interest Club may have one representative participate directly in the Zoom meeting\, but they will not have voting privileges.  Additional special requests for guests and/or speakers to be admitted may be sent to gsa-feedback@buffalo.edu. \nThe meeting will also be live streamed via GSA’s Facebook Page for anyone else that is interested in watching the meeting without voting privileges or an official attendance record\, as meetings are open to the public.
URL:https://ubwp.buffalo.edu/gsa/event/february-board-of-directors-meeting-4/
LOCATION:Online via Zoom
CATEGORIES:Administrative,GSA Event
END:VEVENT
BEGIN:VEVENT
DTSTART;TZID=UTC:20240131T183000
DTEND;TZID=UTC:20240131T203000
DTSTAMP:20260422T062259
CREATED:20230629T160718Z
LAST-MODIFIED:20230629T160718Z
UID:28197-1706725800-1706733000@ubwp.buffalo.edu
SUMMARY:Finance Committee Meeting
DESCRIPTION:Finance Committee meeting to review group funding requests for events to take place in February or later.
URL:https://ubwp.buffalo.edu/gsa/event/finance-committee-meeting-74/
CATEGORIES:Administrative
ORGANIZER;CN="GSA Treasurer":MAILTO:gsa-treasurer@buffalo.edu
END:VEVENT
BEGIN:VEVENT
DTSTART;VALUE=DATE:20240124
DTEND;VALUE=DATE:20240125
DTSTAMP:20260422T062259
CREATED:20230629T193431Z
LAST-MODIFIED:20230629T193431Z
UID:28234-1706054400-1706140799@ubwp.buffalo.edu
SUMMARY:Spring Classes Begin
DESCRIPTION:
URL:https://ubwp.buffalo.edu/gsa/event/spring-classes-begin-9/
CATEGORIES:Administrative
END:VEVENT
BEGIN:VEVENT
DTSTART;VALUE=DATE:20240124
DTEND;VALUE=DATE:20240125
DTSTAMP:20260422T062259
CREATED:20230629T154551Z
LAST-MODIFIED:20230629T154551Z
UID:28172-1706054400-1706140799@ubwp.buffalo.edu
SUMMARY:February Group Funding Applications Deadline
DESCRIPTION:Application materials are due for Special Activities\, Interdepartmental Activities\, Symposium and Community Outreach funding for events occurring after the February Board of Directors meeting. All application materials due by the close of business at 4:00pm.
URL:https://ubwp.buffalo.edu/gsa/event/february-group-funding-applications-deadline-11/
CATEGORIES:Administrative
END:VEVENT
BEGIN:VEVENT
DTSTART;VALUE=DATE:20240122
DTEND;VALUE=DATE:20240124
DTSTAMP:20260422T062259
CREATED:20230629T193349Z
LAST-MODIFIED:20230629T193349Z
UID:28232-1705881600-1706054399@ubwp.buffalo.edu
SUMMARY:GSA on Summer Hours
DESCRIPTION:The GSA office will be open for Summer Hours: Monday and Tuesday 8:30am – 4:00pm.
URL:https://ubwp.buffalo.edu/gsa/event/gsa-on-summer-hours-18/
CATEGORIES:Administrative
END:VEVENT
BEGIN:VEVENT
DTSTART;VALUE=DATE:20240119
DTEND;VALUE=DATE:20240120
DTSTAMP:20260422T062259
CREATED:20230629T193255Z
LAST-MODIFIED:20230629T193255Z
UID:28230-1705622400-1705708799@ubwp.buffalo.edu
SUMMARY:GSA Closed
DESCRIPTION:The GSA office will be open for Summer Hours: Tuesday to Thursday 8:30am – 4:00pm\, closed on Friday\, January 19th.
URL:https://ubwp.buffalo.edu/gsa/event/gsa-closed-61/
CATEGORIES:Administrative
END:VEVENT
BEGIN:VEVENT
DTSTART;VALUE=DATE:20240116
DTEND;VALUE=DATE:20240119
DTSTAMP:20260422T062259
CREATED:20230629T193233Z
LAST-MODIFIED:20230629T193233Z
UID:28228-1705363200-1705622399@ubwp.buffalo.edu
SUMMARY:GSA on Summer Hours
DESCRIPTION:The GSA office will be open for Summer Hours: Tuesday to Thursday 8:30am – 4:00pm\, closed on Friday\, January 19th.
URL:https://ubwp.buffalo.edu/gsa/event/gsa-on-summer-hours-17/
CATEGORIES:Administrative
END:VEVENT
BEGIN:VEVENT
DTSTART;VALUE=DATE:20240115
DTEND;VALUE=DATE:20240116
DTSTAMP:20260422T062259
CREATED:20230629T193138Z
LAST-MODIFIED:20230629T193138Z
UID:28226-1705276800-1705363199@ubwp.buffalo.edu
SUMMARY:GSA Closed
DESCRIPTION:The GSA will be closed for Martin Luther King Jr. Day observance.
URL:https://ubwp.buffalo.edu/gsa/event/gsa-closed-60/
CATEGORIES:Administrative
END:VEVENT
BEGIN:VEVENT
DTSTART;VALUE=DATE:20240115
DTEND;VALUE=DATE:20240116
DTSTAMP:20260422T062259
CREATED:20230627T154240Z
LAST-MODIFIED:20230627T154240Z
UID:28054-1705276800-1705363199@ubwp.buffalo.edu
SUMMARY:Deadline for February Conference Funding Applications
DESCRIPTION:All applications for Conference Funding for conferences during the month of February are due by the close of business at 4:00pm. \nThe GSA Conference Funding Application is now available as an online form on GSA’s UBLinked page.  Please note that you must be signed in to UBLinked and “Join” as a member of GSA in order to be able to access the form on the Homepage.
URL:https://ubwp.buffalo.edu/gsa/event/deadline-for-february-conference-funding-applications-11/
CATEGORIES:Administrative
END:VEVENT
BEGIN:VEVENT
DTSTART;VALUE=DATE:20240112
DTEND;VALUE=DATE:20240113
DTSTAMP:20260422T062259
CREATED:20230629T193045Z
LAST-MODIFIED:20230629T193045Z
UID:28224-1705017600-1705103999@ubwp.buffalo.edu
SUMMARY:GSA Closed
DESCRIPTION:The GSA will be open for Summer Hours: Monday to Thursday 8:30am – 4:00pm\, closed on Friday\, January 12th.
URL:https://ubwp.buffalo.edu/gsa/event/gsa-closed-59/
CATEGORIES:Administrative
END:VEVENT
BEGIN:VEVENT
DTSTART;VALUE=DATE:20240108
DTEND;VALUE=DATE:20240112
DTSTAMP:20260422T062259
CREATED:20230629T193017Z
LAST-MODIFIED:20230629T193017Z
UID:28222-1704672000-1705017599@ubwp.buffalo.edu
SUMMARY:GSA on Summer Hours
DESCRIPTION:The GSA will be open for Summer Hours: Monday to Thursday 8:30am – 4:00pm\, closed on Friday\, January 12th.
URL:https://ubwp.buffalo.edu/gsa/event/gsa-on-summer-hours-16/
CATEGORIES:Administrative
END:VEVENT
BEGIN:VEVENT
DTSTART;VALUE=DATE:20240105
DTEND;VALUE=DATE:20240106
DTSTAMP:20260422T062259
CREATED:20230629T193533Z
LAST-MODIFIED:20230629T193533Z
UID:28237-1704412800-1704499199@ubwp.buffalo.edu
SUMMARY:GSA Closed
DESCRIPTION:he GSA will be open for Summer Hours: Tuesday to Thursday 8:30am – 4:00pm\, closed on Friday\, January 5th.
URL:https://ubwp.buffalo.edu/gsa/event/gsa-closed-62/
CATEGORIES:Administrative
END:VEVENT
END:VCALENDAR