BEGIN:VCALENDAR
VERSION:2.0
PRODID:-//Graduate Student Association - ECPv6.15.20//NONSGML v1.0//EN
CALSCALE:GREGORIAN
METHOD:PUBLISH
X-ORIGINAL-URL:https://ubwp.buffalo.edu/gsa
X-WR-CALDESC:Events for Graduate Student Association
REFRESH-INTERVAL;VALUE=DURATION:PT1H
X-Robots-Tag:noindex
X-PUBLISHED-TTL:PT1H
BEGIN:VTIMEZONE
TZID:UTC
BEGIN:STANDARD
TZOFFSETFROM:+0000
TZOFFSETTO:+0000
TZNAME:UTC
DTSTART:20230101T000000
END:STANDARD
END:VTIMEZONE
BEGIN:VEVENT
DTSTART;VALUE=DATE:20240826
DTEND;VALUE=DATE:20240827
DTSTAMP:20260421T224425
CREATED:20240618T142209Z
LAST-MODIFIED:20240618T142209Z
UID:50519-1724630400-1724716799@ubwp.buffalo.edu
SUMMARY:Fall Classes Begin
DESCRIPTION:
URL:https://ubwp.buffalo.edu/gsa/event/fall-classes-begin-10/
LOCATION:University at Buffalo\, Buffalo\, NY\, United States
CATEGORIES:Administrative
END:VEVENT
BEGIN:VEVENT
DTSTART;VALUE=DATE:20240823
DTEND;VALUE=DATE:20240824
DTSTAMP:20260421T224425
CREATED:20230629T195934Z
LAST-MODIFIED:20230629T195934Z
UID:28275-1724371200-1724457599@ubwp.buffalo.edu
SUMMARY:GSA Closed
DESCRIPTION:GSA Summer Office Hours: Monday – Thursday 8:30am – 4:00pm\, closed on Fridays.
URL:https://ubwp.buffalo.edu/gsa/event/gsa-closed-75/
CATEGORIES:Administrative
END:VEVENT
BEGIN:VEVENT
DTSTART;VALUE=DATE:20240816
DTEND;VALUE=DATE:20240817
DTSTAMP:20260421T224425
CREATED:20230629T195904Z
LAST-MODIFIED:20230629T195904Z
UID:28273-1723766400-1723852799@ubwp.buffalo.edu
SUMMARY:GSA Closed
DESCRIPTION:GSA Summer Office Hours: Monday – Thursday 8:30am – 4:00pm\, closed on Fridays.
URL:https://ubwp.buffalo.edu/gsa/event/gsa-closed-74/
CATEGORIES:Administrative
END:VEVENT
BEGIN:VEVENT
DTSTART;VALUE=DATE:20240815
DTEND;VALUE=DATE:20240816
DTSTAMP:20260421T224425
CREATED:20240618T131207Z
LAST-MODIFIED:20240618T131207Z
UID:50425-1723680000-1723766399@ubwp.buffalo.edu
SUMMARY:Deadline for September Conference Funding Applications
DESCRIPTION:All applications for Conference Funding for conferences during the month of September are due by the close of business at 4:00pm. \nThe GSA Conference Funding Application is now available as an online form on GSA’s UBLinked page.  Please note that you must be signed in to UBLinked and “Join” as a member of GSA in order to be able to access the form on the Homepage.
URL:https://ubwp.buffalo.edu/gsa/event/deadline-for-september-conference-funding-applications-11/
CATEGORIES:Administrative
END:VEVENT
BEGIN:VEVENT
DTSTART;VALUE=DATE:20240809
DTEND;VALUE=DATE:20240810
DTSTAMP:20260421T224425
CREATED:20230629T195837Z
LAST-MODIFIED:20230629T195837Z
UID:28271-1723161600-1723247999@ubwp.buffalo.edu
SUMMARY:GSA Closed
DESCRIPTION:GSA Summer Office Hours: Monday – Thursday 8:30am – 4:00pm\, closed on Fridays.
URL:https://ubwp.buffalo.edu/gsa/event/gsa-closed-73/
CATEGORIES:Administrative
END:VEVENT
BEGIN:VEVENT
DTSTART;VALUE=DATE:20240802
DTEND;VALUE=DATE:20240803
DTSTAMP:20260421T224425
CREATED:20230629T195746Z
LAST-MODIFIED:20230629T195746Z
UID:28269-1722556800-1722643199@ubwp.buffalo.edu
SUMMARY:GSA Closed
DESCRIPTION:GSA Summer Office Hours: Monday – Thursday 8:30am – 4:00pm\, closed on Fridays.
URL:https://ubwp.buffalo.edu/gsa/event/gsa-closed-72/
CATEGORIES:Administrative
END:VEVENT
BEGIN:VEVENT
DTSTART;VALUE=DATE:20240726
DTEND;VALUE=DATE:20240727
DTSTAMP:20260421T224425
CREATED:20230629T195539Z
LAST-MODIFIED:20230629T195539Z
UID:28267-1721952000-1722038399@ubwp.buffalo.edu
SUMMARY:GSA Closed
DESCRIPTION:GSA Summer Office Hours: Monday – Thursday 8:30am – 4:00pm\, closed on Fridays.
URL:https://ubwp.buffalo.edu/gsa/event/gsa-closed-71/
CATEGORIES:Administrative
END:VEVENT
BEGIN:VEVENT
DTSTART;VALUE=DATE:20240722
DTEND;VALUE=DATE:20240723
DTSTAMP:20260421T224425
CREATED:20240709T132803Z
LAST-MODIFIED:20240709T132803Z
UID:55374-1721606400-1721692799@ubwp.buffalo.edu
SUMMARY:Summer Paperwork Deadline
DESCRIPTION:All paperwork for pre-requisitioned Summer expenditures (June – July) are due by close of business at 4:00pm on this date\, or the requests will be voided.
URL:https://ubwp.buffalo.edu/gsa/event/summer-paperwork-deadline-11/
CATEGORIES:Administrative,GSA Event
END:VEVENT
BEGIN:VEVENT
DTSTART;VALUE=DATE:20240719
DTEND;VALUE=DATE:20240720
DTSTAMP:20260421T224425
CREATED:20230629T195514Z
LAST-MODIFIED:20230629T195514Z
UID:28265-1721347200-1721433599@ubwp.buffalo.edu
SUMMARY:GSA Closed
DESCRIPTION:GSA Summer Office Hours: Monday – Thursday 8:30am – 4:00pm\, closed on Fridays.
URL:https://ubwp.buffalo.edu/gsa/event/gsa-closed-70/
CATEGORIES:Administrative
END:VEVENT
BEGIN:VEVENT
DTSTART;VALUE=DATE:20240715
DTEND;VALUE=DATE:20240716
DTSTAMP:20260421T224425
CREATED:20230629T152123Z
LAST-MODIFIED:20230629T152123Z
UID:28153-1721001600-1721087999@ubwp.buffalo.edu
SUMMARY:Summer Fee Waiver Deadline
DESCRIPTION:Applications for a waiver of any applicable Summer semester student activity fees ($5 per session\, not to exceed $10) are due by close of business at 4:00pm. \nFee waivers may be granted to students who are located at least 75 miles from Buffalo\, or who suffer unusual financial hardship. Please note that being an online student only does not necessarily qualify students for a fee waiver.  Graduate students who have their fees waived will be ineligible for all GSA services.
URL:https://ubwp.buffalo.edu/gsa/event/summer-fee-waiver-deadline-11/
CATEGORIES:Administrative
END:VEVENT
BEGIN:VEVENT
DTSTART;VALUE=DATE:20240715
DTEND;VALUE=DATE:20240716
DTSTAMP:20260421T224425
CREATED:20230627T154702Z
LAST-MODIFIED:20230627T154702Z
UID:28067-1721001600-1721087999@ubwp.buffalo.edu
SUMMARY:Deadline for August Conference Funding Applications
DESCRIPTION:All applications for Conference Funding for conferences during the month of August are due by the close of business at 4:00pm. \nThe GSA Conference Funding Application is now available as an online form on GSA’s UBLinked page.  Please note that you must be signed in to UBLinked and “Join” as a member of GSA in order to be able to access the form on the Homepage.
URL:https://ubwp.buffalo.edu/gsa/event/deadline-for-august-conference-funding-applications-11/
CATEGORIES:Administrative
END:VEVENT
BEGIN:VEVENT
DTSTART;VALUE=DATE:20240712
DTEND;VALUE=DATE:20240713
DTSTAMP:20260421T224425
CREATED:20230629T195448Z
LAST-MODIFIED:20230629T195448Z
UID:28263-1720742400-1720828799@ubwp.buffalo.edu
SUMMARY:GSA Closed
DESCRIPTION:GSA Summer Office Hours: Monday – Thursday 8:30am – 4:00pm\, closed on Fridays.
URL:https://ubwp.buffalo.edu/gsa/event/gsa-closed-69/
CATEGORIES:Administrative
END:VEVENT
BEGIN:VEVENT
DTSTART;VALUE=DATE:20240705
DTEND;VALUE=DATE:20240706
DTSTAMP:20260421T224425
CREATED:20230629T195422Z
LAST-MODIFIED:20230629T195422Z
UID:28261-1720137600-1720223999@ubwp.buffalo.edu
SUMMARY:GSA Closed
DESCRIPTION:GSA Summer Office Hours: Monday – Thursday 8:30am – 4:00pm\, closed on Fridays.
URL:https://ubwp.buffalo.edu/gsa/event/gsa-closed-68/
CATEGORIES:Administrative
END:VEVENT
BEGIN:VEVENT
DTSTART;VALUE=DATE:20240704
DTEND;VALUE=DATE:20240705
DTSTAMP:20260421T224425
CREATED:20230629T200841Z
LAST-MODIFIED:20230629T200841Z
UID:28283-1720051200-1720137599@ubwp.buffalo.edu
SUMMARY:GSA Closed
DESCRIPTION:The GSA will be closed for Independence Day observance.
URL:https://ubwp.buffalo.edu/gsa/event/gsa-closed-79/
CATEGORIES:Administrative
END:VEVENT
BEGIN:VEVENT
DTSTART;VALUE=DATE:20240628
DTEND;VALUE=DATE:20240629
DTSTAMP:20260421T224425
CREATED:20230629T195352Z
LAST-MODIFIED:20230629T195352Z
UID:28259-1719532800-1719619199@ubwp.buffalo.edu
SUMMARY:GSA Closed
DESCRIPTION:GSA Summer Office Hours: Monday – Thursday 8:30am – 4:00pm\, closed on Fridays.
URL:https://ubwp.buffalo.edu/gsa/event/gsa-closed-58/
CATEGORIES:Administrative
END:VEVENT
BEGIN:VEVENT
DTSTART;VALUE=DATE:20240621
DTEND;VALUE=DATE:20240622
DTSTAMP:20260421T224425
CREATED:20230629T200015Z
LAST-MODIFIED:20230629T200015Z
UID:28277-1718928000-1719014399@ubwp.buffalo.edu
SUMMARY:GSA Closed
DESCRIPTION:GSA Summer Office Hours: Monday – Thursday 8:30am – 4:00pm\, closed on Fridays.
URL:https://ubwp.buffalo.edu/gsa/event/gsa-closed-76/
CATEGORIES:Administrative
END:VEVENT
BEGIN:VEVENT
DTSTART;VALUE=DATE:20240619
DTEND;VALUE=DATE:20240620
DTSTAMP:20260421T224425
CREATED:20230629T201142Z
LAST-MODIFIED:20230629T201142Z
UID:28285-1718755200-1718841599@ubwp.buffalo.edu
SUMMARY:GSA Closed
DESCRIPTION:The GSA will be closed for Juneteenth observance.
URL:https://ubwp.buffalo.edu/gsa/event/gsa-closed-80/
CATEGORIES:Administrative
END:VEVENT
BEGIN:VEVENT
DTSTART;VALUE=DATE:20240615
DTEND;VALUE=DATE:20240616
DTSTAMP:20260421T224425
CREATED:20230627T154615Z
LAST-MODIFIED:20230627T154615Z
UID:28065-1718409600-1718495999@ubwp.buffalo.edu
SUMMARY:Deadline for July Conference Funding Applications
DESCRIPTION:All applications for Conference Funding for conferences during the month of July are due by the close of business at 4:00pm. \nThe GSA Conference Funding Application is now available as an online form on GSA’s UBLinked page.  Please note that you must be signed in to UBLinked and “Join” as a member of GSA in order to be able to access the form on the Homepage.
URL:https://ubwp.buffalo.edu/gsa/event/deadline-for-july-conference-funding-applications-11/
CATEGORIES:Administrative
END:VEVENT
BEGIN:VEVENT
DTSTART;VALUE=DATE:20240614
DTEND;VALUE=DATE:20240615
DTSTAMP:20260421T224425
CREATED:20230629T195206Z
LAST-MODIFIED:20230629T195206Z
UID:28257-1718323200-1718409599@ubwp.buffalo.edu
SUMMARY:GSA Closed
DESCRIPTION:GSA Summer Office Hours: Monday – Thursday 8:30am – 4:00pm\, closed on Fridays.
URL:https://ubwp.buffalo.edu/gsa/event/gsa-closed-67/
CATEGORIES:Administrative
END:VEVENT
BEGIN:VEVENT
DTSTART;VALUE=DATE:20240607
DTEND;VALUE=DATE:20240608
DTSTAMP:20260421T224425
CREATED:20230629T195143Z
LAST-MODIFIED:20230629T195143Z
UID:28255-1717718400-1717804799@ubwp.buffalo.edu
SUMMARY:GSA Closed
DESCRIPTION:GSA Summer Office Hours: Monday – Thursday 8:30am – 4:00pm\, closed on Fridays.
URL:https://ubwp.buffalo.edu/gsa/event/gsa-closed-66/
CATEGORIES:Administrative
END:VEVENT
BEGIN:VEVENT
DTSTART;VALUE=DATE:20240531
DTEND;VALUE=DATE:20240601
DTSTAMP:20260421T224425
CREATED:20230629T200220Z
LAST-MODIFIED:20230629T200220Z
UID:28279-1717113600-1717199999@ubwp.buffalo.edu
SUMMARY:GSA Closed
DESCRIPTION:GSA Summer Office Hours: Monday – Thursday 8:30am – 4:00pm\, closed on Fridays.
URL:https://ubwp.buffalo.edu/gsa/event/gsa-closed-77/
CATEGORIES:Administrative
END:VEVENT
BEGIN:VEVENT
DTSTART;VALUE=DATE:20240527
DTEND;VALUE=DATE:20240528
DTSTAMP:20260421T224425
CREATED:20230629T200756Z
LAST-MODIFIED:20230629T200756Z
UID:28281-1716768000-1716854399@ubwp.buffalo.edu
SUMMARY:GSA Closed
DESCRIPTION:The GSA will be closed for Memorial Day observance.
URL:https://ubwp.buffalo.edu/gsa/event/gsa-closed-78/
CATEGORIES:Administrative
END:VEVENT
BEGIN:VEVENT
DTSTART;VALUE=DATE:20240524
DTEND;VALUE=DATE:20240525
DTSTAMP:20260421T224425
CREATED:20230629T195113Z
LAST-MODIFIED:20230629T200154Z
UID:28253-1716508800-1716595199@ubwp.buffalo.edu
SUMMARY:GSA Closed
DESCRIPTION:GSA Summer Office Hours: Monday – Thursday 8:30am – 4:00pm\, closed on Fridays.
URL:https://ubwp.buffalo.edu/gsa/event/gsa-closed-65/
CATEGORIES:Administrative
END:VEVENT
BEGIN:VEVENT
DTSTART;VALUE=DATE:20240517
DTEND;VALUE=DATE:20240518
DTSTAMP:20260421T224425
CREATED:20230629T195048Z
LAST-MODIFIED:20230629T200112Z
UID:28251-1715904000-1715990399@ubwp.buffalo.edu
SUMMARY:GSA Closed
DESCRIPTION:GSA Summer Office Hours: Monday – Thursday 8:30am – 4:00pm\, closed on Fridays.
URL:https://ubwp.buffalo.edu/gsa/event/gsa-closed-64/
CATEGORIES:Administrative
END:VEVENT
BEGIN:VEVENT
DTSTART;VALUE=DATE:20240517
DTEND;VALUE=DATE:20240520
DTSTAMP:20260421T224425
CREATED:20230629T194850Z
LAST-MODIFIED:20230629T194850Z
UID:28248-1715904000-1716163199@ubwp.buffalo.edu
SUMMARY:Commencement Weekend
DESCRIPTION:
URL:https://ubwp.buffalo.edu/gsa/event/commencement-weekend-10/
CATEGORIES:Administrative
END:VEVENT
BEGIN:VEVENT
DTSTART;VALUE=DATE:20240517
DTEND;VALUE=DATE:20240518
DTSTAMP:20260421T224425
CREATED:20230629T153613Z
LAST-MODIFIED:20240509T105424Z
UID:28161-1715904000-1715990399@ubwp.buffalo.edu
SUMMARY:MDRF Summer Application Deadline
DESCRIPTION:Deadline for MDRF grant applications for research to be conducted between July 1\, 2024 and June 30\, 2025. \nComplete grant applications must be submitted online by 3:00pm on Friday\, May 17\, 2024. \n\n\nThe last date that applicants may submit their grant to the MDRF Director (gsa-mdrf@buffalo.edu) for review prior to the deadline is Wednesday\, May 1st at 12:00pm. \n**Please note that price quote exemption requests will only be accepted until Wednesday\, May 8th at 12:00pm.**
URL:https://ubwp.buffalo.edu/gsa/event/mdrf-summer-application-deadline-9/
CATEGORIES:Administrative,MDRF
ORGANIZER;CN="MDRF Director":MAILTO:gsa-mdrf@buffalo.edu
END:VEVENT
BEGIN:VEVENT
DTSTART;VALUE=DATE:20240515
DTEND;VALUE=DATE:20240516
DTSTAMP:20260421T224425
CREATED:20230627T154535Z
LAST-MODIFIED:20230627T154535Z
UID:28063-1715731200-1715817599@ubwp.buffalo.edu
SUMMARY:Deadline for June Conference Funding Applications
DESCRIPTION:All applications for Conference Funding for conferences during the month of June are due by the close of business at 4:00pm. \nThe GSA Conference Funding Application is now available as an online form on GSA’s UBLinked page.  Please note that you must be signed in to UBLinked and “Join” as a member of GSA in order to be able to access the form on the Homepage.
URL:https://ubwp.buffalo.edu/gsa/event/deadline-for-june-conference-funding-applications-11/
CATEGORIES:Administrative
END:VEVENT
BEGIN:VEVENT
DTSTART;VALUE=DATE:20240507
DTEND;VALUE=DATE:20240508
DTSTAMP:20260421T224425
CREATED:20230629T194753Z
LAST-MODIFIED:20230629T194753Z
UID:28246-1715040000-1715126399@ubwp.buffalo.edu
SUMMARY:Last Day of Spring Classes
DESCRIPTION:
URL:https://ubwp.buffalo.edu/gsa/event/last-day-of-spring-classes-9/
CATEGORIES:Administrative
END:VEVENT
BEGIN:VEVENT
DTSTART;VALUE=DATE:20240415
DTEND;VALUE=DATE:20240416
DTSTAMP:20260421T224425
CREATED:20230627T154455Z
LAST-MODIFIED:20230627T154455Z
UID:28060-1713139200-1713225599@ubwp.buffalo.edu
SUMMARY:Deadline for May Conference Funding Applications
DESCRIPTION:All applications for Conference Funding for conferences during the month of May are due by the close of business at 4:30pm. \nThe GSA Conference Funding Application is now available as an online form on GSA’s UBLinked page.  Please note that you must be signed in to UBLinked and “Join” as a member of GSA in order to be able to access the form on the Homepage.
URL:https://ubwp.buffalo.edu/gsa/event/deadline-for-may-conference-funding-applications-11/
CATEGORIES:Administrative
END:VEVENT
BEGIN:VEVENT
DTSTART;TZID=UTC:20240403T180000
DTEND;TZID=UTC:20240403T210000
DTSTAMP:20260421T224425
CREATED:20230629T155612Z
LAST-MODIFIED:20230629T155612Z
UID:28188-1712167200-1712178000@ubwp.buffalo.edu
SUMMARY:April Board of Directors Meeting
DESCRIPTION:The April 3rd Board of Directors meeting will be held online via Zoom.  GSA Board of Directors meetings are open to the public\, but only designated representatives from Departmental and International clubs may vote. Sign-in begins at 6:00pm so that the meeting can begin promptly at 6:30pm. Once the meeting begins no one else will be admitted for attendance purposes. \nPLEASE NOTE: Every club will need to email Stephanie at slfrank@buffalo.edu no later than 12:00pm on Wednesday\, April 3rd with who will be attending the meeting on the club’s behalf so that eligible representatives can be verified in advance.  Once representatives are verified they will be sent the Zoom meeting link and password directly\, along with some instructions on how the meeting will be managed\, in order to be able to participate and vote.  Only previously verified representatives will be admitted to participate in the Zoom meeting. \nFor attendance purposes each Special Interest Club may have one representative participate directly in the Zoom meeting\, but they will not have voting privileges.  Additional special requests for guests and/or speakers to be admitted may be sent to gsa-feedback@buffalo.edu. \nThe meeting will also be live streamed via GSA’s Facebook Page for anyone else that is interested in watching the meeting without voting privileges or an official attendance record\, as meetings are open to the public.
URL:https://ubwp.buffalo.edu/gsa/event/april-board-of-directors-meeting-4/
LOCATION:Online via Zoom
CATEGORIES:Administrative,GSA Event
END:VEVENT
END:VCALENDAR