BEGIN:VCALENDAR
VERSION:2.0
PRODID:-//Graduate Student Association - ECPv6.15.20//NONSGML v1.0//EN
CALSCALE:GREGORIAN
METHOD:PUBLISH
X-WR-CALNAME:Graduate Student Association
X-ORIGINAL-URL:https://ubwp.buffalo.edu/gsa
X-WR-CALDESC:Events for Graduate Student Association
REFRESH-INTERVAL;VALUE=DURATION:PT1H
X-Robots-Tag:noindex
X-PUBLISHED-TTL:PT1H
BEGIN:VTIMEZONE
TZID:America/New_York
BEGIN:DAYLIGHT
TZOFFSETFROM:-0500
TZOFFSETTO:-0400
TZNAME:EDT
DTSTART:20160313T070000
END:DAYLIGHT
BEGIN:STANDARD
TZOFFSETFROM:-0400
TZOFFSETTO:-0500
TZNAME:EST
DTSTART:20161106T060000
END:STANDARD
BEGIN:DAYLIGHT
TZOFFSETFROM:-0500
TZOFFSETTO:-0400
TZNAME:EDT
DTSTART:20170312T070000
END:DAYLIGHT
BEGIN:STANDARD
TZOFFSETFROM:-0400
TZOFFSETTO:-0500
TZNAME:EST
DTSTART:20171105T060000
END:STANDARD
BEGIN:DAYLIGHT
TZOFFSETFROM:-0500
TZOFFSETTO:-0400
TZNAME:EDT
DTSTART:20180311T070000
END:DAYLIGHT
BEGIN:STANDARD
TZOFFSETFROM:-0400
TZOFFSETTO:-0500
TZNAME:EST
DTSTART:20181104T060000
END:STANDARD
END:VTIMEZONE
BEGIN:VEVENT
DTSTART;VALUE=DATE:20170815
DTEND;VALUE=DATE:20170816
DTSTAMP:20260424T110954
CREATED:20170629T092938Z
LAST-MODIFIED:20170629T092938Z
UID:6165-1502755200-1502841599@ubwp.buffalo.edu
SUMMARY:Deadline for September Conference Funding Applications
DESCRIPTION:All applications for Conference Funding for conferences during the month of September are due in the GSA office (310 Student Union) by the close of business.
URL:https://ubwp.buffalo.edu/gsa/event/deadline-for-september-conference-funding-applications-3/
LOCATION:GSA Office\, 310 Student Union\, University at Buffalo\, Buffalo\, NY\, 14260-2100\, United States
CATEGORIES:Administrative
ORGANIZER;CN="GSA Administrative Team":MAILTO:slfrank@buffalo.edu
END:VEVENT
END:VCALENDAR