BEGIN:VCALENDAR
VERSION:2.0
PRODID:-//Graduate Student Association - ECPv6.15.20//NONSGML v1.0//EN
CALSCALE:GREGORIAN
METHOD:PUBLISH
X-WR-CALNAME:Graduate Student Association
X-ORIGINAL-URL:https://ubwp.buffalo.edu/gsa
X-WR-CALDESC:Events for Graduate Student Association
REFRESH-INTERVAL;VALUE=DURATION:PT1H
X-Robots-Tag:noindex
X-PUBLISHED-TTL:PT1H
BEGIN:VTIMEZONE
TZID:UTC
BEGIN:STANDARD
TZOFFSETFROM:+0000
TZOFFSETTO:+0000
TZNAME:UTC
DTSTART:20150101T000000
END:STANDARD
END:VTIMEZONE
BEGIN:VEVENT
DTSTART;VALUE=DATE:20160630
DTEND;VALUE=DATE:20160701
DTSTAMP:20260425T232226
CREATED:20150723T124632Z
LAST-MODIFIED:20150723T124632Z
UID:3204-1467244800-1467331199@ubwp.buffalo.edu
SUMMARY:Spring Paperwork Deadline
DESCRIPTION:All paperwork for pre-encumbered Spring expenditures (January – May) are due by this date\, or the requests will be voided as of July 14\, 2016!
URL:https://ubwp.buffalo.edu/gsa/event/spring-paperwork-deadline-3/
LOCATION:GSA Office\, 310 Student Union\, University at Buffalo\, Buffalo\, NY\, 14260-2100\, United States
CATEGORIES:Administrative
ORGANIZER;CN="GSA Administrative Team":MAILTO:slfrank@buffalo.edu
END:VEVENT
END:VCALENDAR