BEGIN:VCALENDAR
VERSION:2.0
PRODID:-//Graduate Student Association - ECPv6.15.20//NONSGML v1.0//EN
CALSCALE:GREGORIAN
METHOD:PUBLISH
X-WR-CALNAME:Graduate Student Association
X-ORIGINAL-URL:https://ubwp.buffalo.edu/gsa
X-WR-CALDESC:Events for Graduate Student Association
REFRESH-INTERVAL;VALUE=DURATION:PT1H
X-Robots-Tag:noindex
X-PUBLISHED-TTL:PT1H
BEGIN:VTIMEZONE
TZID:UTC
BEGIN:STANDARD
TZOFFSETFROM:+0000
TZOFFSETTO:+0000
TZNAME:UTC
DTSTART:20150101T000000
END:STANDARD
END:VTIMEZONE
BEGIN:VEVENT
DTSTART;VALUE=DATE:20160323
DTEND;VALUE=DATE:20160324
DTSTAMP:20260425T104122
CREATED:20150723T101602Z
LAST-MODIFIED:20150723T101602Z
UID:3156-1458691200-1458777599@ubwp.buffalo.edu
SUMMARY:April/Summer Group Funding Applications Deadline
DESCRIPTION:Application materials are due for Special Activities\, Interdepartmental Activities\, Symposium\, and Community Outreach funding for events occurring after the April Senate meeting. All application materials due in the GSA office by the close of business. \n*PLEASE NOTE* This is the last opportunity to apply for any of these group funding opportunities until next school year. Any summer events must be submitted by this deadline.
URL:https://ubwp.buffalo.edu/gsa/event/aprilsummer-group-funding-applications-deadline-3/
LOCATION:GSA Office\, 310 Student Union\, University at Buffalo\, Buffalo\, NY\, 14260-2100\, United States
CATEGORIES:Administrative
ORGANIZER;CN="GSA Administrative Team":MAILTO:slfrank@buffalo.edu
END:VEVENT
END:VCALENDAR