BEGIN:VCALENDAR
VERSION:2.0
PRODID:-//Graduate Student Association - ECPv6.15.20//NONSGML v1.0//EN
CALSCALE:GREGORIAN
METHOD:PUBLISH
X-WR-CALNAME:Graduate Student Association
X-ORIGINAL-URL:https://ubwp.buffalo.edu/gsa
X-WR-CALDESC:Events for Graduate Student Association
REFRESH-INTERVAL;VALUE=DURATION:PT1H
X-Robots-Tag:noindex
X-PUBLISHED-TTL:PT1H
BEGIN:VTIMEZONE
TZID:UTC
BEGIN:STANDARD
TZOFFSETFROM:+0000
TZOFFSETTO:+0000
TZNAME:UTC
DTSTART:20140101T000000
END:STANDARD
END:VTIMEZONE
BEGIN:VEVENT
DTSTART;TZID=UTC:20151014T150000
DTEND;TZID=UTC:20151014T170000
DTSTAMP:20260425T114734
CREATED:20150803T135351Z
LAST-MODIFIED:20150803T135351Z
UID:3278-1444834800-1444842000@ubwp.buffalo.edu
SUMMARY:Mandatory Officer Training Meeting
DESCRIPTION:In order to ensure that all club officers understand the system of encumbrances\, reimbursements\, special funding requests\, etc.\, the GSA Executive Committee sets up a series of special meetings for GSA club officers. \nThese meetings will be relatively brief\, and will outline your duties as officers. Please be advised that your attendance at one of these meetings is MANDATORY\, for club Presidents and Treasurers. Your other club officers and club members are welcome\, but this is a meeting for you. If you fail to attend\, your club’s budget for the year will be frozen. \nEach meeting will be about an hour. Choose the meeting with the most convenient date and time from the following list: \nSept. 22 (Tuesday) 12:00 p.m. – 330 Student Union\, North Campus\nOct. 12 (Monday) 10:00 a.m. – 330 Student Union\, North Campus\nOct. 14 (Wednesday) 3:00 p.m. – Student Union Theatre\, North Campus\nOct. 15 (Thursday) 7:00 p.m. – 105 Harriman Hall\, South Campus
URL:https://ubwp.buffalo.edu/gsa/event/mandatory-officer-training-meeting-7/
LOCATION:Student Union Theater\, 201 Student Union\, University at Buffalo\, Buffalo\, NY\, 14260\, United States
CATEGORIES:Administrative,GSA Event
ORGANIZER;CN="GSA Treasurer":MAILTO:gsa-treasurer@buffalo.edu
END:VEVENT
END:VCALENDAR