BEGIN:VCALENDAR
VERSION:2.0
PRODID:-//Graduate Student Association - ECPv6.15.20//NONSGML v1.0//EN
CALSCALE:GREGORIAN
METHOD:PUBLISH
X-WR-CALNAME:Graduate Student Association
X-ORIGINAL-URL:https://ubwp.buffalo.edu/gsa
X-WR-CALDESC:Events for Graduate Student Association
REFRESH-INTERVAL;VALUE=DURATION:PT1H
X-Robots-Tag:noindex
X-PUBLISHED-TTL:PT1H
BEGIN:VTIMEZONE
TZID:UTC
BEGIN:STANDARD
TZOFFSETFROM:+0000
TZOFFSETTO:+0000
TZNAME:UTC
DTSTART:20140101T000000
END:STANDARD
END:VTIMEZONE
BEGIN:VEVENT
DTSTART;VALUE=DATE:20150831
DTEND;VALUE=DATE:20150901
DTSTAMP:20260424T191634
CREATED:20150723T122240Z
LAST-MODIFIED:20150723T122240Z
UID:3182-1440979200-1441065599@ubwp.buffalo.edu
SUMMARY:Fall Classes Begin
DESCRIPTION:
URL:https://ubwp.buffalo.edu/gsa/event/fall-classes-begin/
LOCATION:Unnamed Venue\, NY\, United States
CATEGORIES:Administrative
ORGANIZER;CN="GSA Administrative Team":MAILTO:slfrank@buffalo.edu
END:VEVENT
END:VCALENDAR