BEGIN:VCALENDAR
VERSION:2.0
PRODID:-//Graduate Student Association - ECPv6.15.20//NONSGML v1.0//EN
CALSCALE:GREGORIAN
METHOD:PUBLISH
X-WR-CALNAME:Graduate Student Association
X-ORIGINAL-URL:https://ubwp.buffalo.edu/gsa
X-WR-CALDESC:Events for Graduate Student Association
REFRESH-INTERVAL;VALUE=DURATION:PT1H
X-Robots-Tag:noindex
X-PUBLISHED-TTL:PT1H
BEGIN:VTIMEZONE
TZID:UTC
BEGIN:STANDARD
TZOFFSETFROM:+0000
TZOFFSETTO:+0000
TZNAME:UTC
DTSTART:20210101T000000
END:STANDARD
END:VTIMEZONE
BEGIN:VEVENT
DTSTART;TZID=UTC:20220202T180000
DTEND;TZID=UTC:20220202T210000
DTSTAMP:20260420T164353
CREATED:20210727T182253Z
LAST-MODIFIED:20211007T131143Z
UID:26011-1643824800-1643835600@ubwp.buffalo.edu
SUMMARY:February Board of Directors Meeting
DESCRIPTION:The February 2nd Board of Directors meeting will be held online via Zoom.  GSA Board of Directors meetings are open to the public\, but only designated representatives from Departmental and International clubs may vote. Sign-in begins at 6:00pm so that the meeting can begin promptly at 6:30pm. \nPLEASE NOTE: Every club will need to email Stephanie at slfrank@buffalo.edu no later than 12:00pm on Wednesday\, February 2nd with who will be attending the meeting on the club’s behalf so that eligible representatives can be verified in advance.  Once representatives are verified they will be sent the Zoom meeting link and password directly\, along with some instructions on how the meeting will be managed\, in order to be able to participate and vote.  Only previously verified representatives will be admitted to participate in the Zoom meeting. \nFor attendance purposes each Special Interest Club may have one representative participate directly in the Zoom meeting\, but they will not have voting privileges. \nThe meeting will also be live streamed via GSA’s Facebook Page for anyone else that is interested in attending/watching the meeting without voting privileges\, as meetings are open to the public.
URL:https://ubwp.buffalo.edu/gsa/event/february-board-of-directors-meeting-2/
LOCATION:Online via Zoom
CATEGORIES:Administrative,GSA Event
ORGANIZER;CN="GSA Administrative Team":MAILTO:slfrank@buffalo.edu
END:VEVENT
BEGIN:VEVENT
DTSTART;VALUE=DATE:20220211
DTEND;VALUE=DATE:20220212
DTSTAMP:20260420T164353
CREATED:20210727T173249Z
LAST-MODIFIED:20210727T173249Z
UID:25966-1644537600-1644623999@ubwp.buffalo.edu
SUMMARY:MDRF Spring Application Deadline
DESCRIPTION:Deadline for MDRF grant applications for research to be conducted between April 1\, 2022 and March 31\, 2023. \nComplete grant applications must be submitted online by 3:00pm on Friday\, February 11\, 2022. \nThe last date that applicants may submit their grant to the MDRF Director (gsa-mdrf@buffalo.edu) for review prior to the deadline is Wednesday\, January 26th at 4:30pm.
URL:https://ubwp.buffalo.edu/gsa/event/mdrf-spring-application-deadline-8/
CATEGORIES:Administrative,MDRF
ORGANIZER;CN="MDRF Director":MAILTO:gsa-mdrf@buffalo.edu
END:VEVENT
BEGIN:VEVENT
DTSTART;VALUE=DATE:20220215
DTEND;VALUE=DATE:20220216
DTSTAMP:20260420T164353
CREATED:20210727T172000Z
LAST-MODIFIED:20210727T172000Z
UID:25946-1644883200-1644969599@ubwp.buffalo.edu
SUMMARY:Deadline for March Conference Funding Applications
DESCRIPTION:All applications for Conference Funding for conferences during the month of March are due by the close of business at 4:30pm.
URL:https://ubwp.buffalo.edu/gsa/event/deadline-for-march-conference-funding-applications-9/
CATEGORIES:Administrative
ORGANIZER;CN="GSA Administrative Team":MAILTO:slfrank@buffalo.edu
END:VEVENT
BEGIN:VEVENT
DTSTART;VALUE=DATE:20220216
DTEND;VALUE=DATE:20220217
DTSTAMP:20260420T164353
CREATED:20210727T175002Z
LAST-MODIFIED:20210727T175002Z
UID:25987-1644969600-1645055999@ubwp.buffalo.edu
SUMMARY:March/April Group Funding Applications Deadline
DESCRIPTION:Application materials are due for Special Activities\, Interdepartmental Activities\, Symposium and Community Outreach funding for events occurring after the March Board of Directors meeting. All application materials due by the close of business at 4:30pm.
URL:https://ubwp.buffalo.edu/gsa/event/march-april-group-funding-applications-deadline-3/
CATEGORIES:Administrative
ORGANIZER;CN="GSA Administrative Team":MAILTO:slfrank@buffalo.edu
END:VEVENT
BEGIN:VEVENT
DTSTART;TZID=UTC:20220223T183000
DTEND;TZID=UTC:20220223T203000
DTSTAMP:20260420T164353
CREATED:20210727T183324Z
LAST-MODIFIED:20210727T183324Z
UID:26032-1645641000-1645648200@ubwp.buffalo.edu
SUMMARY:Finance Committee Meeting
DESCRIPTION:Finance Committee meeting to review group funding requests for events to take place in March or later.
URL:https://ubwp.buffalo.edu/gsa/event/finance-committee-meeting-61/
LOCATION:Online via Zoom
CATEGORIES:Administrative
ORGANIZER;CN="GSA Treasurer":MAILTO:gsa-treasurer@buffalo.edu
END:VEVENT
END:VCALENDAR