BEGIN:VCALENDAR
VERSION:2.0
PRODID:-//Graduate Student Association - ECPv6.15.20//NONSGML v1.0//EN
CALSCALE:GREGORIAN
METHOD:PUBLISH
X-WR-CALNAME:Graduate Student Association
X-ORIGINAL-URL:https://ubwp.buffalo.edu/gsa
X-WR-CALDESC:Events for Graduate Student Association
REFRESH-INTERVAL;VALUE=DURATION:PT1H
X-Robots-Tag:noindex
X-PUBLISHED-TTL:PT1H
BEGIN:VTIMEZONE
TZID:UTC
BEGIN:STANDARD
TZOFFSETFROM:+0000
TZOFFSETTO:+0000
TZNAME:UTC
DTSTART:20200101T000000
END:STANDARD
END:VTIMEZONE
BEGIN:VEVENT
DTSTART;VALUE=DATE:20211214
DTEND;VALUE=DATE:20220103
DTSTAMP:20260420T164352
CREATED:20210727T191951Z
LAST-MODIFIED:20210727T193421Z
UID:26056-1639440000-1641167999@ubwp.buffalo.edu
SUMMARY:GSA Closed for Winter Recess
DESCRIPTION:The GSA will be closed for Winter Recess from Tuesday\, December 14th until Monday\, January 3rd. \nThe office will be open for Summer Hours (Monday – Thursday 8:30am – 4:00pm) from January 3rd – 30th. \nRegular business hours will resume with the start of classes on January 31st.
URL:https://ubwp.buffalo.edu/gsa/event/gsa-closed-4/
CATEGORIES:Administrative
ORGANIZER;CN="GSA Administrative Team":MAILTO:slfrank@buffalo.edu
END:VEVENT
BEGIN:VEVENT
DTSTART;VALUE=DATE:20220103
DTEND;VALUE=DATE:20220107
DTSTAMP:20260420T164352
CREATED:20210727T192546Z
LAST-MODIFIED:20210727T192546Z
UID:26058-1641168000-1641513599@ubwp.buffalo.edu
SUMMARY:GSA on Summer Hours
DESCRIPTION:The GSA will be open for Summer Hours: Monday to Thursday 8:30am – 4:00pm\, closed on Friday\, January 7th.
URL:https://ubwp.buffalo.edu/gsa/event/gsa-on-summer-hours-4/
CATEGORIES:Administrative
ORGANIZER;CN="GSA Administrative Team":MAILTO:slfrank@buffalo.edu
END:VEVENT
BEGIN:VEVENT
DTSTART;VALUE=DATE:20220107
DTEND;VALUE=DATE:20220108
DTSTAMP:20260420T164352
CREATED:20210727T192634Z
LAST-MODIFIED:20210727T192634Z
UID:26060-1641513600-1641599999@ubwp.buffalo.edu
SUMMARY:GSA Closed
DESCRIPTION:The GSA will be open for Summer Hours: Monday to Thursday 8:30am – 4:00pm\, closed on Friday\, January 7th.
URL:https://ubwp.buffalo.edu/gsa/event/gsa-closed-5/
CATEGORIES:Administrative
ORGANIZER;CN="GSA Administrative Team":MAILTO:slfrank@buffalo.edu
END:VEVENT
BEGIN:VEVENT
DTSTART;VALUE=DATE:20220110
DTEND;VALUE=DATE:20220114
DTSTAMP:20260420T164352
CREATED:20210727T192804Z
LAST-MODIFIED:20210727T192804Z
UID:26062-1641772800-1642118399@ubwp.buffalo.edu
SUMMARY:GSA on Summer Hours
DESCRIPTION:The GSA will be open for Summer Hours: Monday to Thursday 8:30am – 4:00pm\, closed on Friday\, January 14th.
URL:https://ubwp.buffalo.edu/gsa/event/gsa-on-summer-hours-6/
CATEGORIES:Administrative
ORGANIZER;CN="GSA Administrative Team":MAILTO:slfrank@buffalo.edu
END:VEVENT
BEGIN:VEVENT
DTSTART;VALUE=DATE:20220114
DTEND;VALUE=DATE:20220115
DTSTAMP:20260420T164352
CREATED:20210727T192848Z
LAST-MODIFIED:20210727T192848Z
UID:26065-1642118400-1642204799@ubwp.buffalo.edu
SUMMARY:GSA Closed
DESCRIPTION:The GSA will be open for Summer Hours: Monday to Thursday 8:30am – 4:00pm\, closed on Friday\, January 14th.
URL:https://ubwp.buffalo.edu/gsa/event/gsa-closed-6/
CATEGORIES:Administrative
ORGANIZER;CN="GSA Administrative Team":MAILTO:slfrank@buffalo.edu
END:VEVENT
BEGIN:VEVENT
DTSTART;VALUE=DATE:20220115
DTEND;VALUE=DATE:20220116
DTSTAMP:20260420T164352
CREATED:20210727T171900Z
LAST-MODIFIED:20210727T171900Z
UID:25944-1642204800-1642291199@ubwp.buffalo.edu
SUMMARY:Deadline for February Conference Funding Applications
DESCRIPTION:All applications for Conference Funding for conferences during the month of February are due by the close of business at 4:00pm.
URL:https://ubwp.buffalo.edu/gsa/event/deadline-for-february-conference-funding-applications-9/
CATEGORIES:Administrative
ORGANIZER;CN="GSA Administrative Team":MAILTO:slfrank@buffalo.edu
END:VEVENT
BEGIN:VEVENT
DTSTART;VALUE=DATE:20220117
DTEND;VALUE=DATE:20220118
DTSTAMP:20260420T164352
CREATED:20210727T192940Z
LAST-MODIFIED:20210727T192940Z
UID:26067-1642377600-1642463999@ubwp.buffalo.edu
SUMMARY:GSA Closed
DESCRIPTION:The GSA will be closed for Martin Luther King Jr. Day observance.
URL:https://ubwp.buffalo.edu/gsa/event/gsa-closed-7/
CATEGORIES:Administrative
ORGANIZER;CN="GSA Administrative Team":MAILTO:slfrank@buffalo.edu
END:VEVENT
BEGIN:VEVENT
DTSTART;VALUE=DATE:20220118
DTEND;VALUE=DATE:20220121
DTSTAMP:20260420T164352
CREATED:20210727T193034Z
LAST-MODIFIED:20210727T193034Z
UID:26069-1642464000-1642723199@ubwp.buffalo.edu
SUMMARY:GSA on Summer Hours
DESCRIPTION:The GSA office will be open for Summer Hours: Tuesday to Thursday 8:30am – 4:00pm\, closed on Friday\, January 21st.
URL:https://ubwp.buffalo.edu/gsa/event/gsa-on-summer-hours-7/
CATEGORIES:Administrative
ORGANIZER;CN="GSA Administrative Team":MAILTO:slfrank@buffalo.edu
END:VEVENT
BEGIN:VEVENT
DTSTART;VALUE=DATE:20220119
DTEND;VALUE=DATE:20220120
DTSTAMP:20260420T164352
CREATED:20210727T174911Z
LAST-MODIFIED:20210727T174911Z
UID:25985-1642550400-1642636799@ubwp.buffalo.edu
SUMMARY:February Group Funding Applications Deadline
DESCRIPTION:Application materials are due for Special Activities\, Interdepartmental Activities\, Symposium and Community Outreach funding for events occurring after the February Board of Directors meeting. All application materials due by the close of business at 4:00pm.
URL:https://ubwp.buffalo.edu/gsa/event/february-group-funding-applications-deadline-9/
CATEGORIES:Administrative
ORGANIZER;CN="GSA Administrative Team":MAILTO:slfrank@buffalo.edu
END:VEVENT
BEGIN:VEVENT
DTSTART;VALUE=DATE:20220121
DTEND;VALUE=DATE:20220122
DTSTAMP:20260420T164352
CREATED:20210727T193117Z
LAST-MODIFIED:20210727T193117Z
UID:26071-1642723200-1642809599@ubwp.buffalo.edu
SUMMARY:GSA Closed
DESCRIPTION:The GSA office will be open for Summer Hours: Tuesday to Thursday 8:30am – 4:00pm\, closed on Friday\, January 21st.
URL:https://ubwp.buffalo.edu/gsa/event/gsa-closed-8/
CATEGORIES:Administrative
ORGANIZER;CN="GSA Administrative Team":MAILTO:slfrank@buffalo.edu
END:VEVENT
BEGIN:VEVENT
DTSTART;VALUE=DATE:20220124
DTEND;VALUE=DATE:20220128
DTSTAMP:20260420T164352
CREATED:20210727T193208Z
LAST-MODIFIED:20210727T193208Z
UID:26073-1642982400-1643327999@ubwp.buffalo.edu
SUMMARY:GSA on Summer Hours
DESCRIPTION:The GSA office will be open for Summer Hours: Monday to Thursday 8:30am – 4:00pm\, closed on Friday\, January 28th.
URL:https://ubwp.buffalo.edu/gsa/event/gsa-on-summer-hours-8/
CATEGORIES:Administrative
ORGANIZER;CN="GSA Administrative Team":MAILTO:slfrank@buffalo.edu
END:VEVENT
BEGIN:VEVENT
DTSTART;VALUE=DATE:20220128
DTEND;VALUE=DATE:20220129
DTSTAMP:20260420T164352
CREATED:20210727T193322Z
LAST-MODIFIED:20210727T193322Z
UID:26076-1643328000-1643414399@ubwp.buffalo.edu
SUMMARY:GSA Closed
DESCRIPTION:The GSA office will be open for Summer Hours: Monday to Thursday 8:30am – 4:00pm\, closed on Friday\, January 28th.
URL:https://ubwp.buffalo.edu/gsa/event/gsa-closed-9/
CATEGORIES:Administrative
ORGANIZER;CN="GSA Administrative Team":MAILTO:slfrank@buffalo.edu
END:VEVENT
BEGIN:VEVENT
DTSTART;VALUE=DATE:20220131
DTEND;VALUE=DATE:20220201
DTSTAMP:20260420T164352
CREATED:20210727T184535Z
LAST-MODIFIED:20210727T184535Z
UID:26039-1643587200-1643673599@ubwp.buffalo.edu
SUMMARY:Spring Classes Begin
DESCRIPTION:
URL:https://ubwp.buffalo.edu/gsa/event/spring-classes-begin-7/
CATEGORIES:Administrative
ORGANIZER;CN="GSA Administrative Team":MAILTO:slfrank@buffalo.edu
END:VEVENT
END:VCALENDAR