BEGIN:VCALENDAR
VERSION:2.0
PRODID:-//Graduate Student Association - ECPv6.15.20//NONSGML v1.0//EN
CALSCALE:GREGORIAN
METHOD:PUBLISH
X-ORIGINAL-URL:https://ubwp.buffalo.edu/gsa
X-WR-CALDESC:Events for Graduate Student Association
REFRESH-INTERVAL;VALUE=DURATION:PT1H
X-Robots-Tag:noindex
X-PUBLISHED-TTL:PT1H
BEGIN:VTIMEZONE
TZID:UTC
BEGIN:STANDARD
TZOFFSETFROM:+0000
TZOFFSETTO:+0000
TZNAME:UTC
DTSTART:20200101T000000
END:STANDARD
END:VTIMEZONE
BEGIN:VEVENT
DTSTART;TZID=UTC:20211201T180000
DTEND;TZID=UTC:20211201T210000
DTSTAMP:20260420T170243
CREATED:20210727T181647Z
LAST-MODIFIED:20211007T131058Z
UID:26009-1638381600-1638392400@ubwp.buffalo.edu
SUMMARY:December Board of Directors Meeting
DESCRIPTION:The December 1st Board of Directors meeting will be held online via Zoom starting at 6:30pm.  GSA Board of Directors meetings are open to the public\, but only designated representatives from Departmental and International clubs may vote. Sign-in begins at 6:00pm so that the meeting can begin promptly at 6:30pm. Once the meeting begins no one else will be admitted for attendance purposes. \nPLEASE NOTE: Every club will need to email Stephanie at slfrank@buffalo.edu no later than 12:00pm on Wednesday\, December 1st with who will be attending the meeting on the club’s behalf so that eligible representatives can be verified in advance.  Once representatives are verified they will be sent the Zoom meeting link and password directly\, along with some instructions on how the meeting will be managed\, in order to be able to participate and vote.  Only previously verified representatives will be admitted to participate in the Zoom meeting. \nFor attendance purposes each Special Interest Club may have one representative participate directly in the Zoom meeting\, but they will not have voting privileges. \nThe meeting will also be live streamed via GSA’s Facebook Page for anyone else that is interested in attending/watching the meeting without voting privileges\, as meetings are open to the public.
URL:https://ubwp.buffalo.edu/gsa/event/december-board-of-directors-meeting-2/
LOCATION:Online via Zoom
CATEGORIES:Administrative,GSA Event
ORGANIZER;CN="GSA Administrative Team":MAILTO:slfrank@buffalo.edu
END:VEVENT
BEGIN:VEVENT
DTSTART;VALUE=DATE:20211210
DTEND;VALUE=DATE:20211211
DTSTAMP:20260420T170243
CREATED:20210727T180140Z
LAST-MODIFIED:20210727T191225Z
UID:26000-1639094400-1639180799@ubwp.buffalo.edu
SUMMARY:Last Day of Fall Classes
DESCRIPTION:
URL:https://ubwp.buffalo.edu/gsa/event/last-day-of-fall-classes-7/
CATEGORIES:Administrative
END:VEVENT
BEGIN:VEVENT
DTSTART;VALUE=DATE:20211214
DTEND;VALUE=DATE:20220103
DTSTAMP:20260420T170243
CREATED:20210727T191951Z
LAST-MODIFIED:20210727T193421Z
UID:26056-1639440000-1641167999@ubwp.buffalo.edu
SUMMARY:GSA Closed for Winter Recess
DESCRIPTION:The GSA will be closed for Winter Recess from Tuesday\, December 14th until Monday\, January 3rd. \nThe office will be open for Summer Hours (Monday – Thursday 8:30am – 4:00pm) from January 3rd – 30th. \nRegular business hours will resume with the start of classes on January 31st.
URL:https://ubwp.buffalo.edu/gsa/event/gsa-closed-4/
CATEGORIES:Administrative
ORGANIZER;CN="GSA Administrative Team":MAILTO:slfrank@buffalo.edu
END:VEVENT
BEGIN:VEVENT
DTSTART;VALUE=DATE:20211215
DTEND;VALUE=DATE:20211216
DTSTAMP:20260420T170243
CREATED:20210727T171752Z
LAST-MODIFIED:20210727T171752Z
UID:25942-1639526400-1639612799@ubwp.buffalo.edu
SUMMARY:Deadline for January Conference Funding Applications
DESCRIPTION:All applications for Conference Funding for conferences during the month of January are due by the close of business at 4:30pm.
URL:https://ubwp.buffalo.edu/gsa/event/deadline-for-january-conference-funding-applications-9/
CATEGORIES:Administrative
ORGANIZER;CN="GSA Administrative Team":MAILTO:slfrank@buffalo.edu
END:VEVENT
END:VCALENDAR