BEGIN:VCALENDAR
VERSION:2.0
PRODID:-//Graduate Student Association - ECPv6.15.20//NONSGML v1.0//EN
CALSCALE:GREGORIAN
METHOD:PUBLISH
X-WR-CALNAME:Graduate Student Association
X-ORIGINAL-URL:https://ubwp.buffalo.edu/gsa
X-WR-CALDESC:Events for Graduate Student Association
REFRESH-INTERVAL;VALUE=DURATION:PT1H
X-Robots-Tag:noindex
X-PUBLISHED-TTL:PT1H
BEGIN:VTIMEZONE
TZID:America/New_York
BEGIN:DAYLIGHT
TZOFFSETFROM:-0500
TZOFFSETTO:-0400
TZNAME:EDT
DTSTART:20160313T070000
END:DAYLIGHT
BEGIN:STANDARD
TZOFFSETFROM:-0400
TZOFFSETTO:-0500
TZNAME:EST
DTSTART:20161106T060000
END:STANDARD
BEGIN:DAYLIGHT
TZOFFSETFROM:-0500
TZOFFSETTO:-0400
TZNAME:EDT
DTSTART:20170312T070000
END:DAYLIGHT
BEGIN:STANDARD
TZOFFSETFROM:-0400
TZOFFSETTO:-0500
TZNAME:EST
DTSTART:20171105T060000
END:STANDARD
BEGIN:DAYLIGHT
TZOFFSETFROM:-0500
TZOFFSETTO:-0400
TZNAME:EDT
DTSTART:20180311T070000
END:DAYLIGHT
BEGIN:STANDARD
TZOFFSETFROM:-0400
TZOFFSETTO:-0500
TZNAME:EST
DTSTART:20181104T060000
END:STANDARD
END:VTIMEZONE
BEGIN:VEVENT
DTSTART;VALUE=DATE:20170904
DTEND;VALUE=DATE:20170905
DTSTAMP:20260425T115404
CREATED:20170803T113736Z
LAST-MODIFIED:20170803T113736Z
UID:6391-1504483200-1504569599@ubwp.buffalo.edu
SUMMARY:Office Closed
DESCRIPTION:The GSA office will be closed for Labor Day observance.
URL:https://ubwp.buffalo.edu/gsa/event/office-closed-36/
LOCATION:Buffalo\, United States
CATEGORIES:Administrative
ORGANIZER;CN="GSA Administrative Team":MAILTO:slfrank@buffalo.edu
END:VEVENT
BEGIN:VEVENT
DTSTART;TZID=America/New_York:20170906T183000
DTEND;TZID=America/New_York:20170906T213000
DTSTAMP:20260425T115404
CREATED:20170705T125313Z
LAST-MODIFIED:20170705T125313Z
UID:6217-1504722600-1504733400@ubwp.buffalo.edu
SUMMARY:September Senate Meeting
DESCRIPTION:GSA Senate meetings are open to the public\, but only designated representatives from Departmental and International clubs may vote. Sign-in begins at 6:00pm so that the meeting can begin promptly at 6:30pm.
URL:https://ubwp.buffalo.edu/gsa/event/september-senate-meeting-4/
LOCATION:330 Student Union\, 330 Student Union\, University at Buffalo\, Buffalo\, NY\, 14260\, United States
CATEGORIES:Administrative,GSA Event
ATTACH;FMTTYPE=image/jpeg:https://ubwp.buffalo.edu/gsa/wp-content/uploads/sites/137/2014/08/Gavel-and-Scale.jpg
ORGANIZER;CN="GSA Administrative Team":MAILTO:slfrank@buffalo.edu
END:VEVENT
BEGIN:VEVENT
DTSTART;VALUE=DATE:20170915
DTEND;VALUE=DATE:20170916
DTSTAMP:20260425T115404
CREATED:20170629T093025Z
LAST-MODIFIED:20170629T093025Z
UID:6167-1505433600-1505519999@ubwp.buffalo.edu
SUMMARY:Deadline for October Conference Funding Applications
DESCRIPTION:All applications for Conference Funding for conferences during the month of October are due in the GSA office (310 Student Union) by the close of business.
URL:https://ubwp.buffalo.edu/gsa/event/deadline-for-october-conference-funding-applications-4/
LOCATION:GSA Office\, 310 Student Union\, University at Buffalo\, Buffalo\, NY\, 14260-2100\, United States
CATEGORIES:Administrative
ORGANIZER;CN="GSA Administrative Team":MAILTO:slfrank@buffalo.edu
END:VEVENT
BEGIN:VEVENT
DTSTART;VALUE=DATE:20170920
DTEND;VALUE=DATE:20170921
DTSTAMP:20260425T115404
CREATED:20170705T123914Z
LAST-MODIFIED:20170705T123914Z
UID:6205-1505865600-1505951999@ubwp.buffalo.edu
SUMMARY:October Group Funding Applications Deadline
DESCRIPTION:Application materials are due for Special Activities\, Interdepartmental Activities\, Symposium\, Community Outreach and Scholarly Publication funding for events occurring after the October Senate meeting. All application materials due in the GSA office by the close of business.
URL:https://ubwp.buffalo.edu/gsa/event/october-group-funding-applications-deadline-5/
LOCATION:GSA Office\, 310 Student Union\, University at Buffalo\, Buffalo\, NY\, 14260-2100\, United States
CATEGORIES:Administrative
ORGANIZER;CN="GSA Administrative Team":MAILTO:slfrank@buffalo.edu
END:VEVENT
BEGIN:VEVENT
DTSTART;VALUE=DATE:20170922
DTEND;VALUE=DATE:20170923
DTSTAMP:20260425T115404
CREATED:20170629T095711Z
LAST-MODIFIED:20170629T095711Z
UID:6189-1506038400-1506124799@ubwp.buffalo.edu
SUMMARY:MDRF Fall Application Deadline
DESCRIPTION:Deadline for MDRF grant applications for research to be conducted between November 1\, 2017 and October 31\, 2018. \nElectronic application materials must be submitted online to ubmdrf@gmail.com by 3:00pm on Friday\, September 22\, 2017. \nHard copy application materials with original signatures are due in the GSA office (310 Student Union) by noon on Monday\, September 25\, 2017. \n*PLEASE NOTE* Both application deadlines must be met in order for your grant to be considered for funding.  NO EXCEPTIONS!
URL:https://ubwp.buffalo.edu/gsa/event/mdrf-fall-application-deadline-6/
LOCATION:Buffalo\, United States
CATEGORIES:Administrative,MDRF
ORGANIZER;CN="MDRF Director":MAILTO:gsa-mdrf@buffalo.edu
END:VEVENT
BEGIN:VEVENT
DTSTART;VALUE=DATE:20170927
DTEND;VALUE=DATE:20170928
DTSTAMP:20260425T115404
CREATED:20170705T134404Z
LAST-MODIFIED:20170705T134404Z
UID:6250-1506470400-1506556799@ubwp.buffalo.edu
SUMMARY:Club Recognition Application Deadline
DESCRIPTION:According to the mandate of the Graduate Student Association (GSA) Senate\, Special Interest and International Clubs must apply for annual recognition. Recognition must take place at one of the FALL GSA Senate Meetings (September 6\, October 4\, November 1 or December 6). \nAll application materials are due in the GSA office before the close of business to have your club’s recognition considered at the October 4th Senate Meeting.
URL:https://ubwp.buffalo.edu/gsa/event/club-recognition-application-deadline-16/
LOCATION:Buffalo\, United States
CATEGORIES:Administrative,GSA Event
ORGANIZER;CN="GSA Administrative Team":MAILTO:slfrank@buffalo.edu
END:VEVENT
END:VCALENDAR