BEGIN:VCALENDAR
VERSION:2.0
PRODID:-//Graduate Student Association - ECPv6.15.20//NONSGML v1.0//EN
CALSCALE:GREGORIAN
METHOD:PUBLISH
X-ORIGINAL-URL:https://ubwp.buffalo.edu/gsa
X-WR-CALDESC:Events for Graduate Student Association
REFRESH-INTERVAL;VALUE=DURATION:PT1H
X-Robots-Tag:noindex
X-PUBLISHED-TTL:PT1H
BEGIN:VTIMEZONE
TZID:America/New_York
BEGIN:DAYLIGHT
TZOFFSETFROM:-0500
TZOFFSETTO:-0400
TZNAME:EDT
DTSTART:20150308T070000
END:DAYLIGHT
BEGIN:STANDARD
TZOFFSETFROM:-0400
TZOFFSETTO:-0500
TZNAME:EST
DTSTART:20151101T060000
END:STANDARD
BEGIN:DAYLIGHT
TZOFFSETFROM:-0500
TZOFFSETTO:-0400
TZNAME:EDT
DTSTART:20160313T070000
END:DAYLIGHT
BEGIN:STANDARD
TZOFFSETFROM:-0400
TZOFFSETTO:-0500
TZNAME:EST
DTSTART:20161106T060000
END:STANDARD
BEGIN:DAYLIGHT
TZOFFSETFROM:-0500
TZOFFSETTO:-0400
TZNAME:EDT
DTSTART:20170312T070000
END:DAYLIGHT
BEGIN:STANDARD
TZOFFSETFROM:-0400
TZOFFSETTO:-0500
TZNAME:EST
DTSTART:20171105T060000
END:STANDARD
END:VTIMEZONE
BEGIN:VEVENT
DTSTART;VALUE=DATE:20160712
DTEND;VALUE=DATE:20160713
DTSTAMP:20260426T034806
CREATED:20160627T120949Z
LAST-MODIFIED:20160627T120949Z
UID:4572-1468281600-1468367999@ubwp.buffalo.edu
SUMMARY:GSA South Campus Office Closed
DESCRIPTION:The GSA South Campus Office will be closed on Tuesday\, July 12th.  We apologize for any inconvenience.
URL:https://ubwp.buffalo.edu/gsa/event/gsa-south-campus-office-closed-6/
LOCATION:NY
CATEGORIES:Administrative
ORGANIZER;CN="GSA Administrative Team":MAILTO:slfrank@buffalo.edu
END:VEVENT
BEGIN:VEVENT
DTSTART;VALUE=DATE:20160718
DTEND;VALUE=DATE:20160719
DTSTAMP:20260426T034806
CREATED:20150723T102646Z
LAST-MODIFIED:20150723T102646Z
UID:3159-1468800000-1468886399@ubwp.buffalo.edu
SUMMARY:Summer Fee Waiver Deadline
DESCRIPTION:Applications for a waiver of any applicable Summer semester student activity fees are due in GSA office by close of business. \nFee waivers may be granted to students who are located more than 75 miles from Buffalo or who suffer unusual financial hardship. Graduate students who have their fees waived will be ineligible for all GSA services.
URL:https://ubwp.buffalo.edu/gsa/event/summer-fee-waiver-deadline-3/
LOCATION:GSA Office\, 310 Student Union\, University at Buffalo\, Buffalo\, NY\, 14260-2100\, United States
CATEGORIES:Administrative
ORGANIZER;CN="GSA Administrative Team":MAILTO:slfrank@buffalo.edu
END:VEVENT
END:VCALENDAR