BEGIN:VCALENDAR
VERSION:2.0
PRODID:-//Graduate Student Association - ECPv6.15.20//NONSGML v1.0//EN
CALSCALE:GREGORIAN
METHOD:PUBLISH
X-WR-CALNAME:Graduate Student Association
X-ORIGINAL-URL:https://ubwp.buffalo.edu/gsa
X-WR-CALDESC:Events for Graduate Student Association
REFRESH-INTERVAL;VALUE=DURATION:PT1H
X-Robots-Tag:noindex
X-PUBLISHED-TTL:PT1H
BEGIN:VTIMEZONE
TZID:UTC
BEGIN:STANDARD
TZOFFSETFROM:+0000
TZOFFSETTO:+0000
TZNAME:UTC
DTSTART:20250101T000000
END:STANDARD
END:VTIMEZONE
BEGIN:VEVENT
DTSTART;VALUE=DATE:20260515
DTEND;VALUE=DATE:20260518
DTSTAMP:20260425T103753
CREATED:20250730T191704Z
LAST-MODIFIED:20250730T191704Z
UID:93580-1778803200-1779062399@ubwp.buffalo.edu
SUMMARY:Commencement Weekend
DESCRIPTION:
URL:https://ubwp.buffalo.edu/gsa/event/commencement-weekend-12/
LOCATION:NY
CATEGORIES:Administrative
END:VEVENT
END:VCALENDAR