BEGIN:VCALENDAR
VERSION:2.0
PRODID:-//Graduate Student Association - ECPv6.15.20//NONSGML v1.0//EN
CALSCALE:GREGORIAN
METHOD:PUBLISH
X-WR-CALNAME:Graduate Student Association
X-ORIGINAL-URL:https://ubwp.buffalo.edu/gsa
X-WR-CALDESC:Events for Graduate Student Association
REFRESH-INTERVAL;VALUE=DURATION:PT1H
X-Robots-Tag:noindex
X-PUBLISHED-TTL:PT1H
BEGIN:VTIMEZONE
TZID:UTC
BEGIN:STANDARD
TZOFFSETFROM:+0000
TZOFFSETTO:+0000
TZNAME:UTC
DTSTART:20230101T000000
END:STANDARD
END:VTIMEZONE
BEGIN:VEVENT
DTSTART;VALUE=DATE:20240318
DTEND;VALUE=DATE:20240324
DTSTAMP:20260424T105621
CREATED:20230629T194233Z
LAST-MODIFIED:20230629T194233Z
UID:28240-1710720000-1711238399@ubwp.buffalo.edu
SUMMARY:Spring Break
DESCRIPTION:
URL:https://ubwp.buffalo.edu/gsa/event/spring-break/
LOCATION:NY
CATEGORIES:Administrative
END:VEVENT
BEGIN:VEVENT
DTSTART;VALUE=DATE:20240318
DTEND;VALUE=DATE:20240322
DTSTAMP:20260424T105621
CREATED:20230629T194404Z
LAST-MODIFIED:20230629T194404Z
UID:28242-1710720000-1711065599@ubwp.buffalo.edu
SUMMARY:GSA on Summer Hours
DESCRIPTION:Spring Break: GSA Office open Monday – Thursday 8:30am – 4:00pm\, closed on Friday\, March 22nd.
URL:https://ubwp.buffalo.edu/gsa/event/gsa-on-summer-hours-19/
LOCATION:NY
CATEGORIES:Administrative
END:VEVENT
END:VCALENDAR