BEGIN:VCALENDAR
VERSION:2.0
PRODID:-//Graduate Student Association - ECPv6.15.20//NONSGML v1.0//EN
CALSCALE:GREGORIAN
METHOD:PUBLISH
X-ORIGINAL-URL:https://ubwp.buffalo.edu/gsa
X-WR-CALDESC:Events for Graduate Student Association
REFRESH-INTERVAL;VALUE=DURATION:PT1H
X-Robots-Tag:noindex
X-PUBLISHED-TTL:PT1H
BEGIN:VTIMEZONE
TZID:UTC
BEGIN:STANDARD
TZOFFSETFROM:+0000
TZOFFSETTO:+0000
TZNAME:UTC
DTSTART:20200101T000000
END:STANDARD
END:VTIMEZONE
BEGIN:VEVENT
DTSTART;TZID=UTC:20211204T200000
DTEND;TZID=UTC:20211204T230000
DTSTAMP:20260426T032347
CREATED:20210921T164953Z
LAST-MODIFIED:20210921T164953Z
UID:26324-1638648000-1638658800@ubwp.buffalo.edu
SUMMARY:Pretty Woman
DESCRIPTION:Tickets on sale November 1st at the UB Ticket Office (online or at 221 Student Union) for $20 each. 2 per UB ID. Limited quantity available. First come\, first served. \n*PLEASE MAKE SURE TO PICK UP YOUR PHYSICAL TICKET(S) FROM THE UB TICKET OFFICE IN 221 STUDENT UNION.  THE EMAILED TICKET IS ONLY A VOUCHER AND WILL NOT BE ACCEPTED FOR ADMISSION BY THE VENDOR.
URL:https://ubwp.buffalo.edu/gsa/event/pretty-woman/
LOCATION:Shea’s Performing Arts Center\, 646 Main Street\, Buffalo\, NY\, 14202\, United States
CATEGORIES:GSA Event
ATTACH;FMTTYPE=image/jpeg:https://ubwp.buffalo.edu/gsa/wp-content/uploads/sites/137/2021/09/Pretty-Woman.jpg
ORGANIZER;CN="GSA Programming Coordinator":MAILTO:gsa-programming@buffalo.edu
END:VEVENT
END:VCALENDAR