BEGIN:VCALENDAR
VERSION:2.0
PRODID:-//Graduate Student Association - ECPv6.15.20//NONSGML v1.0//EN
CALSCALE:GREGORIAN
METHOD:PUBLISH
X-ORIGINAL-URL:https://ubwp.buffalo.edu/gsa
X-WR-CALDESC:Events for Graduate Student Association
REFRESH-INTERVAL;VALUE=DURATION:PT1H
X-Robots-Tag:noindex
X-PUBLISHED-TTL:PT1H
BEGIN:VTIMEZONE
TZID:UTC
BEGIN:STANDARD
TZOFFSETFROM:+0000
TZOFFSETTO:+0000
TZNAME:UTC
DTSTART:20200101T000000
END:STANDARD
END:VTIMEZONE
BEGIN:VEVENT
DTSTART;VALUE=DATE:20210809
DTEND;VALUE=DATE:20210810
DTSTAMP:20260424T193550
CREATED:20210518T151402Z
LAST-MODIFIED:20210811T140847Z
UID:25747-1628467200-1628553599@ubwp.buffalo.edu
SUMMARY:Free $10 Panera Gift Cards Available
DESCRIPTION:Panera Gift Card Pop UP! Pick up a free $10 Panera gift card (reserve online through the UB Ticket Office) and enjoy a meal at your convenience.  Gift card will be emailed out by the vendor directly once all gift cards have been claimed. \nLimited quantity available.  First come\, first served.  1 per UB ID.
URL:https://ubwp.buffalo.edu/gsa/event/free-10-panera-gift-cards-available-3/
LOCATION:NY
CATEGORIES:GSA Event
ATTACH;FMTTYPE=image/png:https://ubwp.buffalo.edu/gsa/wp-content/uploads/sites/137/2021/02/Panera.png
ORGANIZER;CN="GSA Programming Coordinator":MAILTO:gsa-programming@buffalo.edu
END:VEVENT
END:VCALENDAR