BEGIN:VCALENDAR
VERSION:2.0
PRODID:-//Graduate Student Association - ECPv6.15.20//NONSGML v1.0//EN
CALSCALE:GREGORIAN
METHOD:PUBLISH
X-ORIGINAL-URL:https://ubwp.buffalo.edu/gsa
X-WR-CALDESC:Events for Graduate Student Association
REFRESH-INTERVAL;VALUE=DURATION:PT1H
X-Robots-Tag:noindex
X-PUBLISHED-TTL:PT1H
BEGIN:VTIMEZONE
TZID:America/New_York
BEGIN:DAYLIGHT
TZOFFSETFROM:-0500
TZOFFSETTO:-0400
TZNAME:EDT
DTSTART:20190310T070000
END:DAYLIGHT
BEGIN:STANDARD
TZOFFSETFROM:-0400
TZOFFSETTO:-0500
TZNAME:EST
DTSTART:20191103T060000
END:STANDARD
BEGIN:DAYLIGHT
TZOFFSETFROM:-0500
TZOFFSETTO:-0400
TZNAME:EDT
DTSTART:20200308T070000
END:DAYLIGHT
BEGIN:STANDARD
TZOFFSETFROM:-0400
TZOFFSETTO:-0500
TZNAME:EST
DTSTART:20201101T060000
END:STANDARD
BEGIN:DAYLIGHT
TZOFFSETFROM:-0500
TZOFFSETTO:-0400
TZNAME:EDT
DTSTART:20210314T070000
END:DAYLIGHT
BEGIN:STANDARD
TZOFFSETFROM:-0400
TZOFFSETTO:-0500
TZNAME:EST
DTSTART:20211107T060000
END:STANDARD
END:VTIMEZONE
BEGIN:VEVENT
DTSTART;VALUE=DATE:20200306
DTEND;VALUE=DATE:20200308
DTSTAMP:20260424T105618
CREATED:20200303T091842Z
LAST-MODIFIED:20200303T091842Z
UID:10240-1583452800-1583625599@ubwp.buffalo.edu
SUMMARY:Milton Plesur Conference
DESCRIPTION:
URL:https://ubwp.buffalo.edu/gsa/event/milton-plesur-conference-3/
LOCATION:South Campus\, Buffalo\, 14214\, United States
CATEGORIES:Club Event
END:VEVENT
BEGIN:VEVENT
DTSTART;TZID=America/New_York:20200306T110000
DTEND;TZID=America/New_York:20200306T130000
DTSTAMP:20260424T105619
CREATED:20190627T151320Z
LAST-MODIFIED:20190627T151320Z
UID:9416-1583492400-1583499600@ubwp.buffalo.edu
SUMMARY:Java Junction
DESCRIPTION:Free Tim Horton’s coffee and doughnuts for graduate students in the GSA office.
URL:https://ubwp.buffalo.edu/gsa/event/java-junction-53/
LOCATION:GSA Conference Room\, 310A Student Union\, University at Buffalo\, Buffalo\, NY\, 14260\, United States
CATEGORIES:GSA Event
ATTACH;FMTTYPE=image/jpeg:https://ubwp.buffalo.edu/gsa/wp-content/uploads/sites/137/2013/08/java.jpg
ORGANIZER;CN="GSA Programming Coordinator":MAILTO:gsa-programming@buffalo.edu
END:VEVENT
BEGIN:VEVENT
DTSTART;TZID=America/New_York:20200306T130000
DTEND;TZID=America/New_York:20200306T150000
DTSTAMP:20260424T105619
CREATED:20200303T092152Z
LAST-MODIFIED:20200303T092152Z
UID:10242-1583499600-1583506800@ubwp.buffalo.edu
SUMMARY:LGBTQ+ General Body Meeting
DESCRIPTION:
URL:https://ubwp.buffalo.edu/gsa/event/lgbtq-general-body-meeting/
LOCATION:106 Talbert Hall\, Buffalo\, NY\, 14260\, United States
CATEGORIES:Club Event
END:VEVENT
BEGIN:VEVENT
DTSTART;TZID=America/New_York:20200306T183000
DTEND;TZID=America/New_York:20200306T210000
DTSTAMP:20260424T105619
CREATED:20200121T100752Z
LAST-MODIFIED:20200121T100752Z
UID:10112-1583519400-1583528400@ubwp.buffalo.edu
SUMMARY:Plant Nite with GSA
DESCRIPTION:Tickets on sale February 3rd at the UB Ticket Office (online or in 221 Student Union) for $15 each. 2 per UB ID. Tickets include admission\, food and drinks. Limited quantity available. First come\, first served.
URL:https://ubwp.buffalo.edu/gsa/event/plant-nite-with-gsa-3/
LOCATION:New York Beer Project\, 6933 S. Transit Rd.\, Lockport\, NY\, 14094\, United States
CATEGORIES:GSA Event
ATTACH;FMTTYPE=image/jpeg:https://ubwp.buffalo.edu/gsa/wp-content/uploads/sites/137/2018/03/Plant-Nite.jpg
ORGANIZER;CN="GSA Programming Coordinator":MAILTO:gsa-programming@buffalo.edu
END:VEVENT
END:VCALENDAR