BEGIN:VCALENDAR
VERSION:2.0
PRODID:-//Graduate Student Association - ECPv6.15.20//NONSGML v1.0//EN
CALSCALE:GREGORIAN
METHOD:PUBLISH
X-WR-CALNAME:Graduate Student Association
X-ORIGINAL-URL:https://ubwp.buffalo.edu/gsa
X-WR-CALDESC:Events for Graduate Student Association
REFRESH-INTERVAL;VALUE=DURATION:PT1H
X-Robots-Tag:noindex
X-PUBLISHED-TTL:PT1H
BEGIN:VTIMEZONE
TZID:America/New_York
BEGIN:DAYLIGHT
TZOFFSETFROM:-0500
TZOFFSETTO:-0400
TZNAME:EDT
DTSTART:20180311T070000
END:DAYLIGHT
BEGIN:STANDARD
TZOFFSETFROM:-0400
TZOFFSETTO:-0500
TZNAME:EST
DTSTART:20181104T060000
END:STANDARD
BEGIN:DAYLIGHT
TZOFFSETFROM:-0500
TZOFFSETTO:-0400
TZNAME:EDT
DTSTART:20190310T070000
END:DAYLIGHT
BEGIN:STANDARD
TZOFFSETFROM:-0400
TZOFFSETTO:-0500
TZNAME:EST
DTSTART:20191103T060000
END:STANDARD
BEGIN:DAYLIGHT
TZOFFSETFROM:-0500
TZOFFSETTO:-0400
TZNAME:EDT
DTSTART:20200308T070000
END:DAYLIGHT
BEGIN:STANDARD
TZOFFSETFROM:-0400
TZOFFSETTO:-0500
TZNAME:EST
DTSTART:20201101T060000
END:STANDARD
END:VTIMEZONE
BEGIN:VEVENT
DTSTART;VALUE=DATE:20190920
DTEND;VALUE=DATE:20190921
DTSTAMP:20260424T022423
CREATED:20190627T114952Z
LAST-MODIFIED:20190627T114952Z
UID:9306-1568937600-1569023999@ubwp.buffalo.edu
SUMMARY:MDRF Fall Application Deadline
DESCRIPTION:Deadline for MDRF grant applications for research to be conducted between November 1\, 2019 and October 31\, 2020. \nElectronic application materials must be submitted online to ubmdrf@gmail.com by 3:00pm on Friday\, September 20\, 2019. \nHard copy application materials with original signatures are due in the GSA office (310 Student Union) by 12:00pm (noon) on Monday\, September 23\, 2019. \n*PLEASE NOTE* Both application deadlines must be met in order for your grant to be considered for funding.  NO EXCEPTIONS! \nThe last date that applicants may submit their grant to the MDRF Director (gsa-mdrf@buffalo.edu) for review prior to the deadline is Wednesday\, September 11th at 4:30pm.
URL:https://ubwp.buffalo.edu/gsa/event/9306/
LOCATION:GSA Office\, 310 Student Union\, University at Buffalo\, Buffalo\, NY\, 14260-2100\, United States
CATEGORIES:Administrative,MDRF
ORGANIZER;CN="MDRF Director":MAILTO:gsa-mdrf@buffalo.edu
END:VEVENT
END:VCALENDAR