BEGIN:VCALENDAR
VERSION:2.0
PRODID:-//Graduate Student Association - ECPv6.15.20//NONSGML v1.0//EN
CALSCALE:GREGORIAN
METHOD:PUBLISH
X-ORIGINAL-URL:https://ubwp.buffalo.edu/gsa
X-WR-CALDESC:Events for Graduate Student Association
REFRESH-INTERVAL;VALUE=DURATION:PT1H
X-Robots-Tag:noindex
X-PUBLISHED-TTL:PT1H
BEGIN:VTIMEZONE
TZID:America/New_York
BEGIN:DAYLIGHT
TZOFFSETFROM:-0500
TZOFFSETTO:-0400
TZNAME:EDT
DTSTART:20180311T070000
END:DAYLIGHT
BEGIN:STANDARD
TZOFFSETFROM:-0400
TZOFFSETTO:-0500
TZNAME:EST
DTSTART:20181104T060000
END:STANDARD
BEGIN:DAYLIGHT
TZOFFSETFROM:-0500
TZOFFSETTO:-0400
TZNAME:EDT
DTSTART:20190310T070000
END:DAYLIGHT
BEGIN:STANDARD
TZOFFSETFROM:-0400
TZOFFSETTO:-0500
TZNAME:EST
DTSTART:20191103T060000
END:STANDARD
BEGIN:DAYLIGHT
TZOFFSETFROM:-0500
TZOFFSETTO:-0400
TZNAME:EDT
DTSTART:20200308T070000
END:DAYLIGHT
BEGIN:STANDARD
TZOFFSETFROM:-0400
TZOFFSETTO:-0500
TZNAME:EST
DTSTART:20201101T060000
END:STANDARD
END:VTIMEZONE
BEGIN:VEVENT
DTSTART;TZID=America/New_York:20190919T150000
DTEND;TZID=America/New_York:20190919T180000
DTSTAMP:20260423T075556
CREATED:20190910T120102Z
LAST-MODIFIED:20190910T120102Z
UID:9689-1568905200-1568916000@ubwp.buffalo.edu
SUMMARY:Buffalo African American History Tour
DESCRIPTION:UB students are invited to an African American History Tour on Thursday\, September 19 from 3:00-6:00pm (see attached flyer for more information). \nA stampede bus will leave Flint Loop to go to the Michigan Street African American Heritage Corridor and visit 5 sites.  The focus is primarily on the Underground Railroad and the Civil Rights era.  On the attached flyer is a link to our website where students can access an RSVP form for the event (http://www.buffalo.edu/inclusion/projects/civil-rights/michigan_street.html).  After the event\, we will be hosting a pizza reception in the Civil Rights Exhibition in Silverman Library that students can RSVP for using the form above. \n \n 
URL:https://ubwp.buffalo.edu/gsa/event/buffalo-african-american-history-tour/
LOCATION:Buffalo\, NY\, United States
CATEGORIES:University Event
END:VEVENT
END:VCALENDAR