BEGIN:VCALENDAR
VERSION:2.0
PRODID:-//Graduate Student Association - ECPv6.15.20//NONSGML v1.0//EN
CALSCALE:GREGORIAN
METHOD:PUBLISH
X-ORIGINAL-URL:https://ubwp.buffalo.edu/gsa
X-WR-CALDESC:Events for Graduate Student Association
REFRESH-INTERVAL;VALUE=DURATION:PT1H
X-Robots-Tag:noindex
X-PUBLISHED-TTL:PT1H
BEGIN:VTIMEZONE
TZID:America/New_York
BEGIN:DAYLIGHT
TZOFFSETFROM:-0500
TZOFFSETTO:-0400
TZNAME:EDT
DTSTART:20170312T070000
END:DAYLIGHT
BEGIN:STANDARD
TZOFFSETFROM:-0400
TZOFFSETTO:-0500
TZNAME:EST
DTSTART:20171105T060000
END:STANDARD
BEGIN:DAYLIGHT
TZOFFSETFROM:-0500
TZOFFSETTO:-0400
TZNAME:EDT
DTSTART:20180311T070000
END:DAYLIGHT
BEGIN:STANDARD
TZOFFSETFROM:-0400
TZOFFSETTO:-0500
TZNAME:EST
DTSTART:20181104T060000
END:STANDARD
BEGIN:DAYLIGHT
TZOFFSETFROM:-0500
TZOFFSETTO:-0400
TZNAME:EDT
DTSTART:20190310T070000
END:DAYLIGHT
BEGIN:STANDARD
TZOFFSETFROM:-0400
TZOFFSETTO:-0500
TZNAME:EST
DTSTART:20191103T060000
END:STANDARD
END:VTIMEZONE
BEGIN:VEVENT
DTSTART;TZID=America/New_York:20180801T123000
DTEND;TZID=America/New_York:20180801T150000
DTSTAMP:20260422T215214
CREATED:20180731T102232Z
LAST-MODIFIED:20180731T102232Z
UID:8115-1533126600-1533135600@ubwp.buffalo.edu
SUMMARY:Global Fun Day
DESCRIPTION:Global Fun Day \nWednesday\, August 1st 12:30-3:00 pm \nStudent Union Lobby and 145 Rooms \nLet us cross cultures\, build friendship\, and have fun! Join us for an afternoon of games and activities that celebrate friendship across borders. Sample international snacks\, play games\, win prizes\, and make new friends! Free for all students. \nhttps://calendar.buffalo.edu/event/global-fun-day-crossing-cultures-and-blending-borders/
URL:https://ubwp.buffalo.edu/gsa/event/global-fun-day/
LOCATION:145 Student Union\, Buffalo
CATEGORIES:University Event
END:VEVENT
END:VCALENDAR