BEGIN:VCALENDAR
VERSION:2.0
PRODID:-//Graduate Student Association - ECPv6.15.20//NONSGML v1.0//EN
CALSCALE:GREGORIAN
METHOD:PUBLISH
X-ORIGINAL-URL:https://ubwp.buffalo.edu/gsa
X-WR-CALDESC:Events for Graduate Student Association
REFRESH-INTERVAL;VALUE=DURATION:PT1H
X-Robots-Tag:noindex
X-PUBLISHED-TTL:PT1H
BEGIN:VTIMEZONE
TZID:America/New_York
BEGIN:DAYLIGHT
TZOFFSETFROM:-0500
TZOFFSETTO:-0400
TZNAME:EDT
DTSTART:20160313T070000
END:DAYLIGHT
BEGIN:STANDARD
TZOFFSETFROM:-0400
TZOFFSETTO:-0500
TZNAME:EST
DTSTART:20161106T060000
END:STANDARD
BEGIN:DAYLIGHT
TZOFFSETFROM:-0500
TZOFFSETTO:-0400
TZNAME:EDT
DTSTART:20170312T070000
END:DAYLIGHT
BEGIN:STANDARD
TZOFFSETFROM:-0400
TZOFFSETTO:-0500
TZNAME:EST
DTSTART:20171105T060000
END:STANDARD
BEGIN:DAYLIGHT
TZOFFSETFROM:-0500
TZOFFSETTO:-0400
TZNAME:EDT
DTSTART:20180311T070000
END:DAYLIGHT
BEGIN:STANDARD
TZOFFSETFROM:-0400
TZOFFSETTO:-0500
TZNAME:EST
DTSTART:20181104T060000
END:STANDARD
END:VTIMEZONE
BEGIN:VEVENT
DTSTART;VALUE=DATE:20170429
DTEND;VALUE=DATE:20170430
DTSTAMP:20260425T004809
CREATED:20170411T095520Z
LAST-MODIFIED:20170411T095520Z
UID:5850-1493424000-1493510399@ubwp.buffalo.edu
SUMMARY:Oozefest
DESCRIPTION:Team registration link: \nhttps://Imleagues.com/ub \nVolunteer registration link: \nhttps://buffalo.collegiatelink.new/form/start/118429
URL:https://ubwp.buffalo.edu/gsa/event/oozefest/
LOCATION:Buffalo\, United States
CATEGORIES:University Event
END:VEVENT
BEGIN:VEVENT
DTSTART;TZID=America/New_York:20170429T200000
DTEND;TZID=America/New_York:20170429T223000
DTSTAMP:20260425T004809
CREATED:20160725T115735Z
LAST-MODIFIED:20160725T115735Z
UID:4780-1493496000-1493505000@ubwp.buffalo.edu
SUMMARY:Brandon Stanton ~ Distinguished Speaker Series
DESCRIPTION:Brandon Stanton | April 29\, 2017\nFree tickets available for graduate students April 20th at the SBI Ticket Offices (221 Student Union and 350 Harriman Hall).  1 per UB ID. \n\n\nPhotographer\, Author and Creator of Humans of New York (HONY)\nUndergraduate Student Choice Speaker \n\n\n\nMore About Brandon Stanton\n\n\nAs the founder of the street portrait blog\, Humans of New York (HONY)\, Brandon Stanton is referred to as a worldwide Internet phenomenon and one of today’s most influential storytellers. HONY has amassed over 17.7 million followers on Facebook and 6.8 million followers on Instagram\, numbers which illustrate the power of the Internet\, the value of storytelling\, and our desire to remain connected with real people in a tech-driven world. \nStanton’s gift for storytelling has also resulted in two best-selling books\, “Humans of New York” (2013)\, which spent 45 weeks on the New York Times best-seller list\, and “Humans of New York: Stories\,” which shot to number one on the Time’s bestseller list within two weeks of its October 2015 release.  On stage\, he candidly shares his own personal story\, and the perspective he has gained since embarking on his journey to help others tell theirs.  He inspires his audiences with a renewed appreciation for the power of one person and one idea to inspire millions\, and motivates them to contribute something meaningful to the world. \nAfter graduating with a degree in history\, Stanton traded bonds in Chicago until he lost his job\, which led him to move to New York. In 2010\, he started Humans of New York. \n“The initial goal was to photograph 10\,000 New Yorkers on the street\, and create an exhaustive catalogue of the city’s inhabitants.  Somewhere along the way\, I began to interview my subjects in addition to photographing them. And alongside their portraits\, I’d include quotes and short stories from their lives.” \nTaken together\, these portraits and captions became the subject of a vibrant blog which now provides a worldwide audience with daily glimpses into the lives of strangers on the streets of New York City.  Over the past five years\, it has also expanded to feature stories from over twenty different countries. \n\n\nFor source or more information\, please visit:\n\n\n\n\n  Agency Listing  \n\n\n\nLecture Sponsor(s)\n\n\n\n\n  Undergraduate Student Association
URL:https://ubwp.buffalo.edu/gsa/event/james-franco-distinguished-speaker-series/
LOCATION:Alumni Arena\, Alumni Arena\, University at Buffalo\, Buffalo\, 14260
CATEGORIES:University Event
ATTACH;FMTTYPE=image/jpeg:https://ubwp.buffalo.edu/gsa/wp-content/uploads/sites/137/2017/04/Brandon-Stanton.jpg
END:VEVENT
END:VCALENDAR