BEGIN:VCALENDAR
VERSION:2.0
PRODID:-//Graduate Student Association - ECPv6.15.20//NONSGML v1.0//EN
CALSCALE:GREGORIAN
METHOD:PUBLISH
X-ORIGINAL-URL:https://ubwp.buffalo.edu/gsa
X-WR-CALDESC:Events for Graduate Student Association
REFRESH-INTERVAL;VALUE=DURATION:PT1H
X-Robots-Tag:noindex
X-PUBLISHED-TTL:PT1H
BEGIN:VTIMEZONE
TZID:America/New_York
BEGIN:DAYLIGHT
TZOFFSETFROM:-0500
TZOFFSETTO:-0400
TZNAME:EDT
DTSTART:20160313T070000
END:DAYLIGHT
BEGIN:STANDARD
TZOFFSETFROM:-0400
TZOFFSETTO:-0500
TZNAME:EST
DTSTART:20161106T060000
END:STANDARD
BEGIN:DAYLIGHT
TZOFFSETFROM:-0500
TZOFFSETTO:-0400
TZNAME:EDT
DTSTART:20170312T070000
END:DAYLIGHT
BEGIN:STANDARD
TZOFFSETFROM:-0400
TZOFFSETTO:-0500
TZNAME:EST
DTSTART:20171105T060000
END:STANDARD
BEGIN:DAYLIGHT
TZOFFSETFROM:-0500
TZOFFSETTO:-0400
TZNAME:EDT
DTSTART:20180311T070000
END:DAYLIGHT
BEGIN:STANDARD
TZOFFSETFROM:-0400
TZOFFSETTO:-0500
TZNAME:EST
DTSTART:20181104T060000
END:STANDARD
END:VTIMEZONE
BEGIN:VEVENT
DTSTART;TZID=America/New_York:20170414T093000
DTEND;TZID=America/New_York:20170414T170000
DTSTAMP:20260425T004809
CREATED:20170315T103624Z
LAST-MODIFIED:20170315T103624Z
UID:5667-1492162200-1492189200@ubwp.buffalo.edu
SUMMARY:Job and Career Perspectives for Students in the Computational Sciences
DESCRIPTION:Computational Science Club is hosting an Annual Symposium on ‘Job and Career Perspectives for Students in the Computational Sciences’\, in which we are inviting speakers from industries including Dow Chemical Co.\, Pfizer\, NASA\, Schlumberger and HGST. These speakers who did computational work during grad school will talk about their experience of finding jobs in the industry\, their transition from academia\, and their insights into computational R&D landscape. This workshop will benefit and enhance the job perspectives for students who work in the computational groups here at UB. \nPlease check our club’s website for our list of events\, and please feel free sign-up to become a club member.
URL:https://ubwp.buffalo.edu/gsa/event/job-and-career-perspectives-for-students-in-the-computational-sciences/
LOCATION:330 Student Union\, 330 Student Union\, University at Buffalo\, Buffalo\, NY\, 14260\, United States
CATEGORIES:Club Event
END:VEVENT
END:VCALENDAR