BEGIN:VCALENDAR
VERSION:2.0
PRODID:-//Graduate Student Association - ECPv6.15.20//NONSGML v1.0//EN
CALSCALE:GREGORIAN
METHOD:PUBLISH
X-WR-CALNAME:Graduate Student Association
X-ORIGINAL-URL:https://ubwp.buffalo.edu/gsa
X-WR-CALDESC:Events for Graduate Student Association
REFRESH-INTERVAL;VALUE=DURATION:PT1H
X-Robots-Tag:noindex
X-PUBLISHED-TTL:PT1H
BEGIN:VTIMEZONE
TZID:UTC
BEGIN:STANDARD
TZOFFSETFROM:+0000
TZOFFSETTO:+0000
TZNAME:UTC
DTSTART:20150101T000000
END:STANDARD
END:VTIMEZONE
BEGIN:VEVENT
DTSTART;VALUE=DATE:20160314
DTEND;VALUE=DATE:20160318
DTSTAMP:20260421T195621
CREATED:20150723T123733Z
LAST-MODIFIED:20150723T123733Z
UID:3198-1457913600-1458259199@ubwp.buffalo.edu
SUMMARY:GSA Office on Summer Hours
DESCRIPTION:Spring Recess: GSA Office open Monday – Thursday 8:30am – 4:00pm\, closed on Friday\, March 18th.
URL:https://ubwp.buffalo.edu/gsa/event/gsa-office-on-summer-hours-5/
LOCATION:Unnamed Venue\, NY\, United States
CATEGORIES:Administrative
ORGANIZER;CN="GSA Administrative Team":MAILTO:slfrank@buffalo.edu
END:VEVENT
BEGIN:VEVENT
DTSTART;VALUE=DATE:20160315
DTEND;VALUE=DATE:20160316
DTSTAMP:20260421T195621
CREATED:20150723T092239Z
LAST-MODIFIED:20150723T092239Z
UID:3140-1458000000-1458086399@ubwp.buffalo.edu
SUMMARY:Deadline for April Conference Funding Applications
DESCRIPTION:All application materials for Conference Funding for conferences during the month of April are due in the GSA office by the close of business.
URL:https://ubwp.buffalo.edu/gsa/event/deadline-for-april-conference-funding-applications-3/
LOCATION:GSA Office\, 310 Student Union\, University at Buffalo\, Buffalo\, NY\, 14260-2100\, United States
CATEGORIES:Conference Funding
ORGANIZER;CN="GSA Administrative Team":MAILTO:slfrank@buffalo.edu
END:VEVENT
END:VCALENDAR