BEGIN:VCALENDAR
VERSION:2.0
PRODID:-//Graduate Student Association - ECPv6.15.20//NONSGML v1.0//EN
CALSCALE:GREGORIAN
METHOD:PUBLISH
X-WR-CALNAME:Graduate Student Association
X-ORIGINAL-URL:https://ubwp.buffalo.edu/gsa
X-WR-CALDESC:Events for Graduate Student Association
REFRESH-INTERVAL;VALUE=DURATION:PT1H
X-Robots-Tag:noindex
X-PUBLISHED-TTL:PT1H
BEGIN:VTIMEZONE
TZID:UTC
BEGIN:STANDARD
TZOFFSETFROM:+0000
TZOFFSETTO:+0000
TZNAME:UTC
DTSTART:20140101T000000
END:STANDARD
END:VTIMEZONE
BEGIN:VTIMEZONE
TZID:America/New_York
BEGIN:DAYLIGHT
TZOFFSETFROM:-0500
TZOFFSETTO:-0400
TZNAME:EDT
DTSTART:20140309T070000
END:DAYLIGHT
BEGIN:STANDARD
TZOFFSETFROM:-0400
TZOFFSETTO:-0500
TZNAME:EST
DTSTART:20141102T060000
END:STANDARD
BEGIN:DAYLIGHT
TZOFFSETFROM:-0500
TZOFFSETTO:-0400
TZNAME:EDT
DTSTART:20150308T070000
END:DAYLIGHT
BEGIN:STANDARD
TZOFFSETFROM:-0400
TZOFFSETTO:-0500
TZNAME:EST
DTSTART:20151101T060000
END:STANDARD
BEGIN:DAYLIGHT
TZOFFSETFROM:-0500
TZOFFSETTO:-0400
TZNAME:EDT
DTSTART:20160313T070000
END:DAYLIGHT
BEGIN:STANDARD
TZOFFSETFROM:-0400
TZOFFSETTO:-0500
TZNAME:EST
DTSTART:20161106T060000
END:STANDARD
END:VTIMEZONE
BEGIN:VEVENT
DTSTART;VALUE=DATE:20151021
DTEND;VALUE=DATE:20151022
DTSTAMP:20260423T050002
CREATED:20150723T094856Z
LAST-MODIFIED:20150723T094856Z
UID:3152-1445385600-1445471999@ubwp.buffalo.edu
SUMMARY:November Group Funding Applications Deadline
DESCRIPTION:Application materials are due for Special Activities\, Interdepartmental Activities\, Symposium\, Community Outreach and Scholarly Publication funding for events occurring after the November Senate meeting. All application materials due in the GSA office by the close of business.
URL:https://ubwp.buffalo.edu/gsa/event/november-group-funding-applications-deadline-3/
LOCATION:GSA Office\, 310 Student Union\, University at Buffalo\, Buffalo\, NY\, 14260-2100\, United States
CATEGORIES:Administrative
ORGANIZER;CN="GSA Administrative Team":MAILTO:slfrank@buffalo.edu
END:VEVENT
BEGIN:VEVENT
DTSTART;TZID=America/New_York:20151021T183000
DTEND;TZID=America/New_York:20151021T213000
DTSTAMP:20260423T050002
CREATED:20150924T105725Z
LAST-MODIFIED:20150924T105725Z
UID:3523-1445452200-1445463000@ubwp.buffalo.edu
SUMMARY:Francophone Film Series ~ Bon Cop\, Bad Cop
DESCRIPTION:
URL:https://ubwp.buffalo.edu/gsa/event/francophone-film-series-bon-cop-bad-cop/
LOCATION:Clemens 930\, 930 Clemens Hall\, University at Buffalo\, Buffalo\, NY\, 14260\, United States
CATEGORIES:Club Event
ORGANIZER;CN="French Connection":MAILTO:ocle@buffalo.edu
END:VEVENT
END:VCALENDAR