BEGIN:VCALENDAR
VERSION:2.0
PRODID:-//Graduate Student Association - ECPv6.15.20//NONSGML v1.0//EN
CALSCALE:GREGORIAN
METHOD:PUBLISH
X-WR-CALNAME:Graduate Student Association
X-ORIGINAL-URL:https://ubwp.buffalo.edu/gsa
X-WR-CALDESC:Events for Graduate Student Association
REFRESH-INTERVAL;VALUE=DURATION:PT1H
X-Robots-Tag:noindex
X-PUBLISHED-TTL:PT1H
BEGIN:VTIMEZONE
TZID:UTC
BEGIN:STANDARD
TZOFFSETFROM:+0000
TZOFFSETTO:+0000
TZNAME:UTC
DTSTART:20140101T000000
END:STANDARD
END:VTIMEZONE
BEGIN:VEVENT
DTSTART;TZID=UTC:20150511T083000
DTEND;TZID=UTC:20150511T160000
DTSTAMP:20260424T144744
CREATED:20150414T132644Z
LAST-MODIFIED:20150414T132644Z
UID:2860-1431333000-1431360000@ubwp.buffalo.edu
SUMMARY:GSA Summer Office Hours Begin
DESCRIPTION:As of Monday\, May 11th the GSA Office will be operating on Summer Hours. \nSummer Hours are Monday – Thursday 8:30am – 4:00pm\, closed on Fridays.
URL:https://ubwp.buffalo.edu/gsa/event/gsa-summer-office-hours-begin/
LOCATION:Unnamed Venue\, Buffalo\, NY\, United States
CATEGORIES:Administrative
ORGANIZER;CN="GSA Administrative Team":MAILTO:slfrank@buffalo.edu
END:VEVENT
END:VCALENDAR