BEGIN:VCALENDAR
VERSION:2.0
PRODID:-//Graduate Student Association - ECPv6.15.20//NONSGML v1.0//EN
CALSCALE:GREGORIAN
METHOD:PUBLISH
X-ORIGINAL-URL:https://ubwp.buffalo.edu/gsa
X-WR-CALDESC:Events for Graduate Student Association
REFRESH-INTERVAL;VALUE=DURATION:PT1H
X-Robots-Tag:noindex
X-PUBLISHED-TTL:PT1H
BEGIN:VTIMEZONE
TZID:UTC
BEGIN:STANDARD
TZOFFSETFROM:+0000
TZOFFSETTO:+0000
TZNAME:UTC
DTSTART:20140101T000000
END:STANDARD
END:VTIMEZONE
BEGIN:VEVENT
DTSTART;TZID=UTC:20150509T090000
DTEND;TZID=UTC:20150509T120000
DTSTAMP:20260424T125819
CREATED:20150327T105641Z
LAST-MODIFIED:20150327T105641Z
UID:2756-1431162000-1431172800@ubwp.buffalo.edu
SUMMARY:Mother's Day Walkathon
DESCRIPTION:Title: Mother’s Day Walkathon\nDate: 9th May\, 2015\nTime: 9:00 AM \nVenue: Ellicott Creek Trailway Bike Path at Intersection of North Forest and Maple Road \nDetails: Come join us on the 9th of May to celebrate the very special bond between a mother and a child. Walk three miles along the North Forest bike path and help bring million smiles on the faces of underprivileged women and children. All proceeds will go to programs for women’s and children’s causes \nWebsite: https://www.facebook.com/events/1569282636643637/
URL:https://ubwp.buffalo.edu/gsa/event/mothers-day-walkathon/
LOCATION:Ellicott Creek Trailway Bike Path\, Buffalo\, NY\, United States
CATEGORIES:Club Event
END:VEVENT
END:VCALENDAR