BEGIN:VCALENDAR
VERSION:2.0
PRODID:-//Graduate Student Association - ECPv6.15.20//NONSGML v1.0//EN
CALSCALE:GREGORIAN
METHOD:PUBLISH
X-ORIGINAL-URL:https://ubwp.buffalo.edu/gsa
X-WR-CALDESC:Events for Graduate Student Association
REFRESH-INTERVAL;VALUE=DURATION:PT1H
X-Robots-Tag:noindex
X-PUBLISHED-TTL:PT1H
BEGIN:VTIMEZONE
TZID:UTC
BEGIN:STANDARD
TZOFFSETFROM:+0000
TZOFFSETTO:+0000
TZNAME:UTC
DTSTART:20140101T000000
END:STANDARD
END:VTIMEZONE
BEGIN:VEVENT
DTSTART;TZID=UTC:20150501T110000
DTEND;TZID=UTC:20150501T130000
DTSTAMP:20260422T215110
CREATED:20150417T155249Z
LAST-MODIFIED:20150417T155249Z
UID:2882-1430478000-1430485200@ubwp.buffalo.edu
SUMMARY:Java Junction
DESCRIPTION:Free coffee and doughnuts for graduate students in the GSA office!
URL:https://ubwp.buffalo.edu/gsa/event/java-junction-14/
LOCATION:GSA Conference Room\, 310A Student Union\, University at Buffalo\, Buffalo\, NY\, 14260\, United States
CATEGORIES:GSA Event
ATTACH;FMTTYPE=image/jpeg:https://ubwp.buffalo.edu/gsa/wp-content/uploads/sites/137/2013/08/java.jpg
ORGANIZER;CN="GSA Programming Coordinator":MAILTO:gsa-programming@buffalo.edu
END:VEVENT
BEGIN:VEVENT
DTSTART;TZID=UTC:20150501T150000
DTEND;TZID=UTC:20150501T170000
DTSTAMP:20260422T215110
CREATED:20150312T070902Z
LAST-MODIFIED:20150312T070902Z
UID:2702-1430492400-1430499600@ubwp.buffalo.edu
SUMMARY:Lavender Reception
DESCRIPTION:Lavender Reception\nFriday\, May 1\, 2015 from 3 – 5 pm\n145 Student Union (North Campus).\n\nThis ceremony celebrates the achievements of graduating students who identify with the lesbian\, gay\, bisexual\, transgender\, and queer (LGBTQ) community at UB. The ceremony welcomes graduating members of the LGBTQ community as well as their families\, friends\, faculty\, staff\, and supporters. The ceremony includes an opportunity to thank significant supporters and time to celebrate the achievements of each graduate.  If you are interested in attending\, please register at the link below:\n\n\nhttp://www.ub-diversity.buffalo.edu/lavender.php
URL:https://ubwp.buffalo.edu/gsa/event/lavender-reception/
LOCATION:145 Student Union\, Buffalo
CATEGORIES:University Event
END:VEVENT
END:VCALENDAR