BEGIN:VCALENDAR
VERSION:2.0
PRODID:-//Graduate Student Association - ECPv6.15.20//NONSGML v1.0//EN
CALSCALE:GREGORIAN
METHOD:PUBLISH
X-ORIGINAL-URL:https://ubwp.buffalo.edu/gsa
X-WR-CALDESC:Events for Graduate Student Association
REFRESH-INTERVAL;VALUE=DURATION:PT1H
X-Robots-Tag:noindex
X-PUBLISHED-TTL:PT1H
BEGIN:VTIMEZONE
TZID:UTC
BEGIN:STANDARD
TZOFFSETFROM:+0000
TZOFFSETTO:+0000
TZNAME:UTC
DTSTART:20140101T000000
END:STANDARD
END:VTIMEZONE
BEGIN:VEVENT
DTSTART;TZID=UTC:20150403T110000
DTEND;TZID=UTC:20150403T130000
DTSTAMP:20260422T215111
CREATED:20140807T121438Z
LAST-MODIFIED:20140807T121438Z
UID:1897-1428058800-1428066000@ubwp.buffalo.edu
SUMMARY:Java Junction
DESCRIPTION:Free coffee and doughnuts for graduate students in the GSA office!
URL:https://ubwp.buffalo.edu/gsa/event/java-junction-15/
LOCATION:GSA Office\, 310 Student Union\, University at Buffalo\, Buffalo\, NY\, 14260-2100\, United States
CATEGORIES:GSA Event
ORGANIZER;CN="GSA Programming Coordinator":MAILTO:gsa-programming@buffalo.edu
END:VEVENT
BEGIN:VEVENT
DTSTART;TZID=UTC:20150403T130000
DTEND;TZID=UTC:20150403T130000
DTSTAMP:20260422T215111
CREATED:20150402T155002Z
LAST-MODIFIED:20150402T155002Z
UID:2791-1428066000-1428066000@ubwp.buffalo.edu
SUMMARY:University Council Representative Petition Deadline
DESCRIPTION:If you are interested in running for the University Council Student Representative\, please note that petitions will be due by Friday\, April 3rd at 1:00pm in Student Life (150 Student Union). \nhttp://www.student-affairs.buffalo.edu/vote/
URL:https://ubwp.buffalo.edu/gsa/event/university-council-representative-petition-deadline/
LOCATION:150 Student Union\, Buffalo\, NY\, United States
CATEGORIES:University Event
END:VEVENT
BEGIN:VEVENT
DTSTART;TZID=UTC:20150403T190000
DTEND;TZID=UTC:20150403T223000
DTSTAMP:20260422T215111
CREATED:20150217T104736Z
LAST-MODIFIED:20150217T104736Z
UID:2575-1428087600-1428100200@ubwp.buffalo.edu
SUMMARY:Buffalo Sabres Hockey Game vs. Chicago Blackhawks
DESCRIPTION:Buffalo Sabres Hockey Game vs. Chicago Blackhawks \nTickets on sale March 2nd at the SBI Ticket Offices (221 Student Union and 350 Harriman Hall) for $20 each.  1 per UB ID. \nLimited quantity available.  First come\, first served.
URL:https://ubwp.buffalo.edu/gsa/event/buffalo-sabres-hockey-game-vs-chicago-blackhawks/
LOCATION:First Niagara Center
CATEGORIES:GSA Event
ORGANIZER;CN="GSA Programming Coordinator":MAILTO:gsa-programming@buffalo.edu
END:VEVENT
END:VCALENDAR