BEGIN:VCALENDAR
VERSION:2.0
PRODID:-//Graduate Student Association - ECPv6.15.20//NONSGML v1.0//EN
CALSCALE:GREGORIAN
METHOD:PUBLISH
X-WR-CALNAME:Graduate Student Association
X-ORIGINAL-URL:https://ubwp.buffalo.edu/gsa
X-WR-CALDESC:Events for Graduate Student Association
REFRESH-INTERVAL;VALUE=DURATION:PT1H
X-Robots-Tag:noindex
X-PUBLISHED-TTL:PT1H
BEGIN:VTIMEZONE
TZID:UTC
BEGIN:STANDARD
TZOFFSETFROM:+0000
TZOFFSETTO:+0000
TZNAME:UTC
DTSTART:20130101T000000
END:STANDARD
END:VTIMEZONE
BEGIN:VEVENT
DTSTART;TZID=UTC:20141121T151500
DTEND;TZID=UTC:20141121T170000
DTSTAMP:20260423T045954
CREATED:20141117T103604Z
LAST-MODIFIED:20141117T103604Z
UID:2411-1416582900-1416589200@ubwp.buffalo.edu
SUMMARY:Dr. Matthew Wilson Lecture ~ Geography\, Harvard and Digital Mapping
DESCRIPTION:On Friday\, Dr. Matthew Wilson is presenting about “Geography\, Harvard\, and Digital Mapping” in Fillmore 170 at 3:15pm. \nAbstract:\nThe origin stories that surround geographic information systems focus in on the 1960s\, as a period of intense advancements in computer supported cartography. In this presentation\, I examine one site of such innovation: the Harvard Laboratory for Computer Graphics (and Spatial Analysis)\, founded by Howard Fisher in 1965. By examining the growing interest and expansion of computational methods in the analysis and representation of spatial data\, I reconsider and rescale what we might mean by innovations in digital mapping. \nBio:\nMatthew W. Wilson is an assistant professor in the Department of Geography at the University of Kentucky and a visiting scholar at the Center for Geographic Analysis at Harvard University. He co-founded and co-directs the New Mappings Collaboratory which studies and facilitates new engagements with geographic representation. His research in critical GIS draws upon STS and urban political geography to understand the development and proliferation of location-based technologies\, with particular attention to the consumer electronic sector. He has previously taught at the Harvard Graduate School of Design\, and his current research project focuses on the founding of the Laboratory for Computer Graphics at Harvard in 1965\, a catalyzing moment in the advent of the digital map.
URL:https://ubwp.buffalo.edu/gsa/event/2411/
LOCATION:Fillmore 170\, Buffalo\, NY\, 14260\, United States
CATEGORIES:Club Event
END:VEVENT
END:VCALENDAR