BEGIN:VCALENDAR
VERSION:2.0
PRODID:-//Graduate Student Association - ECPv6.15.20//NONSGML v1.0//EN
CALSCALE:GREGORIAN
METHOD:PUBLISH
X-ORIGINAL-URL:https://ubwp.buffalo.edu/gsa
X-WR-CALDESC:Events for Graduate Student Association
REFRESH-INTERVAL;VALUE=DURATION:PT1H
X-Robots-Tag:noindex
X-PUBLISHED-TTL:PT1H
BEGIN:VTIMEZONE
TZID:UTC
BEGIN:STANDARD
TZOFFSETFROM:+0000
TZOFFSETTO:+0000
TZNAME:UTC
DTSTART:20130101T000000
END:STANDARD
END:VTIMEZONE
BEGIN:VEVENT
DTSTART;TZID=UTC:20141120T120000
DTEND;TZID=UTC:20141120T130000
DTSTAMP:20260423T051333
CREATED:20141106T122453Z
LAST-MODIFIED:20141106T122453Z
UID:2313-1416484800-1416488400@ubwp.buffalo.edu
SUMMARY:Pathways toward Authoring Oneself in Academia
DESCRIPTION:You are invited to this important workshop on academic writing. Please mark your calendar and join the workshop to learn effective strategies to become successful academic writers.
URL:https://ubwp.buffalo.edu/gsa/event/pathways-toward-authoring-oneself-in-academia/
LOCATION:479 Baldy Hall\, Buffalo\, NY\, 14260\, United States
CATEGORIES:Club Event
END:VEVENT
BEGIN:VEVENT
DTSTART;TZID=UTC:20141120T160000
DTEND;TZID=UTC:20141120T180000
DTSTAMP:20260423T051333
CREATED:20141013T101726Z
LAST-MODIFIED:20141013T101726Z
UID:2166-1416499200-1416506400@ubwp.buffalo.edu
SUMMARY:South Campus Siesta
DESCRIPTION:Free food and beverages for graduate students at South Campus!
URL:https://ubwp.buffalo.edu/gsa/event/south-campus-siesta-6/
LOCATION:105 Harriman Hall\, 105 Harriman Hall\, University at Buffalo\, Buffalo\, NY\, 14260\, United States
CATEGORIES:GSA Event
ATTACH;FMTTYPE=image/jpeg:https://ubwp.buffalo.edu/gsa/wp-content/uploads/sites/137/2014/09/Sandwhich-Tray.jpg
ORGANIZER;CN="GSA Programming Coordinator":MAILTO:gsa-programming@buffalo.edu
END:VEVENT
END:VCALENDAR