BEGIN:VCALENDAR
VERSION:2.0
PRODID:-//Graduate Student Association - ECPv6.15.20//NONSGML v1.0//EN
CALSCALE:GREGORIAN
METHOD:PUBLISH
X-ORIGINAL-URL:https://ubwp.buffalo.edu/gsa
X-WR-CALDESC:Events for Graduate Student Association
REFRESH-INTERVAL;VALUE=DURATION:PT1H
X-Robots-Tag:noindex
X-PUBLISHED-TTL:PT1H
BEGIN:VTIMEZONE
TZID:UTC
BEGIN:STANDARD
TZOFFSETFROM:+0000
TZOFFSETTO:+0000
TZNAME:UTC
DTSTART:20130101T000000
END:STANDARD
END:VTIMEZONE
BEGIN:VEVENT
DTSTART;VALUE=DATE:20141115
DTEND;VALUE=DATE:20141116
DTSTAMP:20260423T063027
CREATED:20140904T161449Z
LAST-MODIFIED:20140904T161449Z
UID:2010-1416009600-1416095999@ubwp.buffalo.edu
SUMMARY:HFES Inter-University Workshop
DESCRIPTION:Every year we at UB\, the University of Waterloo\, and the University of Toronto rotate in housing a one- day student human factors conference at one of our campuses called the Inter-University Workshop (IUW). While the human factors program at UB resides within Industrial and Systems Engineering\, this field is widely multidisciplinary. The cross-curricular nature of this field makes our workshop an event of interest to graduate students from many departments (e.g. psychology\, anthropology\, computer science\, occupational therapy\, exercise science\, geography\, urban planning\, information sciences\, media studies\, communicative disorders\, and the other engineering departments). The purpose of the event is to give students an opportunity to present their work in a friendly\, low-pressure forum. It’s a day where they can gain experience in speaking and presenting as well as garner feedback and constructive criticism from their peers\, keynote speakers\, and attending faculty members. While the day’s events are centered around student presentations\, we will also be featuring two keynote speakers\, a poster competition\, and a networking dinner to follow. The last time we hosted this conference in 2011\, we had an attendance of approx. 80 students and faculty from the three universities in addition to several other surrounding institutions: all are welcome. In keeping with the spirit of over a decade’s worth of past conferences\, we will not be charging registration fees and therefore in need of external funding.
URL:https://ubwp.buffalo.edu/gsa/event/hfes-inter-university-workshop/
LOCATION:101 Davis Hall\, Buffalo\, NY\, United States
CATEGORIES:Club Event
END:VEVENT
END:VCALENDAR