BEGIN:VCALENDAR
VERSION:2.0
PRODID:-//Graduate Student Association - ECPv6.15.20//NONSGML v1.0//EN
CALSCALE:GREGORIAN
METHOD:PUBLISH
X-ORIGINAL-URL:https://ubwp.buffalo.edu/gsa
X-WR-CALDESC:Events for Graduate Student Association
REFRESH-INTERVAL;VALUE=DURATION:PT1H
X-Robots-Tag:noindex
X-PUBLISHED-TTL:PT1H
BEGIN:VTIMEZONE
TZID:UTC
BEGIN:STANDARD
TZOFFSETFROM:+0000
TZOFFSETTO:+0000
TZNAME:UTC
DTSTART:20130101T000000
END:STANDARD
END:VTIMEZONE
BEGIN:VEVENT
DTSTART;TZID=UTC:20141109T100000
DTEND;TZID=UTC:20141109T160000
DTSTAMP:20260423T063027
CREATED:20141013T101442Z
LAST-MODIFIED:20141013T101442Z
UID:2163-1415527200-1415548800@ubwp.buffalo.edu
SUMMARY:GSA Wine Tour and Luncheon
DESCRIPTION:Transportation\, wine tastings at three Lockport area wineries (Spring Lake Winery\, Flight of Five Winery\, and Vizcarra Vineyards)\, and lunch included (buffet style at Vizcarra Vineyards). Tickets on sale October 13th at the SBI Ticket Offices (221 Student Union and 350 Harriman Hall) for $25 each. 2 per UB ID. \n*We will be meeting in the Alumni Arena Parking Lot at 10:00am\, and the bus will be leaving at 10:30am SHARP! Please note that the return time is approximate and may vary. NO REFUNDS FOR LATE ARRIVALS!*
URL:https://ubwp.buffalo.edu/gsa/event/gsa-wine-tour-and-luncheon/
LOCATION:Unnamed Venue\, Buffalo\, NY\, United States
CATEGORIES:GSA Event
ORGANIZER;CN="GSA Programming Coordinator":MAILTO:gsa-programming@buffalo.edu
END:VEVENT
END:VCALENDAR