BEGIN:VCALENDAR
VERSION:2.0
PRODID:-//Graduate Student Association - ECPv6.15.20//NONSGML v1.0//EN
CALSCALE:GREGORIAN
METHOD:PUBLISH
X-ORIGINAL-URL:https://ubwp.buffalo.edu/gsa
X-WR-CALDESC:Events for Graduate Student Association
REFRESH-INTERVAL;VALUE=DURATION:PT1H
X-Robots-Tag:noindex
X-PUBLISHED-TTL:PT1H
BEGIN:VTIMEZONE
TZID:UTC
BEGIN:STANDARD
TZOFFSETFROM:+0000
TZOFFSETTO:+0000
TZNAME:UTC
DTSTART:20130101T000000
END:STANDARD
END:VTIMEZONE
BEGIN:VEVENT
DTSTART;TZID=UTC:20141107T110000
DTEND;TZID=UTC:20141107T130000
DTSTAMP:20260423T051332
CREATED:20140807T120037Z
LAST-MODIFIED:20140807T120037Z
UID:1891-1415358000-1415365200@ubwp.buffalo.edu
SUMMARY:Java Junction
DESCRIPTION:Free coffee and doughnuts for graduate students in the GSA office!
URL:https://ubwp.buffalo.edu/gsa/event/java-junction-10/
LOCATION:GSA Office\, 310 Student Union\, University at Buffalo\, Buffalo\, NY\, 14260-2100\, United States
CATEGORIES:GSA Event
ATTACH;FMTTYPE=image/jpeg:https://ubwp.buffalo.edu/gsa/wp-content/uploads/sites/137/2013/08/java.jpg
ORGANIZER;CN="GSA Programming Coordinator":MAILTO:gsa-programming@buffalo.edu
END:VEVENT
END:VCALENDAR