BEGIN:VCALENDAR
VERSION:2.0
PRODID:-//Graduate Student Association - ECPv6.15.20//NONSGML v1.0//EN
CALSCALE:GREGORIAN
METHOD:PUBLISH
X-ORIGINAL-URL:https://ubwp.buffalo.edu/gsa
X-WR-CALDESC:Events for Graduate Student Association
REFRESH-INTERVAL;VALUE=DURATION:PT1H
X-Robots-Tag:noindex
X-PUBLISHED-TTL:PT1H
BEGIN:VTIMEZONE
TZID:UTC
BEGIN:STANDARD
TZOFFSETFROM:+0000
TZOFFSETTO:+0000
TZNAME:UTC
DTSTART:20130101T000000
END:STANDARD
END:VTIMEZONE
BEGIN:VEVENT
DTSTART;TZID=UTC:20141103T170000
DTEND;TZID=UTC:20141103T180000
DTSTAMP:20260423T063023
CREATED:20140926T154128Z
LAST-MODIFIED:20140926T154128Z
UID:2094-1415034000-1415037600@ubwp.buffalo.edu
SUMMARY:UB-SoFem Meeting
DESCRIPTION:
URL:https://ubwp.buffalo.edu/gsa/event/ub-sofem-meeting-2/
LOCATION:104 Clemens Hall\, Buffalo
CATEGORIES:Club Event
ORGANIZER;CN="UBSoFem":MAILTO:tanjanii@buffalo.edu
END:VEVENT
BEGIN:VEVENT
DTSTART;TZID=UTC:20141103T180000
DTEND;TZID=UTC:20141103T190000
DTSTAMP:20260423T063023
CREATED:20141020T145418Z
LAST-MODIFIED:20141020T145418Z
UID:2195-1415037600-1415041200@ubwp.buffalo.edu
SUMMARY:Feminist Discussion on Indigenous Matters
DESCRIPTION:
URL:https://ubwp.buffalo.edu/gsa/event/feminist-discussion-indigenous-matters/
LOCATION:104 Clemens Hall\, Buffalo
CATEGORIES:Club Event
ORGANIZER;CN="UBSoFem":MAILTO:tanjanii@buffalo.edu
END:VEVENT
END:VCALENDAR