BEGIN:VCALENDAR
VERSION:2.0
PRODID:-//Graduate Student Association - ECPv6.15.20//NONSGML v1.0//EN
CALSCALE:GREGORIAN
METHOD:PUBLISH
X-WR-CALNAME:Graduate Student Association
X-ORIGINAL-URL:https://ubwp.buffalo.edu/gsa
X-WR-CALDESC:Events for Graduate Student Association
REFRESH-INTERVAL;VALUE=DURATION:PT1H
X-Robots-Tag:noindex
X-PUBLISHED-TTL:PT1H
BEGIN:VTIMEZONE
TZID:UTC
BEGIN:STANDARD
TZOFFSETFROM:+0000
TZOFFSETTO:+0000
TZNAME:UTC
DTSTART:20130101T000000
END:STANDARD
END:VTIMEZONE
BEGIN:VEVENT
DTSTART;TZID=UTC:20140512T080000
DTEND;TZID=UTC:20140512T170000
DTSTAMP:20260422T171859
CREATED:20140505T161802Z
LAST-MODIFIED:20140505T161802Z
UID:1625-1399881600-1399914000@ubwp.buffalo.edu
SUMMARY:GSA Summer Office Hours Begin
DESCRIPTION:As of Monday\, May 12th the GSA Office will be operating on Summer Hours. \nSummer Hours are Monday – Thursday 8:30am – 4:00pm\, closed on Fridays.
URL:https://ubwp.buffalo.edu/gsa/event/summer-hours-begin/
LOCATION:Unnamed Venue\, Buffalo\, NY\, United States
CATEGORIES:Administrative
ORGANIZER;CN="GSA Administrative Team":MAILTO:slfrank@buffalo.edu
END:VEVENT
BEGIN:VEVENT
DTSTART;TZID=UTC:20140512T170000
DTEND;TZID=UTC:20140512T180000
DTSTAMP:20260422T171859
CREATED:20140506T113938Z
LAST-MODIFIED:20140506T113938Z
UID:1651-1399914000-1399917600@ubwp.buffalo.edu
SUMMARY:UB-SoFem Ice Cream Conversation ~ Title IX
DESCRIPTION:
URL:https://ubwp.buffalo.edu/gsa/event/ub-sofem-ice-cream-conversation-title-ix/
LOCATION:220 Student Union\, Buffalo\, NY\, United States
CATEGORIES:Club Event
ORGANIZER;CN="UBSoFem":MAILTO:tanjanii@buffalo.edu
END:VEVENT
END:VCALENDAR