BEGIN:VCALENDAR
VERSION:2.0
PRODID:-//Graduate Student Association - ECPv6.15.20//NONSGML v1.0//EN
CALSCALE:GREGORIAN
METHOD:PUBLISH
X-WR-CALNAME:Graduate Student Association
X-ORIGINAL-URL:https://ubwp.buffalo.edu/gsa
X-WR-CALDESC:Events for Graduate Student Association
REFRESH-INTERVAL;VALUE=DURATION:PT1H
X-Robots-Tag:noindex
X-PUBLISHED-TTL:PT1H
BEGIN:VTIMEZONE
TZID:UTC
BEGIN:STANDARD
TZOFFSETFROM:+0000
TZOFFSETTO:+0000
TZNAME:UTC
DTSTART:20130101T000000
END:STANDARD
END:VTIMEZONE
BEGIN:VEVENT
DTSTART;TZID=UTC:20140330T193000
DTEND;TZID=UTC:20140330T213000
DTSTAMP:20260423T062815
CREATED:20130925T001608Z
LAST-MODIFIED:20130925T001608Z
UID:567-1396207800-1396215000@ubwp.buffalo.edu
SUMMARY:Alexander String Quartet ~ Beethoven Cycle Concert VI
DESCRIPTION:Tickets on sale March 3rd at the SBI Ticket Office (221 Student Union) for $3 each. 2 per UB ID.\nZakarias Grafilo & Frederick Lifsitz\, violin; Paul Yarbrough\, viola; Sandy Wilson\, cello Beethoven: \nQuartet in C minor\, Op. 18\, No. 4\nQuartet in F Major\, Op. 135\n—-\nQuartet in E minor\, Op. 59\, No. 2
URL:https://ubwp.buffalo.edu/gsa/event/alexander-string-quartet-beethoven-cycle-concert-vi/
LOCATION:Slee Hall\, Slee Hall\, University at Buffalo\, Buffalo\, NY\, 14260\, United States
CATEGORIES:GSA Event
ORGANIZER;CN="GSA Programming Coordinator":MAILTO:gsa-programming@buffalo.edu
END:VEVENT
END:VCALENDAR