BEGIN:VCALENDAR
VERSION:2.0
PRODID:-//Graduate Student Association - ECPv6.15.20//NONSGML v1.0//EN
CALSCALE:GREGORIAN
METHOD:PUBLISH
X-ORIGINAL-URL:https://ubwp.buffalo.edu/gsa
X-WR-CALDESC:Events for Graduate Student Association
REFRESH-INTERVAL;VALUE=DURATION:PT1H
X-Robots-Tag:noindex
X-PUBLISHED-TTL:PT1H
BEGIN:VTIMEZONE
TZID:UTC
BEGIN:STANDARD
TZOFFSETFROM:+0000
TZOFFSETTO:+0000
TZNAME:UTC
DTSTART:20130101T000000
END:STANDARD
END:VTIMEZONE
BEGIN:VEVENT
DTSTART;TZID=UTC:20140328T100000
DTEND;TZID=UTC:20140328T113000
DTSTAMP:20260423T063024
CREATED:20140325T101858Z
LAST-MODIFIED:20140325T101858Z
UID:1422-1396000800-1396006200@ubwp.buffalo.edu
SUMMARY:MAE Speaker ~ Dr. Jeffery Umland\, NASA Jet Propulsion Laboratory
DESCRIPTION:
URL:https://ubwp.buffalo.edu/gsa/event/mae-speaker-dr-jeffery-umland-nasa-jet-propulsion-laboratory/
LOCATION:Student Union Theater\, 201 Student Union\, University at Buffalo\, Buffalo\, NY\, 14260\, United States
CATEGORIES:Club Event
END:VEVENT
BEGIN:VEVENT
DTSTART;TZID=UTC:20140328T170000
DTEND;TZID=UTC:20140328T190000
DTSTAMP:20260423T063024
CREATED:20140325T104523Z
LAST-MODIFIED:20140325T104523Z
UID:1432-1396026000-1396033200@ubwp.buffalo.edu
SUMMARY:Informal Information Session with GSA Candidates
DESCRIPTION:An Informal Information Session will be held on Friday\, March 28th at 5pm in 311 Student Union for students to meet and talk with the candidates.  The official Candidate Debate will take place during the April 2nd Senate Meeting at 7pm in 330 Student Union.
URL:https://ubwp.buffalo.edu/gsa/event/informal-information-session-with-gsa-candidates/
LOCATION:311 Student Union\, Buffalo\, NY\, United States
CATEGORIES:GSA Event
ORGANIZER;CN="GSA Administrative Team":MAILTO:slfrank@buffalo.edu
END:VEVENT
BEGIN:VEVENT
DTSTART;TZID=UTC:20140328T170000
DTEND;TZID=UTC:20140329T170000
DTSTAMP:20260423T063024
CREATED:20131112T143503Z
LAST-MODIFIED:20131112T143503Z
UID:888-1396026000-1396112400@ubwp.buffalo.edu
SUMMARY:Anthropology's Convergence Symposium
DESCRIPTION:The Anthropology GSA Convergence Interdisciplinary Symposium is an annual symposium hosted by the Anthropology GSA. The goal of this symposium is to provide a setting for the presentation\, discussion\, and dissemination of work related to a central theme by graduate students from different disciplines. This year’s theme is “The Four Horsemen of the Apocalypse” and it is designed to reflect the intersection of Pestilence\, War\, Famine\, and Death in human life and history\, as well as their singular effects on human cultures\, histories\, and in the techniques that societies have dealt with these problems. Anthropological work and that of other disciplines in recent years have often focused on these issues and how they interact\, follow each other\, and how people might influence and be influenced by the resulting trajectories. These processes have been debated in new ways that are far removed from simplistic prime-mover theories. Convergence 2014 will be much larger than in recent years\, with 24 speakers from more varied disciplines throughout the 4 sessions and will encourage much wider attendance. This symposium also encourages involvement and attendance from around the SUNY Buffalo and western NY academic area.         \nSymposium Program                                                                         
URL:https://ubwp.buffalo.edu/gsa/event/anthropologys-convergence-symposium/
LOCATION:Fillmore 170\, Buffalo\, NY\, 14260\, United States
CATEGORIES:Club Event
END:VEVENT
BEGIN:VEVENT
DTSTART;TZID=UTC:20140328T193000
DTEND;TZID=UTC:20140328T213000
DTSTAMP:20260423T063024
CREATED:20130925T000627Z
LAST-MODIFIED:20130925T000627Z
UID:565-1396035000-1396042200@ubwp.buffalo.edu
SUMMARY:Alexander String Quartet ~ Beethoven Cycle Concert IV
DESCRIPTION:Tickets on sale March 3rd at the SBI Ticket Office (221 Student Union) for $3 each. 2 per UB ID.\nZakarias Grafilo & Frederick Lifsitz\, violin; Paul Yarbrough\, viola; Sandy Wilson\, cello \nBeethoven: Quartet in F minor\, Op. 95 (“Serioso”)\nQuartet in B-flat Major\, Op. 18\, No. 6\n—-\nQuartet in A minor\, Op. 132
URL:https://ubwp.buffalo.edu/gsa/event/alexander-string-quartet-beethoven-cycle-concert-iv/
LOCATION:Slee Hall\, Slee Hall\, University at Buffalo\, Buffalo\, NY\, 14260\, United States
CATEGORIES:GSA Event
ORGANIZER;CN="GSA Programming Coordinator":MAILTO:gsa-programming@buffalo.edu
END:VEVENT
END:VCALENDAR